BEGIN:VCALENDAR
VERSION:2.0
PRODID:-//the press. - ECPv6.15.20//NONSGML v1.0//EN
CALSCALE:GREGORIAN
METHOD:PUBLISH
X-WR-CALNAME:the press.
X-ORIGINAL-URL:https://thepresssteamboat.com
X-WR-CALDESC:Events for the press.
REFRESH-INTERVAL;VALUE=DURATION:PT1H
X-Robots-Tag:noindex
X-PUBLISHED-TTL:PT1H
BEGIN:VTIMEZONE
TZID:America/Denver
BEGIN:DAYLIGHT
TZOFFSETFROM:-0700
TZOFFSETTO:-0600
TZNAME:MDT
DTSTART:20240310T090000
END:DAYLIGHT
BEGIN:STANDARD
TZOFFSETFROM:-0600
TZOFFSETTO:-0700
TZNAME:MST
DTSTART:20241103T080000
END:STANDARD
BEGIN:DAYLIGHT
TZOFFSETFROM:-0700
TZOFFSETTO:-0600
TZNAME:MDT
DTSTART:20250309T090000
END:DAYLIGHT
BEGIN:STANDARD
TZOFFSETFROM:-0600
TZOFFSETTO:-0700
TZNAME:MST
DTSTART:20251102T080000
END:STANDARD
BEGIN:DAYLIGHT
TZOFFSETFROM:-0700
TZOFFSETTO:-0600
TZNAME:MDT
DTSTART:20260308T090000
END:DAYLIGHT
BEGIN:STANDARD
TZOFFSETFROM:-0600
TZOFFSETTO:-0700
TZNAME:MST
DTSTART:20261101T080000
END:STANDARD
END:VTIMEZONE
BEGIN:VEVENT
DTSTART;TZID=America/Denver:20251211T180000
DTEND;TZID=America/Denver:20251211T180000
DTSTAMP:20260421T125244
CREATED:20251204T191717Z
LAST-MODIFIED:20251204T195147Z
UID:10002247-1765476000-1765476000@thepresssteamboat.com
SUMMARY:Throwback Thursday Dance Party: First on the Floor
DESCRIPTION:Throwback Thursday Dance Party is back at The Press. This time we’ll be hittin’ the dancefloor early with ’90s dancefloor faves. \nRemember when This Is How We Do It hit and the whole room lost it? When Everybody (Backstreet’s Back)\, Wannabe\, No Scrubs\, and Baby Got Back were non-negotiable parts of every good night out? That’s the vibe. One night of wall-to-wall ’90s: TLC\, Backstreet Boys\, Spice Girls\, Montell Jordan\, Britney\, NSYNC\, Sir Mix-a-Lot\, and more sing-at-the-top-of-your-lungs bangers. \nIt’s early on purpose. We hit play at 6pm\, shut it down at 8pm. Dance\, laugh\, shout every word like it’s 1999… and still be home before 9. \nNo cover. \nAll are welcome. Grab your friends\, dust off your best ’90s moves\, and let’s have the dance party we didn’t realize we’ve been missing.
URL:https://thepresssteamboat.com/musician/throwback-thursday-dance-party-4/
LOCATION:The Press Steamboat\, 1009 Lincoln Ave\, Steamboat Springs\, CO\, 80487\, United States
CATEGORIES:live music
ATTACH;FMTTYPE=image/jpeg:https://thepresssteamboat.com/wp-content/uploads/2025/12/first-on-the-floor.jpg
END:VEVENT
BEGIN:VEVENT
DTSTART;TZID=America/Denver:20251113T180000
DTEND;TZID=America/Denver:20251113T180000
DTSTAMP:20260421T125244
CREATED:20251111T041724Z
LAST-MODIFIED:20251111T041724Z
UID:10002225-1763056800-1763056800@thepresssteamboat.com
SUMMARY:Throwback Thursday Dance Party
DESCRIPTION:It’s time for the next Throwback Thursday Dance Party @ The Press. This time\, we’ll be dancing to the best of ’70s DISCO!\n\nWe’re bringing that glittery\, groove-filled era back\, and making it early because we all have stuff to do the next morning. 6-8pm. Dance\, laugh\, strike a pose\, and still be home by 9.\n\nWe’ll be spinning the soundtrack that made dancefloor disco legendary: Bee Gees\, Donna Summer\, Chic\, Earth Wind & Fire\, Gloria Gaynor\, KC and the Sunshine Band… all the songs that make you want to boogie.\n\nAll are welcome. Bring your friends\, bring your sequins\, and let’s have the dance party we didn’t know we needed.\n\nNo cover.
URL:https://thepresssteamboat.com/musician/throwback-thursday-dance-party-3/
LOCATION:The Press Steamboat\, 1009 Lincoln Ave\, Steamboat Springs\, CO\, 80487\, United States
CATEGORIES:live music
ATTACH;FMTTYPE=image/png:https://thepresssteamboat.com/wp-content/uploads/2025/11/Throwback-Thursday-Disco-e1764875818795.png
END:VEVENT
BEGIN:VEVENT
DTSTART;TZID=America/Denver:20251009T180000
DTEND;TZID=America/Denver:20251009T180000
DTSTAMP:20260421T125244
CREATED:20251002T150822Z
LAST-MODIFIED:20251002T150822Z
UID:10002182-1760032800-1760032800@thepresssteamboat.com
SUMMARY:Throwback Thursday Dance Party
DESCRIPTION:The last Throwback Thursday Dance Party was a blast\, so we’re bringing it back! This time… we’re spinning my favorite late ’80s–early ’90s soundtrack.\n\nThink Janet and Whitney. Madonna and Prince. Salt-N-Pepa\, MC Hammer\, Bell Biv DeVoe\, C+C Music Factory\, Technotronic\, TLC\, Paula Abdul\, Boyz II Men… the sing-along\, jump-around\, “I still know every word” era.\n\nIt’s early on purpose. Dance\, laugh\, sing along\, and still be home by 9. No cover.\n\nAll are welcome. Bring your friends\, bring your moves\, and let’s have the dance party we didn’t know we needed.
URL:https://thepresssteamboat.com/musician/throwback-thursday-dance-party-2/
LOCATION:The Press Steamboat\, 1009 Lincoln Ave\, Steamboat Springs\, CO\, 80487\, United States
CATEGORIES:live music
ATTACH;FMTTYPE=image/jpeg:https://thepresssteamboat.com/wp-content/uploads/2025/10/Throwback-Dance-Party.jpg
END:VEVENT
END:VCALENDAR