BEGIN:VCALENDAR
VERSION:2.0
PRODID:-//the press. - ECPv6.15.20//NONSGML v1.0//EN
CALSCALE:GREGORIAN
METHOD:PUBLISH
X-ORIGINAL-URL:https://thepresssteamboat.com
X-WR-CALDESC:Events for the press.
REFRESH-INTERVAL;VALUE=DURATION:PT1H
X-Robots-Tag:noindex
X-PUBLISHED-TTL:PT1H
BEGIN:VTIMEZONE
TZID:America/Denver
BEGIN:DAYLIGHT
TZOFFSETFROM:-0700
TZOFFSETTO:-0600
TZNAME:MDT
DTSTART:20250309T090000
END:DAYLIGHT
BEGIN:STANDARD
TZOFFSETFROM:-0600
TZOFFSETTO:-0700
TZNAME:MST
DTSTART:20251102T080000
END:STANDARD
BEGIN:DAYLIGHT
TZOFFSETFROM:-0700
TZOFFSETTO:-0600
TZNAME:MDT
DTSTART:20260308T090000
END:DAYLIGHT
BEGIN:STANDARD
TZOFFSETFROM:-0600
TZOFFSETTO:-0700
TZNAME:MST
DTSTART:20261101T080000
END:STANDARD
BEGIN:DAYLIGHT
TZOFFSETFROM:-0700
TZOFFSETTO:-0600
TZNAME:MDT
DTSTART:20270314T090000
END:DAYLIGHT
BEGIN:STANDARD
TZOFFSETFROM:-0600
TZOFFSETTO:-0700
TZNAME:MST
DTSTART:20271107T080000
END:STANDARD
END:VTIMEZONE
BEGIN:VEVENT
DTSTART;TZID=America/Denver:20260105T200000
DTEND;TZID=America/Denver:20260105T200000
DTSTAMP:20260421T182557
CREATED:20251208T045537Z
LAST-MODIFIED:20251208T045537Z
UID:10002301-1767643200-1767643200@thepresssteamboat.com
SUMMARY:Midnight River Choir
DESCRIPTION:Midnight River Choir is coming BACK to the press! Don’t miss their performance with us before they hit the stage at Music Fest 2026! \nThe formation of Midnight River Choir was nothing short of a force of nature that now translates seamlessly during their live shows. This band needs no labels or comparisons. Their music speaks volumes about who and what they are. Their lives have been woven together by a strong thread of energy both on and off stage. That energy is raw and natural and soaked up from the earth through their bare feet. They believe that what you get is what you give and they give everything they have to their crowds. When that kind of energy lands back at the feet of the boys\, it is something of supreme intensity… and no one ever forgets it. \n \n 
URL:https://thepresssteamboat.com/musician/midnight-river-choir-2/
LOCATION:The Press Steamboat\, 1009 Lincoln Ave\, Steamboat Springs\, CO\, 80487\, United States
CATEGORIES:live music
ATTACH;FMTTYPE=image/jpeg:https://thepresssteamboat.com/wp-content/uploads/2022/12/MRC-Promo-Pic-4-scaled.jpeg
END:VEVENT
END:VCALENDAR