BEGIN:VCALENDAR
VERSION:2.0
PRODID:-//the press. - ECPv6.15.20//NONSGML v1.0//EN
CALSCALE:GREGORIAN
METHOD:PUBLISH
X-ORIGINAL-URL:https://thepresssteamboat.com
X-WR-CALDESC:Events for the press.
REFRESH-INTERVAL;VALUE=DURATION:PT1H
X-Robots-Tag:noindex
X-PUBLISHED-TTL:PT1H
BEGIN:VTIMEZONE
TZID:America/Denver
BEGIN:DAYLIGHT
TZOFFSETFROM:-0700
TZOFFSETTO:-0600
TZNAME:MDT
DTSTART:20220313T090000
END:DAYLIGHT
BEGIN:STANDARD
TZOFFSETFROM:-0600
TZOFFSETTO:-0700
TZNAME:MST
DTSTART:20221106T080000
END:STANDARD
BEGIN:DAYLIGHT
TZOFFSETFROM:-0700
TZOFFSETTO:-0600
TZNAME:MDT
DTSTART:20230312T090000
END:DAYLIGHT
BEGIN:STANDARD
TZOFFSETFROM:-0600
TZOFFSETTO:-0700
TZNAME:MST
DTSTART:20231105T080000
END:STANDARD
BEGIN:DAYLIGHT
TZOFFSETFROM:-0700
TZOFFSETTO:-0600
TZNAME:MDT
DTSTART:20240310T090000
END:DAYLIGHT
BEGIN:STANDARD
TZOFFSETFROM:-0600
TZOFFSETTO:-0700
TZNAME:MST
DTSTART:20241103T080000
END:STANDARD
END:VTIMEZONE
BEGIN:VEVENT
DTSTART;TZID=America/Denver:20230503T173000
DTEND;TZID=America/Denver:20230503T173000
DTSTAMP:20260422T003247
CREATED:20230426T201847Z
LAST-MODIFIED:20230426T201915Z
UID:10000745-1683135000-1683135000@thepresssteamboat.com
SUMMARY:Louisiana Lindsy with Kristin Esper
DESCRIPTION:Come indulge yourself with Louisiana Lindsy’s special weekly Cajun cuisine at the press!! This week will feature music by local Americana artist\, Kristin Esper! \nFood 5:30 | Music 6:30 \nEntry ticket: $5
URL:https://thepresssteamboat.com/musician/louisiana-lindsy-with-kristin-esper/
LOCATION:The Press Steamboat\, 1009 Lincoln Ave\, Steamboat Springs\, CO\, 80487\, United States
CATEGORIES:Food,live music
ATTACH;FMTTYPE=image/png:https://thepresssteamboat.com/wp-content/uploads/2023/04/LouisianaLindsy-2.png
END:VEVENT
END:VCALENDAR