BEGIN:VCALENDAR
VERSION:2.0
PRODID:-//the press. - ECPv6.15.20//NONSGML v1.0//EN
CALSCALE:GREGORIAN
METHOD:PUBLISH
X-ORIGINAL-URL:https://thepresssteamboat.com
X-WR-CALDESC:Events for the press.
REFRESH-INTERVAL;VALUE=DURATION:PT1H
X-Robots-Tag:noindex
X-PUBLISHED-TTL:PT1H
BEGIN:VTIMEZONE
TZID:America/Denver
BEGIN:DAYLIGHT
TZOFFSETFROM:-0700
TZOFFSETTO:-0600
TZNAME:MDT
DTSTART:20240310T090000
END:DAYLIGHT
BEGIN:STANDARD
TZOFFSETFROM:-0600
TZOFFSETTO:-0700
TZNAME:MST
DTSTART:20241103T080000
END:STANDARD
BEGIN:DAYLIGHT
TZOFFSETFROM:-0700
TZOFFSETTO:-0600
TZNAME:MDT
DTSTART:20250309T090000
END:DAYLIGHT
BEGIN:STANDARD
TZOFFSETFROM:-0600
TZOFFSETTO:-0700
TZNAME:MST
DTSTART:20251102T080000
END:STANDARD
BEGIN:DAYLIGHT
TZOFFSETFROM:-0700
TZOFFSETTO:-0600
TZNAME:MDT
DTSTART:20260308T090000
END:DAYLIGHT
BEGIN:STANDARD
TZOFFSETFROM:-0600
TZOFFSETTO:-0700
TZNAME:MST
DTSTART:20261101T080000
END:STANDARD
END:VTIMEZONE
BEGIN:VEVENT
DTSTART;TZID=America/Denver:20251030T180000
DTEND;TZID=America/Denver:20251030T180000
DTSTAMP:20260421T105850
CREATED:20251002T151930Z
LAST-MODIFIED:20251027T220909Z
UID:10002188-1761847200-1761847200@thepresssteamboat.com
SUMMARY:Witches Night Out
DESCRIPTION:Double\, double\, toil and trouble! Join us for Witches’ Night Out at The Press on October 30th! Witches only from 6-8 PM\, and then the Warlocks are welcome after 8! Live music by Worried Men will keep the spirits high all night. Tickets are $10 – don’t miss this magical evening!
URL:https://thepresssteamboat.com/musician/witches-night-out-2/
LOCATION:The Press Steamboat\, 1009 Lincoln Ave\, Steamboat Springs\, CO\, 80487\, United States
CATEGORIES:live music
ATTACH;FMTTYPE=image/jpeg:https://thepresssteamboat.com/wp-content/uploads/2025/10/Witches-Night-Out-103025-1-scaled-e1771626883906.jpg
END:VEVENT
BEGIN:VEVENT
DTSTART;TZID=America/Denver:20251029T200000
DTEND;TZID=America/Denver:20251029T200000
DTSTAMP:20260421T105850
CREATED:20251027T215237Z
LAST-MODIFIED:20251027T220745Z
UID:10002216-1761768000-1761768000@thepresssteamboat.com
SUMMARY:Pumpkin Jazz Night with Cat Pack
DESCRIPTION:Traditional jazz from the Cat Pack at the press! Listen to some Frank Sinatra\, “Autumn Leaves\,” and more classics from the local Steamboat talent! Featuring Neil Marchman on guitar\, Ron Wheeler on drums\, Jonathan Grenier on piano\, Mike Lewis on saxophone\, Tim Schuett on saxophone\, and Tim Cunningham on bass! \n \n 
URL:https://thepresssteamboat.com/musician/pumpkin-jazz-night-with-cat-pack/
LOCATION:The Press Steamboat\, 1009 Lincoln Ave\, Steamboat Springs\, CO\, 80487\, United States
CATEGORIES:live music
ATTACH;FMTTYPE=image/jpeg:https://thepresssteamboat.com/wp-content/uploads/2025/10/Cat-Pack-102925-1-scaled.jpg
END:VEVENT
END:VCALENDAR