BEGIN:VCALENDAR
VERSION:2.0
PRODID:-//the press. - ECPv6.15.20//NONSGML v1.0//EN
CALSCALE:GREGORIAN
METHOD:PUBLISH
X-WR-CALNAME:the press.
X-ORIGINAL-URL:https://thepresssteamboat.com
X-WR-CALDESC:Events for the press.
REFRESH-INTERVAL;VALUE=DURATION:PT1H
X-Robots-Tag:noindex
X-PUBLISHED-TTL:PT1H
BEGIN:VTIMEZONE
TZID:America/Denver
BEGIN:DAYLIGHT
TZOFFSETFROM:-0700
TZOFFSETTO:-0600
TZNAME:MDT
DTSTART:20240310T090000
END:DAYLIGHT
BEGIN:STANDARD
TZOFFSETFROM:-0600
TZOFFSETTO:-0700
TZNAME:MST
DTSTART:20241103T080000
END:STANDARD
BEGIN:DAYLIGHT
TZOFFSETFROM:-0700
TZOFFSETTO:-0600
TZNAME:MDT
DTSTART:20250309T090000
END:DAYLIGHT
BEGIN:STANDARD
TZOFFSETFROM:-0600
TZOFFSETTO:-0700
TZNAME:MST
DTSTART:20251102T080000
END:STANDARD
BEGIN:DAYLIGHT
TZOFFSETFROM:-0700
TZOFFSETTO:-0600
TZNAME:MDT
DTSTART:20260308T090000
END:DAYLIGHT
BEGIN:STANDARD
TZOFFSETFROM:-0600
TZOFFSETTO:-0700
TZNAME:MST
DTSTART:20261101T080000
END:STANDARD
END:VTIMEZONE
BEGIN:VEVENT
DTSTART;TZID=America/Denver:20250911T180000
DTEND;TZID=America/Denver:20250911T180000
DTSTAMP:20260424T164638
CREATED:20250909T000505Z
LAST-MODIFIED:20250909T000505Z
UID:10002178-1757613600-1757613600@thepresssteamboat.com
SUMMARY:Throwback Thursday Dance Party
DESCRIPTION:Throwback Thursday Dance Party\nRemember when Hot in Herre ruled the radio and Usher’s Yeah! was everywhere? When Britney dropped Toxic and the Black Eyed Peas had everyone shouting Let’s Get It Started? We’re bringing back dance floor favorites from the late ‘90s/early ‘00s to The Press for 1 night. Lights low. The soundtrack to your best times on the dance floor: Nelly\, Beyoncé\, Flo Rida\, OutKast\, Missy Elliott\, Rihanna\, JT\, Destiny’s Child… all the hits you know by heart. It’s early on purpose. Dance\, laugh\, sing along\, and still be home by 9. All are welcome. Bring your friends\, bring your moves\, and let’s have the dance party we didn’t know we needed. \nNo cover!
URL:https://thepresssteamboat.com/musician/throwback-thursday-dance-party/
LOCATION:The Press Steamboat\, 1009 Lincoln Ave\, Steamboat Springs\, CO\, 80487\, United States
CATEGORIES:Trivia
ATTACH;FMTTYPE=image/jpeg:https://thepresssteamboat.com/wp-content/uploads/2025/09/image0-2.jpeg
END:VEVENT
END:VCALENDAR