BEGIN:VCALENDAR
VERSION:2.0
PRODID:-//the press. - ECPv6.15.20//NONSGML v1.0//EN
CALSCALE:GREGORIAN
METHOD:PUBLISH
X-ORIGINAL-URL:https://thepresssteamboat.com
X-WR-CALDESC:Events for the press.
REFRESH-INTERVAL;VALUE=DURATION:PT1H
X-Robots-Tag:noindex
X-PUBLISHED-TTL:PT1H
BEGIN:VTIMEZONE
TZID:America/Denver
BEGIN:DAYLIGHT
TZOFFSETFROM:-0700
TZOFFSETTO:-0600
TZNAME:MDT
DTSTART:20240310T090000
END:DAYLIGHT
BEGIN:STANDARD
TZOFFSETFROM:-0600
TZOFFSETTO:-0700
TZNAME:MST
DTSTART:20241103T080000
END:STANDARD
BEGIN:DAYLIGHT
TZOFFSETFROM:-0700
TZOFFSETTO:-0600
TZNAME:MDT
DTSTART:20250309T090000
END:DAYLIGHT
BEGIN:STANDARD
TZOFFSETFROM:-0600
TZOFFSETTO:-0700
TZNAME:MST
DTSTART:20251102T080000
END:STANDARD
BEGIN:DAYLIGHT
TZOFFSETFROM:-0700
TZOFFSETTO:-0600
TZNAME:MDT
DTSTART:20260308T090000
END:DAYLIGHT
BEGIN:STANDARD
TZOFFSETFROM:-0600
TZOFFSETTO:-0700
TZNAME:MST
DTSTART:20261101T080000
END:STANDARD
END:VTIMEZONE
BEGIN:VEVENT
DTSTART;TZID=America/Denver:20250814T200000
DTEND;TZID=America/Denver:20250814T200000
DTSTAMP:20260424T052136
CREATED:20250530T181229Z
LAST-MODIFIED:20250530T181229Z
UID:10002134-1755201600-1755201600@thepresssteamboat.com
SUMMARY:Hayley Berg
DESCRIPTION:Hayley Berg is a singer and guitarist based in Steamboat Springs\, Colorado. She is a core member of the local Americana and folk band Apple Pie Order\, and it’s sub-group: Apple Pie and a Guy\, featuring Hayley on vocals and guitar\, Xandria Gregory on bass and vocals\, and Kyle Kounovsky on percussion. Hayley’s musical style blends elements of acoustic pop\, country\, and indie\, delivering heartfelt performances that resonate with audiences.
URL:https://thepresssteamboat.com/musician/hayley-berg-4/
LOCATION:The Press Steamboat\, 1009 Lincoln Ave\, Steamboat Springs\, CO\, 80487\, United States
CATEGORIES:live music
ATTACH;FMTTYPE=image/jpeg:https://thepresssteamboat.com/wp-content/uploads/2023/10/photo0-e1698021313662.jpg
END:VEVENT
BEGIN:VEVENT
DTSTART;TZID=America/Denver:20250827T200000
DTEND;TZID=America/Denver:20250827T200000
DTSTAMP:20260424T052136
CREATED:20250824T224720Z
LAST-MODIFIED:20250824T224720Z
UID:10002154-1756324800-1756324800@thepresssteamboat.com
SUMMARY:Pickin' Pear
DESCRIPTION:Tia Martini and Leon Elam create an original modern sound on two traditional instruments. Together the Pickin’ Pear take the banjo and ukulele down the road of folk\, rock\, and bluegrass.  Sometimes the ukulele will launch you straight into outer space! A blend of top-notch songwriting and improvisational jamming makes each performance exciting and new. The Pickin’ Pear are happy to bring their organic and all-natural blend of folk ‘n’ roll to stages across the U.S. \nPickin’ Pear has played over 500 shows in 37 different states across the country since 2015.Albums Recorded Together:Something New EP (2022)Feels Like Home (2019)In The Woods (2016)
URL:https://thepresssteamboat.com/musician/pickin-pear/
LOCATION:The Press Steamboat\, 1009 Lincoln Ave\, Steamboat Springs\, CO\, 80487\, United States
CATEGORIES:live music
ATTACH;FMTTYPE=image/jpeg:https://thepresssteamboat.com/wp-content/uploads/2023/09/PickinPear-e1694110572130.jpeg
END:VEVENT
END:VCALENDAR