BEGIN:VCALENDAR
VERSION:2.0
PRODID:-//the press. - ECPv6.15.20//NONSGML v1.0//EN
CALSCALE:GREGORIAN
METHOD:PUBLISH
X-ORIGINAL-URL:https://thepresssteamboat.com
X-WR-CALDESC:Events for the press.
REFRESH-INTERVAL;VALUE=DURATION:PT1H
X-Robots-Tag:noindex
X-PUBLISHED-TTL:PT1H
BEGIN:VTIMEZONE
TZID:America/Denver
BEGIN:DAYLIGHT
TZOFFSETFROM:-0700
TZOFFSETTO:-0600
TZNAME:MDT
DTSTART:20240310T090000
END:DAYLIGHT
BEGIN:STANDARD
TZOFFSETFROM:-0600
TZOFFSETTO:-0700
TZNAME:MST
DTSTART:20241103T080000
END:STANDARD
BEGIN:DAYLIGHT
TZOFFSETFROM:-0700
TZOFFSETTO:-0600
TZNAME:MDT
DTSTART:20250309T090000
END:DAYLIGHT
BEGIN:STANDARD
TZOFFSETFROM:-0600
TZOFFSETTO:-0700
TZNAME:MST
DTSTART:20251102T080000
END:STANDARD
BEGIN:DAYLIGHT
TZOFFSETFROM:-0700
TZOFFSETTO:-0600
TZNAME:MDT
DTSTART:20260308T090000
END:DAYLIGHT
BEGIN:STANDARD
TZOFFSETFROM:-0600
TZOFFSETTO:-0700
TZNAME:MST
DTSTART:20261101T080000
END:STANDARD
END:VTIMEZONE
BEGIN:VEVENT
DTSTART;TZID=America/Denver:20250702T200000
DTEND;TZID=America/Denver:20250702T200000
DTSTAMP:20260424T070603
CREATED:20250530T175112Z
LAST-MODIFIED:20250530T175112Z
UID:10002128-1751486400-1751486400@thepresssteamboat.com
SUMMARY:Hayley Berg
DESCRIPTION:Hayley Berg is a singer and guitarist based in Steamboat Springs\, Colorado. She is a core member of the local Americana and folk band Apple Pie Order\, and it’s sub-group: Apple Pie and a Guy\, featuring Hayley on vocals and guitar\, Xandria Gregory on bass and vocals\, and Kyle Kounovsky on percussion. Hayley’s musical style blends elements of acoustic pop\, country\, and indie\, delivering heartfelt performances that resonate with audiences.
URL:https://thepresssteamboat.com/musician/hayley-berg-3/
LOCATION:The Press Steamboat\, 1009 Lincoln Ave\, Steamboat Springs\, CO\, 80487\, United States
CATEGORIES:live music
ATTACH;FMTTYPE=image/jpeg:https://thepresssteamboat.com/wp-content/uploads/2023/10/photo0-e1698021313662.jpg
END:VEVENT
END:VCALENDAR