BEGIN:VCALENDAR
VERSION:2.0
PRODID:-//the press. - ECPv6.15.20//NONSGML v1.0//EN
CALSCALE:GREGORIAN
METHOD:PUBLISH
X-WR-CALNAME:the press.
X-ORIGINAL-URL:https://thepresssteamboat.com
X-WR-CALDESC:Events for the press.
REFRESH-INTERVAL;VALUE=DURATION:PT1H
X-Robots-Tag:noindex
X-PUBLISHED-TTL:PT1H
BEGIN:VTIMEZONE
TZID:America/Denver
BEGIN:DAYLIGHT
TZOFFSETFROM:-0700
TZOFFSETTO:-0600
TZNAME:MDT
DTSTART:20210314T090000
END:DAYLIGHT
BEGIN:STANDARD
TZOFFSETFROM:-0600
TZOFFSETTO:-0700
TZNAME:MST
DTSTART:20211107T080000
END:STANDARD
BEGIN:DAYLIGHT
TZOFFSETFROM:-0700
TZOFFSETTO:-0600
TZNAME:MDT
DTSTART:20220313T090000
END:DAYLIGHT
BEGIN:STANDARD
TZOFFSETFROM:-0600
TZOFFSETTO:-0700
TZNAME:MST
DTSTART:20221106T080000
END:STANDARD
BEGIN:DAYLIGHT
TZOFFSETFROM:-0700
TZOFFSETTO:-0600
TZNAME:MDT
DTSTART:20230312T090000
END:DAYLIGHT
BEGIN:STANDARD
TZOFFSETFROM:-0600
TZOFFSETTO:-0700
TZNAME:MST
DTSTART:20231105T080000
END:STANDARD
BEGIN:DAYLIGHT
TZOFFSETFROM:-0700
TZOFFSETTO:-0600
TZNAME:MDT
DTSTART:20240310T090000
END:DAYLIGHT
BEGIN:STANDARD
TZOFFSETFROM:-0600
TZOFFSETTO:-0700
TZNAME:MST
DTSTART:20241103T080000
END:STANDARD
END:VTIMEZONE
BEGIN:VEVENT
DTSTART;TZID=America/Denver:20230823T183000
DTEND;TZID=America/Denver:20230823T183000
DTSTAMP:20260421T192628
CREATED:20230727T030142Z
LAST-MODIFIED:20230727T030228Z
UID:10000848-1692815400-1692815400@thepresssteamboat.com
SUMMARY:Jazz Night with the Cat Pack & Louisiana Lindsy's Cajun Cuisine
DESCRIPTION:Traditional jazz from the Cat Pack jazz band with delicious Cajun cuisine from Louisiana Lindsy!!\nFood starts at 5:30 | Music starts at 6:30
URL:https://thepresssteamboat.com/musician/jazz-night-aug-23-2023/
LOCATION:The Press Steamboat\, 1009 Lincoln Ave\, Steamboat Springs\, CO\, 80487\, United States
CATEGORIES:Food,live music
END:VEVENT
BEGIN:VEVENT
DTSTART;TZID=America/Denver:20230726T173000
DTEND;TZID=America/Denver:20230726T173000
DTSTAMP:20260421T192628
CREATED:20230719T212818Z
LAST-MODIFIED:20230719T212900Z
UID:10000841-1690392600-1690392600@thepresssteamboat.com
SUMMARY:Jazz Night with the Cat Pack & Louisiana Lindsy's Cajun Cuisine
DESCRIPTION:Traditional jazz from the Cat Pack jazz band with delicious Cajun cuisine from Louisiana Lindsy!!\nFood starts at 5:30 | Music starts at 6:30
URL:https://thepresssteamboat.com/musician/jazz-night-july-26-2023/
LOCATION:The Press Steamboat\, 1009 Lincoln Ave\, Steamboat Springs\, CO\, 80487\, United States
CATEGORIES:Food,live music
END:VEVENT
BEGIN:VEVENT
DTSTART;TZID=America/Denver:20230628T173000
DTEND;TZID=America/Denver:20230628T173000
DTSTAMP:20260421T192628
CREATED:20230420T011216Z
LAST-MODIFIED:20230420T011313Z
UID:10000738-1687973400-1687973400@thepresssteamboat.com
SUMMARY:Louisiana Lindsy's Cajun Cuisine & Jazz from the Cat Pack
DESCRIPTION:Traditional jazz from the Cat Pack jazz band with delicious Cajun cuisine from Louisiana Lindsy!!\nFood starts at 5:30 | Music starts at 6:30
URL:https://thepresssteamboat.com/musician/louisiana-lindsys-cajun-cuisine-jazz-from-the-cat-pack/2023-06-28/
LOCATION:The Press Steamboat\, 1009 Lincoln Ave\, Steamboat Springs\, CO\, 80487\, United States
CATEGORIES:Food,live music
ATTACH;FMTTYPE=image/png:https://thepresssteamboat.com/wp-content/uploads/2023/04/LouisianaLindsy-1-e1681953187360.png
END:VEVENT
BEGIN:VEVENT
DTSTART;TZID=America/Denver:20230614T173000
DTEND;TZID=America/Denver:20230614T173000
DTSTAMP:20260421T192628
CREATED:20230420T011216Z
LAST-MODIFIED:20230420T011313Z
UID:10000737-1686763800-1686763800@thepresssteamboat.com
SUMMARY:Louisiana Lindsy's Cajun Cuisine & Jazz from the Cat Pack
DESCRIPTION:Traditional jazz from the Cat Pack jazz band with delicious Cajun cuisine from Louisiana Lindsy!!\nFood starts at 5:30 | Music starts at 6:30
URL:https://thepresssteamboat.com/musician/louisiana-lindsys-cajun-cuisine-jazz-from-the-cat-pack/2023-06-14/
LOCATION:The Press Steamboat\, 1009 Lincoln Ave\, Steamboat Springs\, CO\, 80487\, United States
CATEGORIES:Food,live music
ATTACH;FMTTYPE=image/png:https://thepresssteamboat.com/wp-content/uploads/2023/04/LouisianaLindsy-1-e1681953187360.png
END:VEVENT
BEGIN:VEVENT
DTSTART;TZID=America/Denver:20230531T173000
DTEND;TZID=America/Denver:20230531T173000
DTSTAMP:20260421T192628
CREATED:20230420T011216Z
LAST-MODIFIED:20230420T011313Z
UID:10000736-1685554200-1685554200@thepresssteamboat.com
SUMMARY:Louisiana Lindsy's Cajun Cuisine & Jazz from the Cat Pack
DESCRIPTION:Traditional jazz from the Cat Pack jazz band with delicious Cajun cuisine from Louisiana Lindsy!!\nFood starts at 5:30 | Music starts at 6:30
URL:https://thepresssteamboat.com/musician/louisiana-lindsys-cajun-cuisine-jazz-from-the-cat-pack/2023-05-31/
LOCATION:The Press Steamboat\, 1009 Lincoln Ave\, Steamboat Springs\, CO\, 80487\, United States
CATEGORIES:Food,live music
ATTACH;FMTTYPE=image/png:https://thepresssteamboat.com/wp-content/uploads/2023/04/LouisianaLindsy-1-e1681953187360.png
END:VEVENT
BEGIN:VEVENT
DTSTART;TZID=America/Denver:20230524T173000
DTEND;TZID=America/Denver:20230524T173000
DTSTAMP:20260421T192628
CREATED:20230420T011216Z
LAST-MODIFIED:20230420T011313Z
UID:10000735-1684949400-1684949400@thepresssteamboat.com
SUMMARY:Louisiana Lindsy's Cajun Cuisine & Jazz from the Cat Pack
DESCRIPTION:Traditional jazz from the Cat Pack jazz band with delicious Cajun cuisine from Louisiana Lindsy!!\nFood starts at 5:30 | Music starts at 6:30
URL:https://thepresssteamboat.com/musician/louisiana-lindsys-cajun-cuisine-jazz-from-the-cat-pack/2023-05-24/
LOCATION:The Press Steamboat\, 1009 Lincoln Ave\, Steamboat Springs\, CO\, 80487\, United States
CATEGORIES:Food,live music
ATTACH;FMTTYPE=image/png:https://thepresssteamboat.com/wp-content/uploads/2023/04/LouisianaLindsy-1-e1681953187360.png
END:VEVENT
BEGIN:VEVENT
DTSTART;TZID=America/Denver:20230503T173000
DTEND;TZID=America/Denver:20230503T173000
DTSTAMP:20260421T192628
CREATED:20230426T201847Z
LAST-MODIFIED:20230426T201915Z
UID:10000745-1683135000-1683135000@thepresssteamboat.com
SUMMARY:Louisiana Lindsy with Kristin Esper
DESCRIPTION:Come indulge yourself with Louisiana Lindsy’s special weekly Cajun cuisine at the press!! This week will feature music by local Americana artist\, Kristin Esper! \nFood 5:30 | Music 6:30 \nEntry ticket: $5
URL:https://thepresssteamboat.com/musician/louisiana-lindsy-with-kristin-esper/
LOCATION:The Press Steamboat\, 1009 Lincoln Ave\, Steamboat Springs\, CO\, 80487\, United States
CATEGORIES:Food,live music
ATTACH;FMTTYPE=image/png:https://thepresssteamboat.com/wp-content/uploads/2023/04/LouisianaLindsy-2.png
END:VEVENT
BEGIN:VEVENT
DTSTART;TZID=America/Denver:20230426T183000
DTEND;TZID=America/Denver:20230426T210000
DTSTAMP:20260421T192628
CREATED:20230401T211141Z
LAST-MODIFIED:20230401T211141Z
UID:10000655-1682533800-1682542800@thepresssteamboat.com
SUMMARY:Jazz Night with the Cat Pack & Louisiana Lindsy's Cajun Cuisine
DESCRIPTION:Traditional jazz from the Cat Pack jazz band with delicious Cajun cuisine from Louisiana Lindsy!!\nFood starts at 5:30 | Music starts at 6:30
URL:https://thepresssteamboat.com/musician/jazz-night-with-the-cat-pack-louisiana-lindsys-cajun-cuisine-apr-26-2023/
LOCATION:The Press Steamboat\, 1009 Lincoln Ave\, Steamboat Springs\, CO\, 80487\, United States
CATEGORIES:Food,live music
END:VEVENT
BEGIN:VEVENT
DTSTART;TZID=America/Denver:20230412T183000
DTEND;TZID=America/Denver:20230412T210000
DTSTAMP:20260421T192628
CREATED:20230401T211035Z
LAST-MODIFIED:20230401T211035Z
UID:10000654-1681324200-1681333200@thepresssteamboat.com
SUMMARY:Jazz Night with the Cat Pack & Louisiana Lindsy's Cajun Cuisine
DESCRIPTION:Traditional jazz from the Cat Pack jazz band with delicious Cajun cuisine from Louisiana Lindsy!!\nFood starts at 5:30 | Music starts at 6:30
URL:https://thepresssteamboat.com/musician/jazz-night-with-the-cat-pack-apr-12-2023/
LOCATION:The Press Steamboat\, 1009 Lincoln Ave\, Steamboat Springs\, CO\, 80487\, United States
CATEGORIES:Food,live music
END:VEVENT
BEGIN:VEVENT
DTSTART;TZID=America/Denver:20230329T173000
DTEND;TZID=America/Denver:20230329T210000
DTSTAMP:20260421T192628
CREATED:20221230T013203Z
LAST-MODIFIED:20221230T013204Z
UID:10000422-1680111000-1680123600@thepresssteamboat.com
SUMMARY:Jazz Night with the Cat Pack and Louisiana Lindsy's Cajun Cuisine
DESCRIPTION:Smooth jazz from the Cat Pack jazz band with delicious Cajun meals by Louisiana Lindsy.\nFood starts at 5:30 pm and music starts at 6:30 pm.
URL:https://thepresssteamboat.com/musician/jazz-night-with-the-cat-pack-and-louisiana-lindsys-cajun-cuisine/2023-03-29/
LOCATION:The Press Steamboat\, 1009 Lincoln Ave\, Steamboat Springs\, CO\, 80487\, United States
CATEGORIES:Food,live music
END:VEVENT
BEGIN:VEVENT
DTSTART;TZID=America/Denver:20230315T173000
DTEND;TZID=America/Denver:20230315T210000
DTSTAMP:20260421T192628
CREATED:20230223T230005Z
LAST-MODIFIED:20230223T230006Z
UID:10000420-1678901400-1678914000@thepresssteamboat.com
SUMMARY:Jazz Night with the Cat Pack
DESCRIPTION:Traditional jazz from the Cat Pack jazz band. Louisiana Lindsy will NOT be cooking this evening!\nMusic starts at 6:30 pm.
URL:https://thepresssteamboat.com/musician/jazz-night-with-the-cat-pack-and-louisiana-lindsys-cajun-cuisine-2/
LOCATION:The Press Steamboat\, 1009 Lincoln Ave\, Steamboat Springs\, CO\, 80487\, United States
CATEGORIES:Food,live music
END:VEVENT
BEGIN:VEVENT
DTSTART;TZID=America/Denver:20230301T173000
DTEND;TZID=America/Denver:20230301T210000
DTSTAMP:20260421T192628
CREATED:20221230T013203Z
LAST-MODIFIED:20221230T013204Z
UID:10000418-1677691800-1677704400@thepresssteamboat.com
SUMMARY:Jazz Night with the Cat Pack and Louisiana Lindsy's Cajun Cuisine
DESCRIPTION:Smooth jazz from the Cat Pack jazz band with delicious Cajun meals by Louisiana Lindsy.\nFood starts at 5:30 pm and music starts at 6:30 pm.
URL:https://thepresssteamboat.com/musician/jazz-night-with-the-cat-pack-and-louisiana-lindsys-cajun-cuisine/2023-03-01/
LOCATION:The Press Steamboat\, 1009 Lincoln Ave\, Steamboat Springs\, CO\, 80487\, United States
CATEGORIES:Food,live music
END:VEVENT
BEGIN:VEVENT
DTSTART;TZID=America/Denver:20230222T173000
DTEND;TZID=America/Denver:20230222T210000
DTSTAMP:20260421T192628
CREATED:20221230T013203Z
LAST-MODIFIED:20221230T013204Z
UID:10000594-1677087000-1677099600@thepresssteamboat.com
SUMMARY:Jazz Night with the Cat Pack and Louisiana Lindsy's Cajun Cuisine
DESCRIPTION:Smooth jazz from the Cat Pack jazz band with delicious Cajun meals by Louisiana Lindsy.\nFood starts at 5:30 pm and music starts at 6:30 pm.
URL:https://thepresssteamboat.com/musician/jazz-night-with-the-cat-pack-and-louisiana-lindsys-cajun-cuisine/2023-02-22/
LOCATION:The Press Steamboat\, 1009 Lincoln Ave\, Steamboat Springs\, CO\, 80487\, United States
CATEGORIES:Food,live music
END:VEVENT
BEGIN:VEVENT
DTSTART;TZID=America/Denver:20230215T173000
DTEND;TZID=America/Denver:20230215T210000
DTSTAMP:20260421T192628
CREATED:20221230T013203Z
LAST-MODIFIED:20221230T013204Z
UID:10000416-1676482200-1676494800@thepresssteamboat.com
SUMMARY:Jazz Night with the Cat Pack and Louisiana Lindsy's Cajun Cuisine
DESCRIPTION:Smooth jazz from the Cat Pack jazz band with delicious Cajun meals by Louisiana Lindsy.\nFood starts at 5:30 pm and music starts at 6:30 pm.
URL:https://thepresssteamboat.com/musician/jazz-night-with-the-cat-pack-and-louisiana-lindsys-cajun-cuisine/2023-02-15/
LOCATION:The Press Steamboat\, 1009 Lincoln Ave\, Steamboat Springs\, CO\, 80487\, United States
CATEGORIES:Food,live music
END:VEVENT
BEGIN:VEVENT
DTSTART;TZID=America/Denver:20230208T173000
DTEND;TZID=America/Denver:20230208T210000
DTSTAMP:20260421T192628
CREATED:20221230T013203Z
LAST-MODIFIED:20221230T013204Z
UID:10000415-1675877400-1675890000@thepresssteamboat.com
SUMMARY:Jazz Night with the Cat Pack and Louisiana Lindsy's Cajun Cuisine
DESCRIPTION:Smooth jazz from the Cat Pack jazz band with delicious Cajun meals by Louisiana Lindsy.\nFood starts at 5:30 pm and music starts at 6:30 pm.
URL:https://thepresssteamboat.com/musician/jazz-night-with-the-cat-pack-and-louisiana-lindsys-cajun-cuisine/2023-02-08/
LOCATION:The Press Steamboat\, 1009 Lincoln Ave\, Steamboat Springs\, CO\, 80487\, United States
CATEGORIES:Food,live music
END:VEVENT
BEGIN:VEVENT
DTSTART;TZID=America/Denver:20230201T173000
DTEND;TZID=America/Denver:20230201T210000
DTSTAMP:20260421T192628
CREATED:20221230T013203Z
LAST-MODIFIED:20221230T013204Z
UID:10000414-1675272600-1675285200@thepresssteamboat.com
SUMMARY:Jazz Night with the Cat Pack and Louisiana Lindsy's Cajun Cuisine
DESCRIPTION:Smooth jazz from the Cat Pack jazz band with delicious Cajun meals by Louisiana Lindsy.\nFood starts at 5:30 pm and music starts at 6:30 pm.
URL:https://thepresssteamboat.com/musician/jazz-night-with-the-cat-pack-and-louisiana-lindsys-cajun-cuisine/2023-02-01/
LOCATION:The Press Steamboat\, 1009 Lincoln Ave\, Steamboat Springs\, CO\, 80487\, United States
CATEGORIES:Food,live music
END:VEVENT
BEGIN:VEVENT
DTSTART;TZID=America/Denver:20230125T173000
DTEND;TZID=America/Denver:20230125T210000
DTSTAMP:20260421T192628
CREATED:20221230T013203Z
LAST-MODIFIED:20221230T013204Z
UID:10000413-1674667800-1674680400@thepresssteamboat.com
SUMMARY:Jazz Night with the Cat Pack and Louisiana Lindsy's Cajun Cuisine
DESCRIPTION:Smooth jazz from the Cat Pack jazz band with delicious Cajun meals by Louisiana Lindsy.\nFood starts at 5:30 pm and music starts at 6:30 pm.
URL:https://thepresssteamboat.com/musician/jazz-night-with-the-cat-pack-and-louisiana-lindsys-cajun-cuisine/2023-01-25/
LOCATION:The Press Steamboat\, 1009 Lincoln Ave\, Steamboat Springs\, CO\, 80487\, United States
CATEGORIES:Food,live music
END:VEVENT
BEGIN:VEVENT
DTSTART;TZID=America/Denver:20230118T173000
DTEND;TZID=America/Denver:20230118T210000
DTSTAMP:20260421T192628
CREATED:20221230T013203Z
LAST-MODIFIED:20221230T013204Z
UID:10000412-1674063000-1674075600@thepresssteamboat.com
SUMMARY:Jazz Night with the Cat Pack and Louisiana Lindsy's Cajun Cuisine
DESCRIPTION:Smooth jazz from the Cat Pack jazz band with delicious Cajun meals by Louisiana Lindsy.\nFood starts at 5:30 pm and music starts at 6:30 pm.
URL:https://thepresssteamboat.com/musician/jazz-night-with-the-cat-pack-and-louisiana-lindsys-cajun-cuisine/2023-01-18/
LOCATION:The Press Steamboat\, 1009 Lincoln Ave\, Steamboat Springs\, CO\, 80487\, United States
CATEGORIES:Food,live music
END:VEVENT
BEGIN:VEVENT
DTSTART;TZID=America/Denver:20230111T173000
DTEND;TZID=America/Denver:20230111T210000
DTSTAMP:20260421T192628
CREATED:20221230T013203Z
LAST-MODIFIED:20221230T013204Z
UID:10000507-1673458200-1673470800@thepresssteamboat.com
SUMMARY:Jazz Night with the Cat Pack and Louisiana Lindsy's Cajun Cuisine
DESCRIPTION:Smooth jazz from the Cat Pack jazz band with delicious Cajun meals by Louisiana Lindsy.\nFood starts at 5:30 pm and music starts at 6:30 pm.
URL:https://thepresssteamboat.com/musician/jazz-night-with-the-cat-pack-and-louisiana-lindsys-cajun-cuisine/2023-01-11/
LOCATION:The Press Steamboat\, 1009 Lincoln Ave\, Steamboat Springs\, CO\, 80487\, United States
CATEGORIES:Food,live music
END:VEVENT
BEGIN:VEVENT
DTSTART;TZID=America/Denver:20230104T173000
DTEND;TZID=America/Denver:20230104T210000
DTSTAMP:20260421T192628
CREATED:20221230T013203Z
LAST-MODIFIED:20221230T013204Z
UID:10000410-1672853400-1672866000@thepresssteamboat.com
SUMMARY:Jazz Night with the Cat Pack and Louisiana Lindsy's Cajun Cuisine
DESCRIPTION:Smooth jazz from the Cat Pack jazz band with delicious Cajun meals by Louisiana Lindsy.\nFood starts at 5:30 pm and music starts at 6:30 pm.
URL:https://thepresssteamboat.com/musician/jazz-night-with-the-cat-pack-and-louisiana-lindsys-cajun-cuisine/2023-01-04/
LOCATION:The Press Steamboat\, 1009 Lincoln Ave\, Steamboat Springs\, CO\, 80487\, United States
CATEGORIES:Food,live music
END:VEVENT
BEGIN:VEVENT
DTSTART;TZID=America/Denver:20221228T173000
DTEND;TZID=America/Denver:20221228T210000
DTSTAMP:20260421T192628
CREATED:20221212T195451Z
LAST-MODIFIED:20221212T195451Z
UID:10000409-1672248600-1672261200@thepresssteamboat.com
SUMMARY:Wednesday Night with the Cat Pack and Louisiana Lindsy's Cajun Cuisine
DESCRIPTION:Smooth jazz and delicious Cajun meals by Louisiana Lindsy. Food starts at 5:30 pm and music starts at 6:30 pm.
URL:https://thepresssteamboat.com/musician/wednesday-night-with-the-cat-pack-and-louisiana-lindsys-cajun-cuisine/2022-12-28/
LOCATION:The Press Steamboat\, 1009 Lincoln Ave\, Steamboat Springs\, CO\, 80487\, United States
CATEGORIES:Food,live music
END:VEVENT
BEGIN:VEVENT
DTSTART;TZID=America/Denver:20221221T173000
DTEND;TZID=America/Denver:20221221T210000
DTSTAMP:20260421T192628
CREATED:20221212T195451Z
LAST-MODIFIED:20221212T195451Z
UID:10000408-1671643800-1671656400@thepresssteamboat.com
SUMMARY:Wednesday Night with the Cat Pack and Louisiana Lindsy's Cajun Cuisine
DESCRIPTION:Smooth jazz and delicious Cajun meals by Louisiana Lindsy. Food starts at 5:30 pm and music starts at 6:30 pm.
URL:https://thepresssteamboat.com/musician/wednesday-night-with-the-cat-pack-and-louisiana-lindsys-cajun-cuisine/2022-12-21/
LOCATION:The Press Steamboat\, 1009 Lincoln Ave\, Steamboat Springs\, CO\, 80487\, United States
CATEGORIES:Food,live music
END:VEVENT
BEGIN:VEVENT
DTSTART;TZID=America/Denver:20221214T173000
DTEND;TZID=America/Denver:20221214T210000
DTSTAMP:20260421T192628
CREATED:20221212T195451Z
LAST-MODIFIED:20221212T195451Z
UID:10000407-1671039000-1671051600@thepresssteamboat.com
SUMMARY:Wednesday Night with the Cat Pack and Louisiana Lindsy's Cajun Cuisine
DESCRIPTION:Smooth jazz and delicious Cajun meals by Louisiana Lindsy. Food starts at 5:30 pm and music starts at 6:30 pm.
URL:https://thepresssteamboat.com/musician/wednesday-night-with-the-cat-pack-and-louisiana-lindsys-cajun-cuisine/2022-12-14/
LOCATION:The Press Steamboat\, 1009 Lincoln Ave\, Steamboat Springs\, CO\, 80487\, United States
CATEGORIES:Food,live music
END:VEVENT
BEGIN:VEVENT
DTSTART;TZID=America/Denver:20221207T183000
DTEND;TZID=America/Denver:20221207T200000
DTSTAMP:20260421T192628
CREATED:20221206T101247Z
LAST-MODIFIED:20221206T101247Z
UID:10000298-1670437800-1670443200@thepresssteamboat.com
SUMMARY:Wednesday Night with Louisiana Lindsy and the Cat Pack
DESCRIPTION:Authentic Louisiana meals with smooth Jazz for the Cat Pack
URL:https://thepresssteamboat.com/musician/wednesday-night-with-louisiana-lindsy-and-the-cat-pack/
LOCATION:The Press Steamboat\, 1009 Lincoln Ave\, Steamboat Springs\, CO\, 80487\, United States
CATEGORIES:live music
ATTACH;FMTTYPE=image/jpeg:https://thepresssteamboat.com/wp-content/uploads/2022/12/Jazz-Nite-111622-1.jpg
END:VEVENT
END:VCALENDAR