BEGIN:VCALENDAR
VERSION:2.0
PRODID:-//the press. - ECPv6.15.20//NONSGML v1.0//EN
CALSCALE:GREGORIAN
METHOD:PUBLISH
X-WR-CALNAME:the press.
X-ORIGINAL-URL:https://thepresssteamboat.com
X-WR-CALDESC:Events for the press.
REFRESH-INTERVAL;VALUE=DURATION:PT1H
X-Robots-Tag:noindex
X-PUBLISHED-TTL:PT1H
BEGIN:VTIMEZONE
TZID:America/Denver
BEGIN:DAYLIGHT
TZOFFSETFROM:-0700
TZOFFSETTO:-0600
TZNAME:MDT
DTSTART:20280312T090000
END:DAYLIGHT
BEGIN:STANDARD
TZOFFSETFROM:-0600
TZOFFSETTO:-0700
TZNAME:MST
DTSTART:20281105T080000
END:STANDARD
BEGIN:DAYLIGHT
TZOFFSETFROM:-0700
TZOFFSETTO:-0600
TZNAME:MDT
DTSTART:20290311T090000
END:DAYLIGHT
BEGIN:STANDARD
TZOFFSETFROM:-0600
TZOFFSETTO:-0700
TZNAME:MST
DTSTART:20291104T080000
END:STANDARD
BEGIN:DAYLIGHT
TZOFFSETFROM:-0700
TZOFFSETTO:-0600
TZNAME:MDT
DTSTART:20300310T090000
END:DAYLIGHT
BEGIN:STANDARD
TZOFFSETFROM:-0600
TZOFFSETTO:-0700
TZNAME:MST
DTSTART:20301103T080000
END:STANDARD
END:VTIMEZONE
BEGIN:VEVENT
DTSTART;TZID=America/Denver:20290502T180000
DTEND;TZID=America/Denver:20290502T180000
DTSTAMP:20260423T005026
CREATED:20260128T205723Z
LAST-MODIFIED:20260128T211219Z
UID:10001918-1872439200-1872439200@thepresssteamboat.com
SUMMARY:Singo! Music Bingo
DESCRIPTION:Ready for a midweek pick-me-up? Join us at the press for Singo Music Bingo every Wednesday at 6 PM! Sip on your favorite drinks\, groove to classic tunes\, and enjoy a night of good vibes. Plus\, you might just walk away with some awesome prizes!
URL:https://thepresssteamboat.com/musician/singo-2/2029-05-02/
LOCATION:The Press Steamboat\, 1009 Lincoln Ave\, Steamboat Springs\, CO\, 80487\, United States
CATEGORIES:Trivia
ATTACH;FMTTYPE=image/png:https://thepresssteamboat.com/wp-content/uploads/2024/09/Singo-Event-Picture.png
END:VEVENT
BEGIN:VEVENT
DTSTART;TZID=America/Denver:20290508T190000
DTEND;TZID=America/Denver:20290508T190000
DTSTAMP:20260423T005026
CREATED:20260128T204244Z
LAST-MODIFIED:20260128T210139Z
UID:10002528-1872961200-1872961200@thepresssteamboat.com
SUMMARY:Tuesday Night Free Trivia
DESCRIPTION:Tuesday Night Free Trivia with Steamboat Trivia starts at 7PM EVERY TUESDAY at the press in downtown Steamboat Springs\, Colorado. Come think\, drink\, and win fun prizes with friends!
URL:https://thepresssteamboat.com/musician/tuesday-free-trivia-2/2029-05-08/
LOCATION:The Press Steamboat\, 1009 Lincoln Ave\, Steamboat Springs\, CO\, 80487\, United States
CATEGORIES:Trivia
ATTACH;FMTTYPE=image/jpeg:https://thepresssteamboat.com/wp-content/uploads/2023/01/Trivia-Repeater-scaled-e1694716589766.jpeg
END:VEVENT
BEGIN:VEVENT
DTSTART;TZID=America/Denver:20290509T180000
DTEND;TZID=America/Denver:20290509T180000
DTSTAMP:20260423T005026
CREATED:20260128T205723Z
LAST-MODIFIED:20260128T211219Z
UID:10001919-1873044000-1873044000@thepresssteamboat.com
SUMMARY:Singo! Music Bingo
DESCRIPTION:Ready for a midweek pick-me-up? Join us at the press for Singo Music Bingo every Wednesday at 6 PM! Sip on your favorite drinks\, groove to classic tunes\, and enjoy a night of good vibes. Plus\, you might just walk away with some awesome prizes!
URL:https://thepresssteamboat.com/musician/singo-2/2029-05-09/
LOCATION:The Press Steamboat\, 1009 Lincoln Ave\, Steamboat Springs\, CO\, 80487\, United States
CATEGORIES:Trivia
ATTACH;FMTTYPE=image/png:https://thepresssteamboat.com/wp-content/uploads/2024/09/Singo-Event-Picture.png
END:VEVENT
BEGIN:VEVENT
DTSTART;TZID=America/Denver:20290515T190000
DTEND;TZID=America/Denver:20290515T190000
DTSTAMP:20260423T005026
CREATED:20260128T204244Z
LAST-MODIFIED:20260128T210139Z
UID:10002529-1873566000-1873566000@thepresssteamboat.com
SUMMARY:Tuesday Night Free Trivia
DESCRIPTION:Tuesday Night Free Trivia with Steamboat Trivia starts at 7PM EVERY TUESDAY at the press in downtown Steamboat Springs\, Colorado. Come think\, drink\, and win fun prizes with friends!
URL:https://thepresssteamboat.com/musician/tuesday-free-trivia-2/2029-05-15/
LOCATION:The Press Steamboat\, 1009 Lincoln Ave\, Steamboat Springs\, CO\, 80487\, United States
CATEGORIES:Trivia
ATTACH;FMTTYPE=image/jpeg:https://thepresssteamboat.com/wp-content/uploads/2023/01/Trivia-Repeater-scaled-e1694716589766.jpeg
END:VEVENT
BEGIN:VEVENT
DTSTART;TZID=America/Denver:20290516T180000
DTEND;TZID=America/Denver:20290516T180000
DTSTAMP:20260423T005026
CREATED:20260128T205723Z
LAST-MODIFIED:20260128T211219Z
UID:10001920-1873648800-1873648800@thepresssteamboat.com
SUMMARY:Singo! Music Bingo
DESCRIPTION:Ready for a midweek pick-me-up? Join us at the press for Singo Music Bingo every Wednesday at 6 PM! Sip on your favorite drinks\, groove to classic tunes\, and enjoy a night of good vibes. Plus\, you might just walk away with some awesome prizes!
URL:https://thepresssteamboat.com/musician/singo-2/2029-05-16/
LOCATION:The Press Steamboat\, 1009 Lincoln Ave\, Steamboat Springs\, CO\, 80487\, United States
CATEGORIES:Trivia
ATTACH;FMTTYPE=image/png:https://thepresssteamboat.com/wp-content/uploads/2024/09/Singo-Event-Picture.png
END:VEVENT
BEGIN:VEVENT
DTSTART;TZID=America/Denver:20290522T190000
DTEND;TZID=America/Denver:20290522T190000
DTSTAMP:20260423T005026
CREATED:20260128T204244Z
LAST-MODIFIED:20260128T210139Z
UID:10002530-1874170800-1874170800@thepresssteamboat.com
SUMMARY:Tuesday Night Free Trivia
DESCRIPTION:Tuesday Night Free Trivia with Steamboat Trivia starts at 7PM EVERY TUESDAY at the press in downtown Steamboat Springs\, Colorado. Come think\, drink\, and win fun prizes with friends!
URL:https://thepresssteamboat.com/musician/tuesday-free-trivia-2/2029-05-22/
LOCATION:The Press Steamboat\, 1009 Lincoln Ave\, Steamboat Springs\, CO\, 80487\, United States
CATEGORIES:Trivia
ATTACH;FMTTYPE=image/jpeg:https://thepresssteamboat.com/wp-content/uploads/2023/01/Trivia-Repeater-scaled-e1694716589766.jpeg
END:VEVENT
BEGIN:VEVENT
DTSTART;TZID=America/Denver:20290523T180000
DTEND;TZID=America/Denver:20290523T180000
DTSTAMP:20260423T005026
CREATED:20260128T205723Z
LAST-MODIFIED:20260128T211219Z
UID:10001921-1874253600-1874253600@thepresssteamboat.com
SUMMARY:Singo! Music Bingo
DESCRIPTION:Ready for a midweek pick-me-up? Join us at the press for Singo Music Bingo every Wednesday at 6 PM! Sip on your favorite drinks\, groove to classic tunes\, and enjoy a night of good vibes. Plus\, you might just walk away with some awesome prizes!
URL:https://thepresssteamboat.com/musician/singo-2/2029-05-23/
LOCATION:The Press Steamboat\, 1009 Lincoln Ave\, Steamboat Springs\, CO\, 80487\, United States
CATEGORIES:Trivia
ATTACH;FMTTYPE=image/png:https://thepresssteamboat.com/wp-content/uploads/2024/09/Singo-Event-Picture.png
END:VEVENT
BEGIN:VEVENT
DTSTART;TZID=America/Denver:20290529T190000
DTEND;TZID=America/Denver:20290529T190000
DTSTAMP:20260423T005026
CREATED:20260128T204244Z
LAST-MODIFIED:20260128T210139Z
UID:10002531-1874775600-1874775600@thepresssteamboat.com
SUMMARY:Tuesday Night Free Trivia
DESCRIPTION:Tuesday Night Free Trivia with Steamboat Trivia starts at 7PM EVERY TUESDAY at the press in downtown Steamboat Springs\, Colorado. Come think\, drink\, and win fun prizes with friends!
URL:https://thepresssteamboat.com/musician/tuesday-free-trivia-2/2029-05-29/
LOCATION:The Press Steamboat\, 1009 Lincoln Ave\, Steamboat Springs\, CO\, 80487\, United States
CATEGORIES:Trivia
ATTACH;FMTTYPE=image/jpeg:https://thepresssteamboat.com/wp-content/uploads/2023/01/Trivia-Repeater-scaled-e1694716589766.jpeg
END:VEVENT
BEGIN:VEVENT
DTSTART;TZID=America/Denver:20290530T180000
DTEND;TZID=America/Denver:20290530T180000
DTSTAMP:20260423T005026
CREATED:20260128T205723Z
LAST-MODIFIED:20260128T211219Z
UID:10001922-1874858400-1874858400@thepresssteamboat.com
SUMMARY:Singo! Music Bingo
DESCRIPTION:Ready for a midweek pick-me-up? Join us at the press for Singo Music Bingo every Wednesday at 6 PM! Sip on your favorite drinks\, groove to classic tunes\, and enjoy a night of good vibes. Plus\, you might just walk away with some awesome prizes!
URL:https://thepresssteamboat.com/musician/singo-2/2029-05-30/
LOCATION:The Press Steamboat\, 1009 Lincoln Ave\, Steamboat Springs\, CO\, 80487\, United States
CATEGORIES:Trivia
ATTACH;FMTTYPE=image/png:https://thepresssteamboat.com/wp-content/uploads/2024/09/Singo-Event-Picture.png
END:VEVENT
BEGIN:VEVENT
DTSTART;TZID=America/Denver:20290605T190000
DTEND;TZID=America/Denver:20290605T190000
DTSTAMP:20260423T005026
CREATED:20260128T204244Z
LAST-MODIFIED:20260128T210139Z
UID:10002532-1875380400-1875380400@thepresssteamboat.com
SUMMARY:Tuesday Night Free Trivia
DESCRIPTION:Tuesday Night Free Trivia with Steamboat Trivia starts at 7PM EVERY TUESDAY at the press in downtown Steamboat Springs\, Colorado. Come think\, drink\, and win fun prizes with friends!
URL:https://thepresssteamboat.com/musician/tuesday-free-trivia-2/2029-06-05/
LOCATION:The Press Steamboat\, 1009 Lincoln Ave\, Steamboat Springs\, CO\, 80487\, United States
CATEGORIES:Trivia
ATTACH;FMTTYPE=image/jpeg:https://thepresssteamboat.com/wp-content/uploads/2023/01/Trivia-Repeater-scaled-e1694716589766.jpeg
END:VEVENT
BEGIN:VEVENT
DTSTART;TZID=America/Denver:20290606T180000
DTEND;TZID=America/Denver:20290606T180000
DTSTAMP:20260423T005026
CREATED:20260128T205723Z
LAST-MODIFIED:20260128T211219Z
UID:10001923-1875463200-1875463200@thepresssteamboat.com
SUMMARY:Singo! Music Bingo
DESCRIPTION:Ready for a midweek pick-me-up? Join us at the press for Singo Music Bingo every Wednesday at 6 PM! Sip on your favorite drinks\, groove to classic tunes\, and enjoy a night of good vibes. Plus\, you might just walk away with some awesome prizes!
URL:https://thepresssteamboat.com/musician/singo-2/2029-06-06/
LOCATION:The Press Steamboat\, 1009 Lincoln Ave\, Steamboat Springs\, CO\, 80487\, United States
CATEGORIES:Trivia
ATTACH;FMTTYPE=image/png:https://thepresssteamboat.com/wp-content/uploads/2024/09/Singo-Event-Picture.png
END:VEVENT
BEGIN:VEVENT
DTSTART;TZID=America/Denver:20290612T190000
DTEND;TZID=America/Denver:20290612T190000
DTSTAMP:20260423T005026
CREATED:20260128T204244Z
LAST-MODIFIED:20260128T210139Z
UID:10002533-1875985200-1875985200@thepresssteamboat.com
SUMMARY:Tuesday Night Free Trivia
DESCRIPTION:Tuesday Night Free Trivia with Steamboat Trivia starts at 7PM EVERY TUESDAY at the press in downtown Steamboat Springs\, Colorado. Come think\, drink\, and win fun prizes with friends!
URL:https://thepresssteamboat.com/musician/tuesday-free-trivia-2/2029-06-12/
LOCATION:The Press Steamboat\, 1009 Lincoln Ave\, Steamboat Springs\, CO\, 80487\, United States
CATEGORIES:Trivia
ATTACH;FMTTYPE=image/jpeg:https://thepresssteamboat.com/wp-content/uploads/2023/01/Trivia-Repeater-scaled-e1694716589766.jpeg
END:VEVENT
BEGIN:VEVENT
DTSTART;TZID=America/Denver:20290613T180000
DTEND;TZID=America/Denver:20290613T180000
DTSTAMP:20260423T005026
CREATED:20260128T205723Z
LAST-MODIFIED:20260128T211219Z
UID:10001924-1876068000-1876068000@thepresssteamboat.com
SUMMARY:Singo! Music Bingo
DESCRIPTION:Ready for a midweek pick-me-up? Join us at the press for Singo Music Bingo every Wednesday at 6 PM! Sip on your favorite drinks\, groove to classic tunes\, and enjoy a night of good vibes. Plus\, you might just walk away with some awesome prizes!
URL:https://thepresssteamboat.com/musician/singo-2/2029-06-13/
LOCATION:The Press Steamboat\, 1009 Lincoln Ave\, Steamboat Springs\, CO\, 80487\, United States
CATEGORIES:Trivia
ATTACH;FMTTYPE=image/png:https://thepresssteamboat.com/wp-content/uploads/2024/09/Singo-Event-Picture.png
END:VEVENT
BEGIN:VEVENT
DTSTART;TZID=America/Denver:20290619T190000
DTEND;TZID=America/Denver:20290619T190000
DTSTAMP:20260423T005026
CREATED:20260128T204244Z
LAST-MODIFIED:20260128T210139Z
UID:10002534-1876590000-1876590000@thepresssteamboat.com
SUMMARY:Tuesday Night Free Trivia
DESCRIPTION:Tuesday Night Free Trivia with Steamboat Trivia starts at 7PM EVERY TUESDAY at the press in downtown Steamboat Springs\, Colorado. Come think\, drink\, and win fun prizes with friends!
URL:https://thepresssteamboat.com/musician/tuesday-free-trivia-2/2029-06-19/
LOCATION:The Press Steamboat\, 1009 Lincoln Ave\, Steamboat Springs\, CO\, 80487\, United States
CATEGORIES:Trivia
ATTACH;FMTTYPE=image/jpeg:https://thepresssteamboat.com/wp-content/uploads/2023/01/Trivia-Repeater-scaled-e1694716589766.jpeg
END:VEVENT
BEGIN:VEVENT
DTSTART;TZID=America/Denver:20290620T180000
DTEND;TZID=America/Denver:20290620T180000
DTSTAMP:20260423T005026
CREATED:20260128T205723Z
LAST-MODIFIED:20260128T211219Z
UID:10001925-1876672800-1876672800@thepresssteamboat.com
SUMMARY:Singo! Music Bingo
DESCRIPTION:Ready for a midweek pick-me-up? Join us at the press for Singo Music Bingo every Wednesday at 6 PM! Sip on your favorite drinks\, groove to classic tunes\, and enjoy a night of good vibes. Plus\, you might just walk away with some awesome prizes!
URL:https://thepresssteamboat.com/musician/singo-2/2029-06-20/
LOCATION:The Press Steamboat\, 1009 Lincoln Ave\, Steamboat Springs\, CO\, 80487\, United States
CATEGORIES:Trivia
ATTACH;FMTTYPE=image/png:https://thepresssteamboat.com/wp-content/uploads/2024/09/Singo-Event-Picture.png
END:VEVENT
BEGIN:VEVENT
DTSTART;TZID=America/Denver:20290626T190000
DTEND;TZID=America/Denver:20290626T190000
DTSTAMP:20260423T005026
CREATED:20260128T204244Z
LAST-MODIFIED:20260128T210139Z
UID:10002535-1877194800-1877194800@thepresssteamboat.com
SUMMARY:Tuesday Night Free Trivia
DESCRIPTION:Tuesday Night Free Trivia with Steamboat Trivia starts at 7PM EVERY TUESDAY at the press in downtown Steamboat Springs\, Colorado. Come think\, drink\, and win fun prizes with friends!
URL:https://thepresssteamboat.com/musician/tuesday-free-trivia-2/2029-06-26/
LOCATION:The Press Steamboat\, 1009 Lincoln Ave\, Steamboat Springs\, CO\, 80487\, United States
CATEGORIES:Trivia
ATTACH;FMTTYPE=image/jpeg:https://thepresssteamboat.com/wp-content/uploads/2023/01/Trivia-Repeater-scaled-e1694716589766.jpeg
END:VEVENT
BEGIN:VEVENT
DTSTART;TZID=America/Denver:20290627T180000
DTEND;TZID=America/Denver:20290627T180000
DTSTAMP:20260423T005026
CREATED:20260128T205723Z
LAST-MODIFIED:20260128T211219Z
UID:10001926-1877277600-1877277600@thepresssteamboat.com
SUMMARY:Singo! Music Bingo
DESCRIPTION:Ready for a midweek pick-me-up? Join us at the press for Singo Music Bingo every Wednesday at 6 PM! Sip on your favorite drinks\, groove to classic tunes\, and enjoy a night of good vibes. Plus\, you might just walk away with some awesome prizes!
URL:https://thepresssteamboat.com/musician/singo-2/2029-06-27/
LOCATION:The Press Steamboat\, 1009 Lincoln Ave\, Steamboat Springs\, CO\, 80487\, United States
CATEGORIES:Trivia
ATTACH;FMTTYPE=image/png:https://thepresssteamboat.com/wp-content/uploads/2024/09/Singo-Event-Picture.png
END:VEVENT
BEGIN:VEVENT
DTSTART;TZID=America/Denver:20290703T190000
DTEND;TZID=America/Denver:20290703T190000
DTSTAMP:20260423T005026
CREATED:20260128T204244Z
LAST-MODIFIED:20260128T210139Z
UID:10002536-1877799600-1877799600@thepresssteamboat.com
SUMMARY:Tuesday Night Free Trivia
DESCRIPTION:Tuesday Night Free Trivia with Steamboat Trivia starts at 7PM EVERY TUESDAY at the press in downtown Steamboat Springs\, Colorado. Come think\, drink\, and win fun prizes with friends!
URL:https://thepresssteamboat.com/musician/tuesday-free-trivia-2/2029-07-03/
LOCATION:The Press Steamboat\, 1009 Lincoln Ave\, Steamboat Springs\, CO\, 80487\, United States
CATEGORIES:Trivia
ATTACH;FMTTYPE=image/jpeg:https://thepresssteamboat.com/wp-content/uploads/2023/01/Trivia-Repeater-scaled-e1694716589766.jpeg
END:VEVENT
BEGIN:VEVENT
DTSTART;TZID=America/Denver:20290704T180000
DTEND;TZID=America/Denver:20290704T180000
DTSTAMP:20260423T005026
CREATED:20260128T205723Z
LAST-MODIFIED:20260128T211219Z
UID:10001927-1877882400-1877882400@thepresssteamboat.com
SUMMARY:Singo! Music Bingo
DESCRIPTION:Ready for a midweek pick-me-up? Join us at the press for Singo Music Bingo every Wednesday at 6 PM! Sip on your favorite drinks\, groove to classic tunes\, and enjoy a night of good vibes. Plus\, you might just walk away with some awesome prizes!
URL:https://thepresssteamboat.com/musician/singo-2/2029-07-04/
LOCATION:The Press Steamboat\, 1009 Lincoln Ave\, Steamboat Springs\, CO\, 80487\, United States
CATEGORIES:Trivia
ATTACH;FMTTYPE=image/png:https://thepresssteamboat.com/wp-content/uploads/2024/09/Singo-Event-Picture.png
END:VEVENT
BEGIN:VEVENT
DTSTART;TZID=America/Denver:20290710T190000
DTEND;TZID=America/Denver:20290710T190000
DTSTAMP:20260423T005026
CREATED:20260128T204244Z
LAST-MODIFIED:20260128T210139Z
UID:10002537-1878404400-1878404400@thepresssteamboat.com
SUMMARY:Tuesday Night Free Trivia
DESCRIPTION:Tuesday Night Free Trivia with Steamboat Trivia starts at 7PM EVERY TUESDAY at the press in downtown Steamboat Springs\, Colorado. Come think\, drink\, and win fun prizes with friends!
URL:https://thepresssteamboat.com/musician/tuesday-free-trivia-2/2029-07-10/
LOCATION:The Press Steamboat\, 1009 Lincoln Ave\, Steamboat Springs\, CO\, 80487\, United States
CATEGORIES:Trivia
ATTACH;FMTTYPE=image/jpeg:https://thepresssteamboat.com/wp-content/uploads/2023/01/Trivia-Repeater-scaled-e1694716589766.jpeg
END:VEVENT
BEGIN:VEVENT
DTSTART;TZID=America/Denver:20290711T180000
DTEND;TZID=America/Denver:20290711T180000
DTSTAMP:20260423T005026
CREATED:20260128T205723Z
LAST-MODIFIED:20260128T211219Z
UID:10001928-1878487200-1878487200@thepresssteamboat.com
SUMMARY:Singo! Music Bingo
DESCRIPTION:Ready for a midweek pick-me-up? Join us at the press for Singo Music Bingo every Wednesday at 6 PM! Sip on your favorite drinks\, groove to classic tunes\, and enjoy a night of good vibes. Plus\, you might just walk away with some awesome prizes!
URL:https://thepresssteamboat.com/musician/singo-2/2029-07-11/
LOCATION:The Press Steamboat\, 1009 Lincoln Ave\, Steamboat Springs\, CO\, 80487\, United States
CATEGORIES:Trivia
ATTACH;FMTTYPE=image/png:https://thepresssteamboat.com/wp-content/uploads/2024/09/Singo-Event-Picture.png
END:VEVENT
BEGIN:VEVENT
DTSTART;TZID=America/Denver:20290717T190000
DTEND;TZID=America/Denver:20290717T190000
DTSTAMP:20260423T005026
CREATED:20260128T204244Z
LAST-MODIFIED:20260128T210139Z
UID:10002538-1879009200-1879009200@thepresssteamboat.com
SUMMARY:Tuesday Night Free Trivia
DESCRIPTION:Tuesday Night Free Trivia with Steamboat Trivia starts at 7PM EVERY TUESDAY at the press in downtown Steamboat Springs\, Colorado. Come think\, drink\, and win fun prizes with friends!
URL:https://thepresssteamboat.com/musician/tuesday-free-trivia-2/2029-07-17/
LOCATION:The Press Steamboat\, 1009 Lincoln Ave\, Steamboat Springs\, CO\, 80487\, United States
CATEGORIES:Trivia
ATTACH;FMTTYPE=image/jpeg:https://thepresssteamboat.com/wp-content/uploads/2023/01/Trivia-Repeater-scaled-e1694716589766.jpeg
END:VEVENT
BEGIN:VEVENT
DTSTART;TZID=America/Denver:20290718T180000
DTEND;TZID=America/Denver:20290718T180000
DTSTAMP:20260423T005026
CREATED:20260128T205723Z
LAST-MODIFIED:20260128T211219Z
UID:10001929-1879092000-1879092000@thepresssteamboat.com
SUMMARY:Singo! Music Bingo
DESCRIPTION:Ready for a midweek pick-me-up? Join us at the press for Singo Music Bingo every Wednesday at 6 PM! Sip on your favorite drinks\, groove to classic tunes\, and enjoy a night of good vibes. Plus\, you might just walk away with some awesome prizes!
URL:https://thepresssteamboat.com/musician/singo-2/2029-07-18/
LOCATION:The Press Steamboat\, 1009 Lincoln Ave\, Steamboat Springs\, CO\, 80487\, United States
CATEGORIES:Trivia
ATTACH;FMTTYPE=image/png:https://thepresssteamboat.com/wp-content/uploads/2024/09/Singo-Event-Picture.png
END:VEVENT
BEGIN:VEVENT
DTSTART;TZID=America/Denver:20290724T190000
DTEND;TZID=America/Denver:20290724T190000
DTSTAMP:20260423T005026
CREATED:20260128T204244Z
LAST-MODIFIED:20260128T210139Z
UID:10002539-1879614000-1879614000@thepresssteamboat.com
SUMMARY:Tuesday Night Free Trivia
DESCRIPTION:Tuesday Night Free Trivia with Steamboat Trivia starts at 7PM EVERY TUESDAY at the press in downtown Steamboat Springs\, Colorado. Come think\, drink\, and win fun prizes with friends!
URL:https://thepresssteamboat.com/musician/tuesday-free-trivia-2/2029-07-24/
LOCATION:The Press Steamboat\, 1009 Lincoln Ave\, Steamboat Springs\, CO\, 80487\, United States
CATEGORIES:Trivia
ATTACH;FMTTYPE=image/jpeg:https://thepresssteamboat.com/wp-content/uploads/2023/01/Trivia-Repeater-scaled-e1694716589766.jpeg
END:VEVENT
BEGIN:VEVENT
DTSTART;TZID=America/Denver:20290725T180000
DTEND;TZID=America/Denver:20290725T180000
DTSTAMP:20260423T005026
CREATED:20260128T205723Z
LAST-MODIFIED:20260128T211219Z
UID:10001930-1879696800-1879696800@thepresssteamboat.com
SUMMARY:Singo! Music Bingo
DESCRIPTION:Ready for a midweek pick-me-up? Join us at the press for Singo Music Bingo every Wednesday at 6 PM! Sip on your favorite drinks\, groove to classic tunes\, and enjoy a night of good vibes. Plus\, you might just walk away with some awesome prizes!
URL:https://thepresssteamboat.com/musician/singo-2/2029-07-25/
LOCATION:The Press Steamboat\, 1009 Lincoln Ave\, Steamboat Springs\, CO\, 80487\, United States
CATEGORIES:Trivia
ATTACH;FMTTYPE=image/png:https://thepresssteamboat.com/wp-content/uploads/2024/09/Singo-Event-Picture.png
END:VEVENT
BEGIN:VEVENT
DTSTART;TZID=America/Denver:20290731T190000
DTEND;TZID=America/Denver:20290731T190000
DTSTAMP:20260423T005026
CREATED:20260128T204244Z
LAST-MODIFIED:20260128T210139Z
UID:10002540-1880218800-1880218800@thepresssteamboat.com
SUMMARY:Tuesday Night Free Trivia
DESCRIPTION:Tuesday Night Free Trivia with Steamboat Trivia starts at 7PM EVERY TUESDAY at the press in downtown Steamboat Springs\, Colorado. Come think\, drink\, and win fun prizes with friends!
URL:https://thepresssteamboat.com/musician/tuesday-free-trivia-2/2029-07-31/
LOCATION:The Press Steamboat\, 1009 Lincoln Ave\, Steamboat Springs\, CO\, 80487\, United States
CATEGORIES:Trivia
ATTACH;FMTTYPE=image/jpeg:https://thepresssteamboat.com/wp-content/uploads/2023/01/Trivia-Repeater-scaled-e1694716589766.jpeg
END:VEVENT
BEGIN:VEVENT
DTSTART;TZID=America/Denver:20290801T180000
DTEND;TZID=America/Denver:20290801T180000
DTSTAMP:20260423T005026
CREATED:20260128T205723Z
LAST-MODIFIED:20260128T211219Z
UID:10001931-1880301600-1880301600@thepresssteamboat.com
SUMMARY:Singo! Music Bingo
DESCRIPTION:Ready for a midweek pick-me-up? Join us at the press for Singo Music Bingo every Wednesday at 6 PM! Sip on your favorite drinks\, groove to classic tunes\, and enjoy a night of good vibes. Plus\, you might just walk away with some awesome prizes!
URL:https://thepresssteamboat.com/musician/singo-2/2029-08-01/
LOCATION:The Press Steamboat\, 1009 Lincoln Ave\, Steamboat Springs\, CO\, 80487\, United States
CATEGORIES:Trivia
ATTACH;FMTTYPE=image/png:https://thepresssteamboat.com/wp-content/uploads/2024/09/Singo-Event-Picture.png
END:VEVENT
BEGIN:VEVENT
DTSTART;TZID=America/Denver:20290807T190000
DTEND;TZID=America/Denver:20290807T190000
DTSTAMP:20260423T005026
CREATED:20260128T204244Z
LAST-MODIFIED:20260128T210139Z
UID:10002541-1880823600-1880823600@thepresssteamboat.com
SUMMARY:Tuesday Night Free Trivia
DESCRIPTION:Tuesday Night Free Trivia with Steamboat Trivia starts at 7PM EVERY TUESDAY at the press in downtown Steamboat Springs\, Colorado. Come think\, drink\, and win fun prizes with friends!
URL:https://thepresssteamboat.com/musician/tuesday-free-trivia-2/2029-08-07/
LOCATION:The Press Steamboat\, 1009 Lincoln Ave\, Steamboat Springs\, CO\, 80487\, United States
CATEGORIES:Trivia
ATTACH;FMTTYPE=image/jpeg:https://thepresssteamboat.com/wp-content/uploads/2023/01/Trivia-Repeater-scaled-e1694716589766.jpeg
END:VEVENT
BEGIN:VEVENT
DTSTART;TZID=America/Denver:20290808T180000
DTEND;TZID=America/Denver:20290808T180000
DTSTAMP:20260423T005026
CREATED:20260128T205723Z
LAST-MODIFIED:20260128T211219Z
UID:10001932-1880906400-1880906400@thepresssteamboat.com
SUMMARY:Singo! Music Bingo
DESCRIPTION:Ready for a midweek pick-me-up? Join us at the press for Singo Music Bingo every Wednesday at 6 PM! Sip on your favorite drinks\, groove to classic tunes\, and enjoy a night of good vibes. Plus\, you might just walk away with some awesome prizes!
URL:https://thepresssteamboat.com/musician/singo-2/2029-08-08/
LOCATION:The Press Steamboat\, 1009 Lincoln Ave\, Steamboat Springs\, CO\, 80487\, United States
CATEGORIES:Trivia
ATTACH;FMTTYPE=image/png:https://thepresssteamboat.com/wp-content/uploads/2024/09/Singo-Event-Picture.png
END:VEVENT
BEGIN:VEVENT
DTSTART;TZID=America/Denver:20290814T190000
DTEND;TZID=America/Denver:20290814T190000
DTSTAMP:20260423T005026
CREATED:20260128T204244Z
LAST-MODIFIED:20260128T210139Z
UID:10002542-1881428400-1881428400@thepresssteamboat.com
SUMMARY:Tuesday Night Free Trivia
DESCRIPTION:Tuesday Night Free Trivia with Steamboat Trivia starts at 7PM EVERY TUESDAY at the press in downtown Steamboat Springs\, Colorado. Come think\, drink\, and win fun prizes with friends!
URL:https://thepresssteamboat.com/musician/tuesday-free-trivia-2/2029-08-14/
LOCATION:The Press Steamboat\, 1009 Lincoln Ave\, Steamboat Springs\, CO\, 80487\, United States
CATEGORIES:Trivia
ATTACH;FMTTYPE=image/jpeg:https://thepresssteamboat.com/wp-content/uploads/2023/01/Trivia-Repeater-scaled-e1694716589766.jpeg
END:VEVENT
END:VCALENDAR