BEGIN:VCALENDAR
VERSION:2.0
PRODID:-//the press. - ECPv6.15.20//NONSGML v1.0//EN
CALSCALE:GREGORIAN
METHOD:PUBLISH
X-WR-CALNAME:the press.
X-ORIGINAL-URL:https://thepresssteamboat.com
X-WR-CALDESC:Events for the press.
REFRESH-INTERVAL;VALUE=DURATION:PT1H
X-Robots-Tag:noindex
X-PUBLISHED-TTL:PT1H
BEGIN:VTIMEZONE
TZID:America/Denver
BEGIN:DAYLIGHT
TZOFFSETFROM:-0700
TZOFFSETTO:-0600
TZNAME:MDT
DTSTART:20260308T090000
END:DAYLIGHT
BEGIN:STANDARD
TZOFFSETFROM:-0600
TZOFFSETTO:-0700
TZNAME:MST
DTSTART:20261101T080000
END:STANDARD
BEGIN:DAYLIGHT
TZOFFSETFROM:-0700
TZOFFSETTO:-0600
TZNAME:MDT
DTSTART:20270314T090000
END:DAYLIGHT
BEGIN:STANDARD
TZOFFSETFROM:-0600
TZOFFSETTO:-0700
TZNAME:MST
DTSTART:20271107T080000
END:STANDARD
BEGIN:DAYLIGHT
TZOFFSETFROM:-0700
TZOFFSETTO:-0600
TZNAME:MDT
DTSTART:20280312T090000
END:DAYLIGHT
BEGIN:STANDARD
TZOFFSETFROM:-0600
TZOFFSETTO:-0700
TZNAME:MST
DTSTART:20281105T080000
END:STANDARD
END:VTIMEZONE
BEGIN:VEVENT
DTSTART;TZID=America/Denver:20270512T180000
DTEND;TZID=America/Denver:20270512T180000
DTSTAMP:20260421T115908
CREATED:20260128T205723Z
LAST-MODIFIED:20260128T211219Z
UID:10001815-1810144800-1810144800@thepresssteamboat.com
SUMMARY:Singo! Music Bingo
DESCRIPTION:Ready for a midweek pick-me-up? Join us at the press for Singo Music Bingo every Wednesday at 6 PM! Sip on your favorite drinks\, groove to classic tunes\, and enjoy a night of good vibes. Plus\, you might just walk away with some awesome prizes!
URL:https://thepresssteamboat.com/musician/singo-2/2027-05-12/
LOCATION:The Press Steamboat\, 1009 Lincoln Ave\, Steamboat Springs\, CO\, 80487\, United States
CATEGORIES:Trivia
ATTACH;FMTTYPE=image/png:https://thepresssteamboat.com/wp-content/uploads/2024/09/Singo-Event-Picture.png
END:VEVENT
BEGIN:VEVENT
DTSTART;TZID=America/Denver:20270518T190000
DTEND;TZID=America/Denver:20270518T190000
DTSTAMP:20260421T115908
CREATED:20260128T204244Z
LAST-MODIFIED:20260128T210139Z
UID:10002425-1810666800-1810666800@thepresssteamboat.com
SUMMARY:Tuesday Night Free Trivia
DESCRIPTION:Tuesday Night Free Trivia with Steamboat Trivia starts at 7PM EVERY TUESDAY at the press in downtown Steamboat Springs\, Colorado. Come think\, drink\, and win fun prizes with friends!
URL:https://thepresssteamboat.com/musician/tuesday-free-trivia-2/2027-05-18/
LOCATION:The Press Steamboat\, 1009 Lincoln Ave\, Steamboat Springs\, CO\, 80487\, United States
CATEGORIES:Trivia
ATTACH;FMTTYPE=image/jpeg:https://thepresssteamboat.com/wp-content/uploads/2023/01/Trivia-Repeater-scaled-e1694716589766.jpeg
END:VEVENT
BEGIN:VEVENT
DTSTART;TZID=America/Denver:20270519T180000
DTEND;TZID=America/Denver:20270519T180000
DTSTAMP:20260421T115908
CREATED:20260128T205723Z
LAST-MODIFIED:20260128T211219Z
UID:10001816-1810749600-1810749600@thepresssteamboat.com
SUMMARY:Singo! Music Bingo
DESCRIPTION:Ready for a midweek pick-me-up? Join us at the press for Singo Music Bingo every Wednesday at 6 PM! Sip on your favorite drinks\, groove to classic tunes\, and enjoy a night of good vibes. Plus\, you might just walk away with some awesome prizes!
URL:https://thepresssteamboat.com/musician/singo-2/2027-05-19/
LOCATION:The Press Steamboat\, 1009 Lincoln Ave\, Steamboat Springs\, CO\, 80487\, United States
CATEGORIES:Trivia
ATTACH;FMTTYPE=image/png:https://thepresssteamboat.com/wp-content/uploads/2024/09/Singo-Event-Picture.png
END:VEVENT
BEGIN:VEVENT
DTSTART;TZID=America/Denver:20270525T190000
DTEND;TZID=America/Denver:20270525T190000
DTSTAMP:20260421T115908
CREATED:20260128T204244Z
LAST-MODIFIED:20260128T210139Z
UID:10002426-1811271600-1811271600@thepresssteamboat.com
SUMMARY:Tuesday Night Free Trivia
DESCRIPTION:Tuesday Night Free Trivia with Steamboat Trivia starts at 7PM EVERY TUESDAY at the press in downtown Steamboat Springs\, Colorado. Come think\, drink\, and win fun prizes with friends!
URL:https://thepresssteamboat.com/musician/tuesday-free-trivia-2/2027-05-25/
LOCATION:The Press Steamboat\, 1009 Lincoln Ave\, Steamboat Springs\, CO\, 80487\, United States
CATEGORIES:Trivia
ATTACH;FMTTYPE=image/jpeg:https://thepresssteamboat.com/wp-content/uploads/2023/01/Trivia-Repeater-scaled-e1694716589766.jpeg
END:VEVENT
BEGIN:VEVENT
DTSTART;TZID=America/Denver:20270526T180000
DTEND;TZID=America/Denver:20270526T180000
DTSTAMP:20260421T115908
CREATED:20260128T205723Z
LAST-MODIFIED:20260128T211219Z
UID:10001817-1811354400-1811354400@thepresssteamboat.com
SUMMARY:Singo! Music Bingo
DESCRIPTION:Ready for a midweek pick-me-up? Join us at the press for Singo Music Bingo every Wednesday at 6 PM! Sip on your favorite drinks\, groove to classic tunes\, and enjoy a night of good vibes. Plus\, you might just walk away with some awesome prizes!
URL:https://thepresssteamboat.com/musician/singo-2/2027-05-26/
LOCATION:The Press Steamboat\, 1009 Lincoln Ave\, Steamboat Springs\, CO\, 80487\, United States
CATEGORIES:Trivia
ATTACH;FMTTYPE=image/png:https://thepresssteamboat.com/wp-content/uploads/2024/09/Singo-Event-Picture.png
END:VEVENT
BEGIN:VEVENT
DTSTART;TZID=America/Denver:20270601T190000
DTEND;TZID=America/Denver:20270601T190000
DTSTAMP:20260421T115908
CREATED:20260128T204244Z
LAST-MODIFIED:20260128T210139Z
UID:10002427-1811876400-1811876400@thepresssteamboat.com
SUMMARY:Tuesday Night Free Trivia
DESCRIPTION:Tuesday Night Free Trivia with Steamboat Trivia starts at 7PM EVERY TUESDAY at the press in downtown Steamboat Springs\, Colorado. Come think\, drink\, and win fun prizes with friends!
URL:https://thepresssteamboat.com/musician/tuesday-free-trivia-2/2027-06-01/
LOCATION:The Press Steamboat\, 1009 Lincoln Ave\, Steamboat Springs\, CO\, 80487\, United States
CATEGORIES:Trivia
ATTACH;FMTTYPE=image/jpeg:https://thepresssteamboat.com/wp-content/uploads/2023/01/Trivia-Repeater-scaled-e1694716589766.jpeg
END:VEVENT
BEGIN:VEVENT
DTSTART;TZID=America/Denver:20270602T180000
DTEND;TZID=America/Denver:20270602T180000
DTSTAMP:20260421T115908
CREATED:20260128T205723Z
LAST-MODIFIED:20260128T211219Z
UID:10001818-1811959200-1811959200@thepresssteamboat.com
SUMMARY:Singo! Music Bingo
DESCRIPTION:Ready for a midweek pick-me-up? Join us at the press for Singo Music Bingo every Wednesday at 6 PM! Sip on your favorite drinks\, groove to classic tunes\, and enjoy a night of good vibes. Plus\, you might just walk away with some awesome prizes!
URL:https://thepresssteamboat.com/musician/singo-2/2027-06-02/
LOCATION:The Press Steamboat\, 1009 Lincoln Ave\, Steamboat Springs\, CO\, 80487\, United States
CATEGORIES:Trivia
ATTACH;FMTTYPE=image/png:https://thepresssteamboat.com/wp-content/uploads/2024/09/Singo-Event-Picture.png
END:VEVENT
BEGIN:VEVENT
DTSTART;TZID=America/Denver:20270608T190000
DTEND;TZID=America/Denver:20270608T190000
DTSTAMP:20260421T115908
CREATED:20260128T204244Z
LAST-MODIFIED:20260128T210139Z
UID:10002428-1812481200-1812481200@thepresssteamboat.com
SUMMARY:Tuesday Night Free Trivia
DESCRIPTION:Tuesday Night Free Trivia with Steamboat Trivia starts at 7PM EVERY TUESDAY at the press in downtown Steamboat Springs\, Colorado. Come think\, drink\, and win fun prizes with friends!
URL:https://thepresssteamboat.com/musician/tuesday-free-trivia-2/2027-06-08/
LOCATION:The Press Steamboat\, 1009 Lincoln Ave\, Steamboat Springs\, CO\, 80487\, United States
CATEGORIES:Trivia
ATTACH;FMTTYPE=image/jpeg:https://thepresssteamboat.com/wp-content/uploads/2023/01/Trivia-Repeater-scaled-e1694716589766.jpeg
END:VEVENT
BEGIN:VEVENT
DTSTART;TZID=America/Denver:20270609T180000
DTEND;TZID=America/Denver:20270609T180000
DTSTAMP:20260421T115908
CREATED:20260128T205723Z
LAST-MODIFIED:20260128T211219Z
UID:10001819-1812564000-1812564000@thepresssteamboat.com
SUMMARY:Singo! Music Bingo
DESCRIPTION:Ready for a midweek pick-me-up? Join us at the press for Singo Music Bingo every Wednesday at 6 PM! Sip on your favorite drinks\, groove to classic tunes\, and enjoy a night of good vibes. Plus\, you might just walk away with some awesome prizes!
URL:https://thepresssteamboat.com/musician/singo-2/2027-06-09/
LOCATION:The Press Steamboat\, 1009 Lincoln Ave\, Steamboat Springs\, CO\, 80487\, United States
CATEGORIES:Trivia
ATTACH;FMTTYPE=image/png:https://thepresssteamboat.com/wp-content/uploads/2024/09/Singo-Event-Picture.png
END:VEVENT
BEGIN:VEVENT
DTSTART;TZID=America/Denver:20270615T190000
DTEND;TZID=America/Denver:20270615T190000
DTSTAMP:20260421T115908
CREATED:20260128T204244Z
LAST-MODIFIED:20260128T210139Z
UID:10002429-1813086000-1813086000@thepresssteamboat.com
SUMMARY:Tuesday Night Free Trivia
DESCRIPTION:Tuesday Night Free Trivia with Steamboat Trivia starts at 7PM EVERY TUESDAY at the press in downtown Steamboat Springs\, Colorado. Come think\, drink\, and win fun prizes with friends!
URL:https://thepresssteamboat.com/musician/tuesday-free-trivia-2/2027-06-15/
LOCATION:The Press Steamboat\, 1009 Lincoln Ave\, Steamboat Springs\, CO\, 80487\, United States
CATEGORIES:Trivia
ATTACH;FMTTYPE=image/jpeg:https://thepresssteamboat.com/wp-content/uploads/2023/01/Trivia-Repeater-scaled-e1694716589766.jpeg
END:VEVENT
BEGIN:VEVENT
DTSTART;TZID=America/Denver:20270616T180000
DTEND;TZID=America/Denver:20270616T180000
DTSTAMP:20260421T115908
CREATED:20260128T205723Z
LAST-MODIFIED:20260128T211219Z
UID:10001820-1813168800-1813168800@thepresssteamboat.com
SUMMARY:Singo! Music Bingo
DESCRIPTION:Ready for a midweek pick-me-up? Join us at the press for Singo Music Bingo every Wednesday at 6 PM! Sip on your favorite drinks\, groove to classic tunes\, and enjoy a night of good vibes. Plus\, you might just walk away with some awesome prizes!
URL:https://thepresssteamboat.com/musician/singo-2/2027-06-16/
LOCATION:The Press Steamboat\, 1009 Lincoln Ave\, Steamboat Springs\, CO\, 80487\, United States
CATEGORIES:Trivia
ATTACH;FMTTYPE=image/png:https://thepresssteamboat.com/wp-content/uploads/2024/09/Singo-Event-Picture.png
END:VEVENT
BEGIN:VEVENT
DTSTART;TZID=America/Denver:20270622T190000
DTEND;TZID=America/Denver:20270622T190000
DTSTAMP:20260421T115908
CREATED:20260128T204244Z
LAST-MODIFIED:20260128T210139Z
UID:10002430-1813690800-1813690800@thepresssteamboat.com
SUMMARY:Tuesday Night Free Trivia
DESCRIPTION:Tuesday Night Free Trivia with Steamboat Trivia starts at 7PM EVERY TUESDAY at the press in downtown Steamboat Springs\, Colorado. Come think\, drink\, and win fun prizes with friends!
URL:https://thepresssteamboat.com/musician/tuesday-free-trivia-2/2027-06-22/
LOCATION:The Press Steamboat\, 1009 Lincoln Ave\, Steamboat Springs\, CO\, 80487\, United States
CATEGORIES:Trivia
ATTACH;FMTTYPE=image/jpeg:https://thepresssteamboat.com/wp-content/uploads/2023/01/Trivia-Repeater-scaled-e1694716589766.jpeg
END:VEVENT
BEGIN:VEVENT
DTSTART;TZID=America/Denver:20270623T180000
DTEND;TZID=America/Denver:20270623T180000
DTSTAMP:20260421T115908
CREATED:20260128T205723Z
LAST-MODIFIED:20260128T211219Z
UID:10001821-1813773600-1813773600@thepresssteamboat.com
SUMMARY:Singo! Music Bingo
DESCRIPTION:Ready for a midweek pick-me-up? Join us at the press for Singo Music Bingo every Wednesday at 6 PM! Sip on your favorite drinks\, groove to classic tunes\, and enjoy a night of good vibes. Plus\, you might just walk away with some awesome prizes!
URL:https://thepresssteamboat.com/musician/singo-2/2027-06-23/
LOCATION:The Press Steamboat\, 1009 Lincoln Ave\, Steamboat Springs\, CO\, 80487\, United States
CATEGORIES:Trivia
ATTACH;FMTTYPE=image/png:https://thepresssteamboat.com/wp-content/uploads/2024/09/Singo-Event-Picture.png
END:VEVENT
BEGIN:VEVENT
DTSTART;TZID=America/Denver:20270629T190000
DTEND;TZID=America/Denver:20270629T190000
DTSTAMP:20260421T115908
CREATED:20260128T204244Z
LAST-MODIFIED:20260128T210139Z
UID:10002431-1814295600-1814295600@thepresssteamboat.com
SUMMARY:Tuesday Night Free Trivia
DESCRIPTION:Tuesday Night Free Trivia with Steamboat Trivia starts at 7PM EVERY TUESDAY at the press in downtown Steamboat Springs\, Colorado. Come think\, drink\, and win fun prizes with friends!
URL:https://thepresssteamboat.com/musician/tuesday-free-trivia-2/2027-06-29/
LOCATION:The Press Steamboat\, 1009 Lincoln Ave\, Steamboat Springs\, CO\, 80487\, United States
CATEGORIES:Trivia
ATTACH;FMTTYPE=image/jpeg:https://thepresssteamboat.com/wp-content/uploads/2023/01/Trivia-Repeater-scaled-e1694716589766.jpeg
END:VEVENT
BEGIN:VEVENT
DTSTART;TZID=America/Denver:20270630T180000
DTEND;TZID=America/Denver:20270630T180000
DTSTAMP:20260421T115908
CREATED:20260128T205723Z
LAST-MODIFIED:20260128T211219Z
UID:10001822-1814378400-1814378400@thepresssteamboat.com
SUMMARY:Singo! Music Bingo
DESCRIPTION:Ready for a midweek pick-me-up? Join us at the press for Singo Music Bingo every Wednesday at 6 PM! Sip on your favorite drinks\, groove to classic tunes\, and enjoy a night of good vibes. Plus\, you might just walk away with some awesome prizes!
URL:https://thepresssteamboat.com/musician/singo-2/2027-06-30/
LOCATION:The Press Steamboat\, 1009 Lincoln Ave\, Steamboat Springs\, CO\, 80487\, United States
CATEGORIES:Trivia
ATTACH;FMTTYPE=image/png:https://thepresssteamboat.com/wp-content/uploads/2024/09/Singo-Event-Picture.png
END:VEVENT
BEGIN:VEVENT
DTSTART;TZID=America/Denver:20270706T190000
DTEND;TZID=America/Denver:20270706T190000
DTSTAMP:20260421T115908
CREATED:20260128T204244Z
LAST-MODIFIED:20260128T210139Z
UID:10002432-1814900400-1814900400@thepresssteamboat.com
SUMMARY:Tuesday Night Free Trivia
DESCRIPTION:Tuesday Night Free Trivia with Steamboat Trivia starts at 7PM EVERY TUESDAY at the press in downtown Steamboat Springs\, Colorado. Come think\, drink\, and win fun prizes with friends!
URL:https://thepresssteamboat.com/musician/tuesday-free-trivia-2/2027-07-06/
LOCATION:The Press Steamboat\, 1009 Lincoln Ave\, Steamboat Springs\, CO\, 80487\, United States
CATEGORIES:Trivia
ATTACH;FMTTYPE=image/jpeg:https://thepresssteamboat.com/wp-content/uploads/2023/01/Trivia-Repeater-scaled-e1694716589766.jpeg
END:VEVENT
BEGIN:VEVENT
DTSTART;TZID=America/Denver:20270707T180000
DTEND;TZID=America/Denver:20270707T180000
DTSTAMP:20260421T115908
CREATED:20260128T205723Z
LAST-MODIFIED:20260128T211219Z
UID:10001823-1814983200-1814983200@thepresssteamboat.com
SUMMARY:Singo! Music Bingo
DESCRIPTION:Ready for a midweek pick-me-up? Join us at the press for Singo Music Bingo every Wednesday at 6 PM! Sip on your favorite drinks\, groove to classic tunes\, and enjoy a night of good vibes. Plus\, you might just walk away with some awesome prizes!
URL:https://thepresssteamboat.com/musician/singo-2/2027-07-07/
LOCATION:The Press Steamboat\, 1009 Lincoln Ave\, Steamboat Springs\, CO\, 80487\, United States
CATEGORIES:Trivia
ATTACH;FMTTYPE=image/png:https://thepresssteamboat.com/wp-content/uploads/2024/09/Singo-Event-Picture.png
END:VEVENT
BEGIN:VEVENT
DTSTART;TZID=America/Denver:20270713T190000
DTEND;TZID=America/Denver:20270713T190000
DTSTAMP:20260421T115908
CREATED:20260128T204244Z
LAST-MODIFIED:20260128T210139Z
UID:10002433-1815505200-1815505200@thepresssteamboat.com
SUMMARY:Tuesday Night Free Trivia
DESCRIPTION:Tuesday Night Free Trivia with Steamboat Trivia starts at 7PM EVERY TUESDAY at the press in downtown Steamboat Springs\, Colorado. Come think\, drink\, and win fun prizes with friends!
URL:https://thepresssteamboat.com/musician/tuesday-free-trivia-2/2027-07-13/
LOCATION:The Press Steamboat\, 1009 Lincoln Ave\, Steamboat Springs\, CO\, 80487\, United States
CATEGORIES:Trivia
ATTACH;FMTTYPE=image/jpeg:https://thepresssteamboat.com/wp-content/uploads/2023/01/Trivia-Repeater-scaled-e1694716589766.jpeg
END:VEVENT
BEGIN:VEVENT
DTSTART;TZID=America/Denver:20270714T180000
DTEND;TZID=America/Denver:20270714T180000
DTSTAMP:20260421T115908
CREATED:20260128T205723Z
LAST-MODIFIED:20260128T211219Z
UID:10001824-1815588000-1815588000@thepresssteamboat.com
SUMMARY:Singo! Music Bingo
DESCRIPTION:Ready for a midweek pick-me-up? Join us at the press for Singo Music Bingo every Wednesday at 6 PM! Sip on your favorite drinks\, groove to classic tunes\, and enjoy a night of good vibes. Plus\, you might just walk away with some awesome prizes!
URL:https://thepresssteamboat.com/musician/singo-2/2027-07-14/
LOCATION:The Press Steamboat\, 1009 Lincoln Ave\, Steamboat Springs\, CO\, 80487\, United States
CATEGORIES:Trivia
ATTACH;FMTTYPE=image/png:https://thepresssteamboat.com/wp-content/uploads/2024/09/Singo-Event-Picture.png
END:VEVENT
BEGIN:VEVENT
DTSTART;TZID=America/Denver:20270720T190000
DTEND;TZID=America/Denver:20270720T190000
DTSTAMP:20260421T115908
CREATED:20260128T204244Z
LAST-MODIFIED:20260128T210139Z
UID:10002434-1816110000-1816110000@thepresssteamboat.com
SUMMARY:Tuesday Night Free Trivia
DESCRIPTION:Tuesday Night Free Trivia with Steamboat Trivia starts at 7PM EVERY TUESDAY at the press in downtown Steamboat Springs\, Colorado. Come think\, drink\, and win fun prizes with friends!
URL:https://thepresssteamboat.com/musician/tuesday-free-trivia-2/2027-07-20/
LOCATION:The Press Steamboat\, 1009 Lincoln Ave\, Steamboat Springs\, CO\, 80487\, United States
CATEGORIES:Trivia
ATTACH;FMTTYPE=image/jpeg:https://thepresssteamboat.com/wp-content/uploads/2023/01/Trivia-Repeater-scaled-e1694716589766.jpeg
END:VEVENT
BEGIN:VEVENT
DTSTART;TZID=America/Denver:20270721T180000
DTEND;TZID=America/Denver:20270721T180000
DTSTAMP:20260421T115908
CREATED:20260128T205723Z
LAST-MODIFIED:20260128T211219Z
UID:10001825-1816192800-1816192800@thepresssteamboat.com
SUMMARY:Singo! Music Bingo
DESCRIPTION:Ready for a midweek pick-me-up? Join us at the press for Singo Music Bingo every Wednesday at 6 PM! Sip on your favorite drinks\, groove to classic tunes\, and enjoy a night of good vibes. Plus\, you might just walk away with some awesome prizes!
URL:https://thepresssteamboat.com/musician/singo-2/2027-07-21/
LOCATION:The Press Steamboat\, 1009 Lincoln Ave\, Steamboat Springs\, CO\, 80487\, United States
CATEGORIES:Trivia
ATTACH;FMTTYPE=image/png:https://thepresssteamboat.com/wp-content/uploads/2024/09/Singo-Event-Picture.png
END:VEVENT
BEGIN:VEVENT
DTSTART;TZID=America/Denver:20270727T190000
DTEND;TZID=America/Denver:20270727T190000
DTSTAMP:20260421T115908
CREATED:20260128T204244Z
LAST-MODIFIED:20260128T210139Z
UID:10002435-1816714800-1816714800@thepresssteamboat.com
SUMMARY:Tuesday Night Free Trivia
DESCRIPTION:Tuesday Night Free Trivia with Steamboat Trivia starts at 7PM EVERY TUESDAY at the press in downtown Steamboat Springs\, Colorado. Come think\, drink\, and win fun prizes with friends!
URL:https://thepresssteamboat.com/musician/tuesday-free-trivia-2/2027-07-27/
LOCATION:The Press Steamboat\, 1009 Lincoln Ave\, Steamboat Springs\, CO\, 80487\, United States
CATEGORIES:Trivia
ATTACH;FMTTYPE=image/jpeg:https://thepresssteamboat.com/wp-content/uploads/2023/01/Trivia-Repeater-scaled-e1694716589766.jpeg
END:VEVENT
BEGIN:VEVENT
DTSTART;TZID=America/Denver:20270728T180000
DTEND;TZID=America/Denver:20270728T180000
DTSTAMP:20260421T115908
CREATED:20260128T205723Z
LAST-MODIFIED:20260128T211219Z
UID:10001826-1816797600-1816797600@thepresssteamboat.com
SUMMARY:Singo! Music Bingo
DESCRIPTION:Ready for a midweek pick-me-up? Join us at the press for Singo Music Bingo every Wednesday at 6 PM! Sip on your favorite drinks\, groove to classic tunes\, and enjoy a night of good vibes. Plus\, you might just walk away with some awesome prizes!
URL:https://thepresssteamboat.com/musician/singo-2/2027-07-28/
LOCATION:The Press Steamboat\, 1009 Lincoln Ave\, Steamboat Springs\, CO\, 80487\, United States
CATEGORIES:Trivia
ATTACH;FMTTYPE=image/png:https://thepresssteamboat.com/wp-content/uploads/2024/09/Singo-Event-Picture.png
END:VEVENT
BEGIN:VEVENT
DTSTART;VALUE=DATE:20270802
DTEND;VALUE=DATE:20270814
DTSTAMP:20260421T115908
CREATED:20251124T235631Z
LAST-MODIFIED:20251124T235711Z
UID:10002231-1817164800-1818201599@thepresssteamboat.com
SUMMARY:CLOSED
DESCRIPTION:the press will be closed for the holiday.
URL:https://thepresssteamboat.com/musician/closed-4/
LOCATION:The Press Steamboat\, 1009 Lincoln Ave\, Steamboat Springs\, CO\, 80487\, United States
ATTACH;FMTTYPE=image/jpeg:https://thepresssteamboat.com/wp-content/uploads/2023/04/tim-mossholder-y0_je0DHS78-unsplash-scaled.jpg
END:VEVENT
BEGIN:VEVENT
DTSTART;TZID=America/Denver:20270803T190000
DTEND;TZID=America/Denver:20270803T190000
DTSTAMP:20260421T115908
CREATED:20260128T204244Z
LAST-MODIFIED:20260128T210139Z
UID:10002436-1817319600-1817319600@thepresssteamboat.com
SUMMARY:Tuesday Night Free Trivia
DESCRIPTION:Tuesday Night Free Trivia with Steamboat Trivia starts at 7PM EVERY TUESDAY at the press in downtown Steamboat Springs\, Colorado. Come think\, drink\, and win fun prizes with friends!
URL:https://thepresssteamboat.com/musician/tuesday-free-trivia-2/2027-08-03/
LOCATION:The Press Steamboat\, 1009 Lincoln Ave\, Steamboat Springs\, CO\, 80487\, United States
CATEGORIES:Trivia
ATTACH;FMTTYPE=image/jpeg:https://thepresssteamboat.com/wp-content/uploads/2023/01/Trivia-Repeater-scaled-e1694716589766.jpeg
END:VEVENT
BEGIN:VEVENT
DTSTART;TZID=America/Denver:20270804T180000
DTEND;TZID=America/Denver:20270804T180000
DTSTAMP:20260421T115908
CREATED:20260128T205723Z
LAST-MODIFIED:20260128T211219Z
UID:10001827-1817402400-1817402400@thepresssteamboat.com
SUMMARY:Singo! Music Bingo
DESCRIPTION:Ready for a midweek pick-me-up? Join us at the press for Singo Music Bingo every Wednesday at 6 PM! Sip on your favorite drinks\, groove to classic tunes\, and enjoy a night of good vibes. Plus\, you might just walk away with some awesome prizes!
URL:https://thepresssteamboat.com/musician/singo-2/2027-08-04/
LOCATION:The Press Steamboat\, 1009 Lincoln Ave\, Steamboat Springs\, CO\, 80487\, United States
CATEGORIES:Trivia
ATTACH;FMTTYPE=image/png:https://thepresssteamboat.com/wp-content/uploads/2024/09/Singo-Event-Picture.png
END:VEVENT
BEGIN:VEVENT
DTSTART;TZID=America/Denver:20270810T190000
DTEND;TZID=America/Denver:20270810T190000
DTSTAMP:20260421T115908
CREATED:20260128T204244Z
LAST-MODIFIED:20260128T210139Z
UID:10002437-1817924400-1817924400@thepresssteamboat.com
SUMMARY:Tuesday Night Free Trivia
DESCRIPTION:Tuesday Night Free Trivia with Steamboat Trivia starts at 7PM EVERY TUESDAY at the press in downtown Steamboat Springs\, Colorado. Come think\, drink\, and win fun prizes with friends!
URL:https://thepresssteamboat.com/musician/tuesday-free-trivia-2/2027-08-10/
LOCATION:The Press Steamboat\, 1009 Lincoln Ave\, Steamboat Springs\, CO\, 80487\, United States
CATEGORIES:Trivia
ATTACH;FMTTYPE=image/jpeg:https://thepresssteamboat.com/wp-content/uploads/2023/01/Trivia-Repeater-scaled-e1694716589766.jpeg
END:VEVENT
BEGIN:VEVENT
DTSTART;TZID=America/Denver:20270811T180000
DTEND;TZID=America/Denver:20270811T180000
DTSTAMP:20260421T115908
CREATED:20260128T205723Z
LAST-MODIFIED:20260128T211219Z
UID:10001828-1818007200-1818007200@thepresssteamboat.com
SUMMARY:Singo! Music Bingo
DESCRIPTION:Ready for a midweek pick-me-up? Join us at the press for Singo Music Bingo every Wednesday at 6 PM! Sip on your favorite drinks\, groove to classic tunes\, and enjoy a night of good vibes. Plus\, you might just walk away with some awesome prizes!
URL:https://thepresssteamboat.com/musician/singo-2/2027-08-11/
LOCATION:The Press Steamboat\, 1009 Lincoln Ave\, Steamboat Springs\, CO\, 80487\, United States
CATEGORIES:Trivia
ATTACH;FMTTYPE=image/png:https://thepresssteamboat.com/wp-content/uploads/2024/09/Singo-Event-Picture.png
END:VEVENT
BEGIN:VEVENT
DTSTART;TZID=America/Denver:20270817T190000
DTEND;TZID=America/Denver:20270817T190000
DTSTAMP:20260421T115908
CREATED:20260128T204244Z
LAST-MODIFIED:20260128T210139Z
UID:10002438-1818529200-1818529200@thepresssteamboat.com
SUMMARY:Tuesday Night Free Trivia
DESCRIPTION:Tuesday Night Free Trivia with Steamboat Trivia starts at 7PM EVERY TUESDAY at the press in downtown Steamboat Springs\, Colorado. Come think\, drink\, and win fun prizes with friends!
URL:https://thepresssteamboat.com/musician/tuesday-free-trivia-2/2027-08-17/
LOCATION:The Press Steamboat\, 1009 Lincoln Ave\, Steamboat Springs\, CO\, 80487\, United States
CATEGORIES:Trivia
ATTACH;FMTTYPE=image/jpeg:https://thepresssteamboat.com/wp-content/uploads/2023/01/Trivia-Repeater-scaled-e1694716589766.jpeg
END:VEVENT
BEGIN:VEVENT
DTSTART;TZID=America/Denver:20270818T180000
DTEND;TZID=America/Denver:20270818T180000
DTSTAMP:20260421T115908
CREATED:20260128T205723Z
LAST-MODIFIED:20260128T211219Z
UID:10001829-1818612000-1818612000@thepresssteamboat.com
SUMMARY:Singo! Music Bingo
DESCRIPTION:Ready for a midweek pick-me-up? Join us at the press for Singo Music Bingo every Wednesday at 6 PM! Sip on your favorite drinks\, groove to classic tunes\, and enjoy a night of good vibes. Plus\, you might just walk away with some awesome prizes!
URL:https://thepresssteamboat.com/musician/singo-2/2027-08-18/
LOCATION:The Press Steamboat\, 1009 Lincoln Ave\, Steamboat Springs\, CO\, 80487\, United States
CATEGORIES:Trivia
ATTACH;FMTTYPE=image/png:https://thepresssteamboat.com/wp-content/uploads/2024/09/Singo-Event-Picture.png
END:VEVENT
END:VCALENDAR