BEGIN:VCALENDAR
VERSION:2.0
PRODID:-//the press. - ECPv6.15.20//NONSGML v1.0//EN
CALSCALE:GREGORIAN
METHOD:PUBLISH
X-ORIGINAL-URL:https://thepresssteamboat.com
X-WR-CALDESC:Events for the press.
REFRESH-INTERVAL;VALUE=DURATION:PT1H
X-Robots-Tag:noindex
X-PUBLISHED-TTL:PT1H
BEGIN:VTIMEZONE
TZID:America/Denver
BEGIN:DAYLIGHT
TZOFFSETFROM:-0700
TZOFFSETTO:-0600
TZNAME:MDT
DTSTART:20240310T090000
END:DAYLIGHT
BEGIN:STANDARD
TZOFFSETFROM:-0600
TZOFFSETTO:-0700
TZNAME:MST
DTSTART:20241103T080000
END:STANDARD
BEGIN:DAYLIGHT
TZOFFSETFROM:-0700
TZOFFSETTO:-0600
TZNAME:MDT
DTSTART:20250309T090000
END:DAYLIGHT
BEGIN:STANDARD
TZOFFSETFROM:-0600
TZOFFSETTO:-0700
TZNAME:MST
DTSTART:20251102T080000
END:STANDARD
BEGIN:DAYLIGHT
TZOFFSETFROM:-0700
TZOFFSETTO:-0600
TZNAME:MDT
DTSTART:20260308T090000
END:DAYLIGHT
BEGIN:STANDARD
TZOFFSETFROM:-0600
TZOFFSETTO:-0700
TZNAME:MST
DTSTART:20261101T080000
END:STANDARD
END:VTIMEZONE
BEGIN:VEVENT
DTSTART;TZID=America/Denver:20250515T200000
DTEND;TZID=America/Denver:20250515T200000
DTSTAMP:20260424T211818
CREATED:20250519T033211Z
LAST-MODIFIED:20250519T033211Z
UID:10002108-1747339200-1747339200@thepresssteamboat.com
SUMMARY:JR Adams
DESCRIPTION:JR Adams is a Colorado-based singer-songwriter and guitarist known for his heartfelt storytelling\, soulful vocals\, and a dynamic blend of Americana\, folk rock\, and blues. Rooted in the vibrant music scene of Steamboat Springs\, Adams has spent over a decade honing his craft onstage—both as a solo artist and frontman for several beloved local bands\, like Yer State Birds and Heads All Empty.
URL:https://thepresssteamboat.com/musician/jr-adams-2/
LOCATION:The Press Steamboat\, 1009 Lincoln Ave\, Steamboat Springs\, CO\, 80487\, United States
CATEGORIES:live music
ATTACH;FMTTYPE=image/jpeg:https://thepresssteamboat.com/wp-content/uploads/2022/12/JR-Adams-pic-e1672625080331.jpeg
END:VEVENT
BEGIN:VEVENT
DTSTART;TZID=America/Denver:20250516T200000
DTEND;TZID=America/Denver:20250516T200000
DTSTAMP:20260424T211818
CREATED:20250511T224232Z
LAST-MODIFIED:20250519T033414Z
UID:10002107-1747425600-1747425600@thepresssteamboat.com
SUMMARY:Heads All Empty
DESCRIPTION:Join us with local band\, Heads All Empty\, as they cover the esteemed Grateful Dead! Featuring John Miller on keys\, Willie Samuelson on bass\, Job Gibbs on guitar\, Gabe Hedstrom on drums\, and JR Adams on guitar and vocals!
URL:https://thepresssteamboat.com/musician/heads-all-empty-3/
LOCATION:The Press Steamboat\, 1009 Lincoln Ave\, Steamboat Springs\, CO\, 80487\, United States
CATEGORIES:live music
ATTACH;FMTTYPE=image/jpeg:https://thepresssteamboat.com/wp-content/uploads/2025/05/Heads-All-Empty-51625-scaled-e1771625894300.jpg
END:VEVENT
BEGIN:VEVENT
DTSTART;TZID=America/Denver:20250517T200000
DTEND;TZID=America/Denver:20250517T200000
DTSTAMP:20260424T211818
CREATED:20250409T201202Z
LAST-MODIFIED:20250511T224130Z
UID:10002055-1747512000-1747512000@thepresssteamboat.com
SUMMARY:Big John & JR Adams
DESCRIPTION:Shakin’ it down with local legends JR Adams and Big John from Yer State Birds and Heads All Empty!
URL:https://thepresssteamboat.com/musician/john-jr/
LOCATION:The Press Steamboat\, 1009 Lincoln Ave\, Steamboat Springs\, CO\, 80487\, United States
CATEGORIES:live music
ATTACH;FMTTYPE=image/jpeg:https://thepresssteamboat.com/wp-content/uploads/2025/01/107053735_3181783638523302_7172760555765807411_n.jpg
END:VEVENT
BEGIN:VEVENT
DTSTART;TZID=America/Denver:20250520T190000
DTEND;TZID=America/Denver:20250520T190000
DTSTAMP:20260424T211818
CREATED:20230102T015256Z
LAST-MODIFIED:20250109T193428Z
UID:10001973-1747767600-1747767600@thepresssteamboat.com
SUMMARY:Tuesday Night Free Trivia
DESCRIPTION:Tuesday Night Free Trivia with Steamboat Trivia starts at 7PM EVERY TUESDAY at the press in downtown Steamboat Springs\, Colorado. Come think\, drink\, and win fun prizes with friends!
URL:https://thepresssteamboat.com/musician/tuesday-free-trivia/2025-05-20/
LOCATION:The Press Steamboat\, 1009 Lincoln Ave\, Steamboat Springs\, CO\, 80487\, United States
CATEGORIES:Trivia
ATTACH;FMTTYPE=image/jpeg:https://thepresssteamboat.com/wp-content/uploads/2023/01/Trivia-Repeater-scaled-e1694716589766.jpeg
END:VEVENT
BEGIN:VEVENT
DTSTART;TZID=America/Denver:20250521T180000
DTEND;TZID=America/Denver:20250521T190000
DTSTAMP:20260424T211818
CREATED:20250104T182659Z
LAST-MODIFIED:20251207T230725Z
UID:10001712-1747850400-1747854000@thepresssteamboat.com
SUMMARY:Singo! Music Bingo
DESCRIPTION:Ready for a midweek pick-me-up? Join us at the press for Singo Music Bingo every Wednesday at 6 PM! Sip on your favorite drinks\, groove to classic tunes\, and enjoy a night of good vibes. Plus\, you might just walk away with some awesome prizes!
URL:https://thepresssteamboat.com/musician/singo/2025-05-21/
LOCATION:The Press Steamboat\, 1009 Lincoln Ave\, Steamboat Springs\, CO\, 80487\, United States
CATEGORIES:Trivia
ATTACH;FMTTYPE=image/png:https://thepresssteamboat.com/wp-content/uploads/2024/09/Singo-Event-Picture.png
END:VEVENT
BEGIN:VEVENT
DTSTART;TZID=America/Denver:20250521T200000
DTEND;TZID=America/Denver:20250521T200000
DTSTAMP:20260424T211818
CREATED:20250519T034247Z
LAST-MODIFIED:20250519T034247Z
UID:10002109-1747857600-1747857600@thepresssteamboat.com
SUMMARY:Steamboat Comedy's Mud Season Special
DESCRIPTION:Steamboat Comedy’s Mud Season Special at The Press! \nCome join us for a night of laughter at The Press! It’s our Mud Season Special event hosted by Steamboat Comedy\, Featuring Speical Guest Headliner Rio Hillman! Born in Chicago raised in WI\, Rio Hillman arrived on the comedy scene over a decade ago. With his Midwestern charm & like ability he brings the audience into his world punchline by punchline. He believes that subtlety and timing are key principals to building a crowd up to the punch line. To him\, it’s nothing new to find humor throughout the stress of everyday life. His comedy has been seen through the Midwest as well as up and down the West Coast.
URL:https://thepresssteamboat.com/musician/steamboat-comedys-mud-season-special/
LOCATION:The Press Steamboat\, 1009 Lincoln Ave\, Steamboat Springs\, CO\, 80487\, United States
CATEGORIES:Comedy,live music
ATTACH;FMTTYPE=image/jpeg:https://thepresssteamboat.com/wp-content/uploads/2025/05/Steamboat-Comedy-Show.jpg
END:VEVENT
BEGIN:VEVENT
DTSTART;VALUE=DATE:20250522
DTEND;VALUE=DATE:20250527
DTSTAMP:20260424T211818
CREATED:20250409T201053Z
LAST-MODIFIED:20250409T201053Z
UID:10002054-1747872000-1748303999@thepresssteamboat.com
SUMMARY:CLOSED
DESCRIPTION:the press will be closed for the holiday.
URL:https://thepresssteamboat.com/musician/closed-3/2025-05-22/
LOCATION:The Press Steamboat\, 1009 Lincoln Ave\, Steamboat Springs\, CO\, 80487\, United States
ATTACH;FMTTYPE=image/jpeg:https://thepresssteamboat.com/wp-content/uploads/2023/04/tim-mossholder-y0_je0DHS78-unsplash-scaled.jpg
END:VEVENT
BEGIN:VEVENT
DTSTART;TZID=America/Denver:20250527T190000
DTEND;TZID=America/Denver:20250527T190000
DTSTAMP:20260424T211818
CREATED:20230102T015256Z
LAST-MODIFIED:20250109T193428Z
UID:10001974-1748372400-1748372400@thepresssteamboat.com
SUMMARY:Tuesday Night Free Trivia
DESCRIPTION:Tuesday Night Free Trivia with Steamboat Trivia starts at 7PM EVERY TUESDAY at the press in downtown Steamboat Springs\, Colorado. Come think\, drink\, and win fun prizes with friends!
URL:https://thepresssteamboat.com/musician/tuesday-free-trivia/2025-05-27/
LOCATION:The Press Steamboat\, 1009 Lincoln Ave\, Steamboat Springs\, CO\, 80487\, United States
CATEGORIES:Trivia
ATTACH;FMTTYPE=image/jpeg:https://thepresssteamboat.com/wp-content/uploads/2023/01/Trivia-Repeater-scaled-e1694716589766.jpeg
END:VEVENT
BEGIN:VEVENT
DTSTART;TZID=America/Denver:20250528T180000
DTEND;TZID=America/Denver:20250528T190000
DTSTAMP:20260424T211818
CREATED:20250104T182659Z
LAST-MODIFIED:20251207T230725Z
UID:10001713-1748455200-1748458800@thepresssteamboat.com
SUMMARY:Singo! Music Bingo
DESCRIPTION:Ready for a midweek pick-me-up? Join us at the press for Singo Music Bingo every Wednesday at 6 PM! Sip on your favorite drinks\, groove to classic tunes\, and enjoy a night of good vibes. Plus\, you might just walk away with some awesome prizes!
URL:https://thepresssteamboat.com/musician/singo/2025-05-28/
LOCATION:The Press Steamboat\, 1009 Lincoln Ave\, Steamboat Springs\, CO\, 80487\, United States
CATEGORIES:Trivia
ATTACH;FMTTYPE=image/png:https://thepresssteamboat.com/wp-content/uploads/2024/09/Singo-Event-Picture.png
END:VEVENT
BEGIN:VEVENT
DTSTART;TZID=America/Denver:20250528T200000
DTEND;TZID=America/Denver:20250528T200000
DTSTAMP:20260424T211818
CREATED:20250525T160717Z
LAST-MODIFIED:20250525T160717Z
UID:10002112-1748462400-1748462400@thepresssteamboat.com
SUMMARY:Joe Ghiglia
DESCRIPTION:Based in the heart of the Colorado Rockies\, Joe Ghiglia is a singer-songwriter and guitarist whose music is as authentic and rugged as the Steamboat Springs landscape he calls home. Blending Americana\, folk\, blues\, and roots rock\, Joe’s sound is steeped in soul and shaped by the mountain town spirit—unfiltered\, heartfelt\, and deeply human. \nA longtime staple of the Steamboat music scene\, Joe is known for his powerful live performances\, where his raw vocals\, dynamic guitar work\, and honest storytelling create a captivating connection with audiences. Whether performing solo or alongside other local talent\, Joe brings a timeless energy to the stage that echoes the rhythm of the Yampa Valley—laid back\, soulful\, and full of life. \nOver the years\, Joe has become a go-to name in local venues\, festivals\, and community events\, carving out a niche with his signature blend of original songwriting and carefully curated covers. His music reflects the high-country lifestyle: the winding roads\, quiet sunrises\, long winters\, and the deep bonds of a close-knit community. \nMore than just a musician\, Joe Ghiglia is a local voice—one who captures the heart of Steamboat Springs in every chord\, every lyric\, and every story he tells.
URL:https://thepresssteamboat.com/musician/joe-ghiglia-3/
LOCATION:The Press Steamboat\, 1009 Lincoln Ave\, Steamboat Springs\, CO\, 80487\, United States
CATEGORIES:live music
ATTACH;FMTTYPE=image/jpeg:https://thepresssteamboat.com/wp-content/uploads/2025/05/joe-1-e1748189214957.jpeg
END:VEVENT
BEGIN:VEVENT
DTSTART;TZID=America/Denver:20250529T200000
DTEND;TZID=America/Denver:20250529T200000
DTSTAMP:20260424T211818
CREATED:20250519T035528Z
LAST-MODIFIED:20250525T161157Z
UID:10002111-1748548800-1748548800@thepresssteamboat.com
SUMMARY:Hayley Berg
DESCRIPTION:Hayley Berg is a singer and guitarist based in Steamboat Springs\, Colorado. She is a core member of the local Americana and folk band Apple Pie Order\, and it’s sub-group: Apple Pie and a Guy\, featuring Hayley on vocals and guitar\, Xandria Gregory on bass and vocals\, and Kyle Kounovsky on percussion. Hayley’s musical style blends elements of acoustic pop\, country\, and indie\, delivering heartfelt performances that resonate with audiences. \nThe May 29th show will feature Hayley Berg as well as Maritza Soto\, a newer member of Apple Pie Order!
URL:https://thepresssteamboat.com/musician/hayley-berg-2/
LOCATION:The Press Steamboat\, 1009 Lincoln Ave\, Steamboat Springs\, CO\, 80487\, United States
CATEGORIES:live music
ATTACH;FMTTYPE=image/jpeg:https://thepresssteamboat.com/wp-content/uploads/2023/10/photo0-e1698021313662.jpg
END:VEVENT
BEGIN:VEVENT
DTSTART;TZID=America/Denver:20250530T200000
DTEND;TZID=America/Denver:20250530T200000
DTSTAMP:20260424T211818
CREATED:20250409T201713Z
LAST-MODIFIED:20250519T033534Z
UID:10002058-1748635200-1748635200@thepresssteamboat.com
SUMMARY:Ansel Foxley Solo
DESCRIPTION:Prominent Fort Collins musician\, Ansel from Ansel and the Brain Tattoos is coming back to the press! Featuring the songwriting of Ansel Foxley – this show is not to be missed!
URL:https://thepresssteamboat.com/musician/ansel-foxley-solo/
LOCATION:The Press Steamboat\, 1009 Lincoln Ave\, Steamboat Springs\, CO\, 80487\, United States
CATEGORIES:live music
ATTACH;FMTTYPE=image/jpeg:https://thepresssteamboat.com/wp-content/uploads/2025/04/ansel-horz.jpg
END:VEVENT
BEGIN:VEVENT
DTSTART;TZID=America/Denver:20250531T200000
DTEND;TZID=America/Denver:20250531T200000
DTSTAMP:20260424T211818
CREATED:20250519T035109Z
LAST-MODIFIED:20250519T035109Z
UID:10002110-1748721600-1748721600@thepresssteamboat.com
SUMMARY:Morningside String Band
DESCRIPTION:The Morningside String Band is based out of Steamboat Springs\, CO. The band formed in 2019 originally as an acoustic trio\, but they’ve since expanded to a 5 piece\, adding percussion and electric guitar\, though they still often play smaller venues as a trio. The current lineup includes: Craig Thornhill (acoustic guitar\, vocals) / Paul Geppert (mandolin and vocals) / Tim Cunningham (upright bass) / Courtney La Zier (electric guitar and vocals) and Gabe Hedstrom (drums/percussion/jokes). \nThe band tends to have an eclectic mix of songs in their live shows\, mixing originals and covers\, rooted in blues\, reggae\, bluegrass\, funk\, jam and rock. All the members of the band have lived in various parts of Colorado for decades and played in many other music projects over the years. The band’s sounds lends its self to live performances\, adapting their setlists and jams/arrangements to the energy of the crowds and venue. The band is known around Steamboat for playing festive outdoor gigs in the spring and summer.
URL:https://thepresssteamboat.com/musician/morningside-string-band-4/
LOCATION:CO
CATEGORIES:live music
ATTACH;FMTTYPE=image/jpeg:https://thepresssteamboat.com/wp-content/uploads/2023/01/MorningsideStringBand.jpeg
END:VEVENT
BEGIN:VEVENT
DTSTART;TZID=America/Denver:20250603T190000
DTEND;TZID=America/Denver:20250603T190000
DTSTAMP:20260424T211818
CREATED:20230102T015256Z
LAST-MODIFIED:20250109T193428Z
UID:10001975-1748977200-1748977200@thepresssteamboat.com
SUMMARY:Tuesday Night Free Trivia
DESCRIPTION:Tuesday Night Free Trivia with Steamboat Trivia starts at 7PM EVERY TUESDAY at the press in downtown Steamboat Springs\, Colorado. Come think\, drink\, and win fun prizes with friends!
URL:https://thepresssteamboat.com/musician/tuesday-free-trivia/2025-06-03/
LOCATION:The Press Steamboat\, 1009 Lincoln Ave\, Steamboat Springs\, CO\, 80487\, United States
CATEGORIES:Trivia
ATTACH;FMTTYPE=image/jpeg:https://thepresssteamboat.com/wp-content/uploads/2023/01/Trivia-Repeater-scaled-e1694716589766.jpeg
END:VEVENT
BEGIN:VEVENT
DTSTART;TZID=America/Denver:20250604T180000
DTEND;TZID=America/Denver:20250604T190000
DTSTAMP:20260424T211818
CREATED:20250104T182659Z
LAST-MODIFIED:20251207T230725Z
UID:10001714-1749060000-1749063600@thepresssteamboat.com
SUMMARY:Singo! Music Bingo
DESCRIPTION:Ready for a midweek pick-me-up? Join us at the press for Singo Music Bingo every Wednesday at 6 PM! Sip on your favorite drinks\, groove to classic tunes\, and enjoy a night of good vibes. Plus\, you might just walk away with some awesome prizes!
URL:https://thepresssteamboat.com/musician/singo/2025-06-04/
LOCATION:The Press Steamboat\, 1009 Lincoln Ave\, Steamboat Springs\, CO\, 80487\, United States
CATEGORIES:Trivia
ATTACH;FMTTYPE=image/png:https://thepresssteamboat.com/wp-content/uploads/2024/09/Singo-Event-Picture.png
END:VEVENT
BEGIN:VEVENT
DTSTART;TZID=America/Denver:20250604T200000
DTEND;TZID=America/Denver:20250604T200000
DTSTAMP:20260424T211818
CREATED:20250530T165135Z
LAST-MODIFIED:20250530T165135Z
UID:10002113-1749067200-1749067200@thepresssteamboat.com
SUMMARY:Matthew Griswold
DESCRIPTION:A soulful voice from Atlanta\, Georgia\, Matt Griswold is a 32-year-old songwriter whose passion for American acoustic music drives his artistry. With a style deeply influenced by legends like Amos Lee and John Mayer\, Griswold crafts original songs that reflect the highs and lows of real life\, resonating with listeners on a personal level.
URL:https://thepresssteamboat.com/musician/matthew-griswold-3/
LOCATION:The Press Steamboat\, 1009 Lincoln Ave\, Steamboat Springs\, CO\, 80487\, United States
CATEGORIES:live music
ATTACH;FMTTYPE=image/jpeg:https://thepresssteamboat.com/wp-content/uploads/2025/02/465221483_1053625646773506_4514636649654013491_n.jpg
END:VEVENT
BEGIN:VEVENT
DTSTART;TZID=America/Denver:20250605T200000
DTEND;TZID=America/Denver:20250605T200000
DTSTAMP:20260424T211818
CREATED:20250530T165705Z
LAST-MODIFIED:20250530T165740Z
UID:10002114-1749153600-1749153600@thepresssteamboat.com
SUMMARY:The Broad Band
DESCRIPTION:The Broad Band is a beloved all-female ensemble based in Steamboat Springs\, Colorado. Comprising Kate Parke\, Carol Ives\, Elizabeth Danielson\, Sheila Farny\, and Gail Holthausen\, the group has been harmonizing together for over 14 years. Their musical journey began with a shared passion for vocal harmony and a love for classic and contemporary covers. The Broad Band’s repertoire spans from the 1960s to the present\, showcasing their versatility and deep appreciation for diverse musical eras. Their performances are characterized by rich harmonies and an engaging stage presence\, making them a favorite among Steamboat Springs residents and visitors alike. \n\nThe Broad Band will be joined by Randy Kelley for their show at the press on Thursday June 5th.
URL:https://thepresssteamboat.com/musician/the-broad-band-3/
LOCATION:The Press Steamboat\, 1009 Lincoln Ave\, Steamboat Springs\, CO\, 80487\, United States
CATEGORIES:live music
ATTACH;FMTTYPE=image/jpeg:https://thepresssteamboat.com/wp-content/uploads/2025/05/Broad-Band-and-Randy.jpg
END:VEVENT
BEGIN:VEVENT
DTSTART;TZID=America/Denver:20250606T200000
DTEND;TZID=America/Denver:20250606T200000
DTSTAMP:20260424T211818
CREATED:20250409T202405Z
LAST-MODIFIED:20250530T015506Z
UID:10002059-1749240000-1749240000@thepresssteamboat.com
SUMMARY:Danno Simpson
DESCRIPTION:​Danno Simpson is a singer-songwriter known for his heartfelt lyrics and captivating melodies. His music blends elements of folk\, country\, and Americana\, resonating with audiences through authentic storytelling and emotive performances. Danno has performed at various venues and events\, sharing his passion for music with fans. His songs are available on major streaming platforms\, including Spotify and Apple Music. For more information on his music and upcoming tour dates\, visit his official website at dannosimpson.com.​
URL:https://thepresssteamboat.com/musician/danno-simpson/
LOCATION:The Press Steamboat\, 1009 Lincoln Ave\, Steamboat Springs\, CO\, 80487\, United States
CATEGORIES:live music
ATTACH;FMTTYPE=image/jpeg:https://thepresssteamboat.com/wp-content/uploads/2025/04/476614223_1137993818305888_6449714715023836652_n.jpg
END:VEVENT
BEGIN:VEVENT
DTSTART;TZID=America/Denver:20250607T200000
DTEND;TZID=America/Denver:20250607T200000
DTSTAMP:20260424T211818
CREATED:20250530T170111Z
LAST-MODIFIED:20250530T170111Z
UID:10002115-1749326400-1749326400@thepresssteamboat.com
SUMMARY:The Flattops
DESCRIPTION:With roots deep in the Yampa Valley and eyes set on stages across the West\, The Flattops are more than just a band—they’re a Colorado sound you won’t forget. The Flattops features local legends: Randy Kelley\, Eric Baker\, Lucus Mouttet\, and Kris Votruba. \n 
URL:https://thepresssteamboat.com/musician/the-flattops-2/
LOCATION:The Press Steamboat\, 1009 Lincoln Ave\, Steamboat Springs\, CO\, 80487\, United States
CATEGORIES:live music
ATTACH;FMTTYPE=image/jpeg:https://thepresssteamboat.com/wp-content/uploads/2024/12/The-Flattops-scaled-e1738625394548.jpg
END:VEVENT
BEGIN:VEVENT
DTSTART;TZID=America/Denver:20250610T190000
DTEND;TZID=America/Denver:20250610T190000
DTSTAMP:20260424T211818
CREATED:20230102T015256Z
LAST-MODIFIED:20250109T193428Z
UID:10001976-1749582000-1749582000@thepresssteamboat.com
SUMMARY:Tuesday Night Free Trivia
DESCRIPTION:Tuesday Night Free Trivia with Steamboat Trivia starts at 7PM EVERY TUESDAY at the press in downtown Steamboat Springs\, Colorado. Come think\, drink\, and win fun prizes with friends!
URL:https://thepresssteamboat.com/musician/tuesday-free-trivia/2025-06-10/
LOCATION:The Press Steamboat\, 1009 Lincoln Ave\, Steamboat Springs\, CO\, 80487\, United States
CATEGORIES:Trivia
ATTACH;FMTTYPE=image/jpeg:https://thepresssteamboat.com/wp-content/uploads/2023/01/Trivia-Repeater-scaled-e1694716589766.jpeg
END:VEVENT
BEGIN:VEVENT
DTSTART;TZID=America/Denver:20250611T180000
DTEND;TZID=America/Denver:20250611T190000
DTSTAMP:20260424T211818
CREATED:20250104T182659Z
LAST-MODIFIED:20251207T230725Z
UID:10001715-1749664800-1749668400@thepresssteamboat.com
SUMMARY:Singo! Music Bingo
DESCRIPTION:Ready for a midweek pick-me-up? Join us at the press for Singo Music Bingo every Wednesday at 6 PM! Sip on your favorite drinks\, groove to classic tunes\, and enjoy a night of good vibes. Plus\, you might just walk away with some awesome prizes!
URL:https://thepresssteamboat.com/musician/singo/2025-06-11/
LOCATION:The Press Steamboat\, 1009 Lincoln Ave\, Steamboat Springs\, CO\, 80487\, United States
CATEGORIES:Trivia
ATTACH;FMTTYPE=image/png:https://thepresssteamboat.com/wp-content/uploads/2024/09/Singo-Event-Picture.png
END:VEVENT
BEGIN:VEVENT
DTSTART;TZID=America/Denver:20250611T200000
DTEND;TZID=America/Denver:20250611T200000
DTSTAMP:20260424T211818
CREATED:20250409T202456Z
LAST-MODIFIED:20250409T202456Z
UID:10002060-1749672000-1749672000@thepresssteamboat.com
SUMMARY:Lucas Mouttet
DESCRIPTION:Don’t miss one of our favorite Steamboat locals\, Lucas Mouttet\, performing live at the press tomorrow after Singo Bingo! 6/11 @ 8 PM!!
URL:https://thepresssteamboat.com/musician/lucas-mouttet-jun-11/
LOCATION:The Press Steamboat\, 1009 Lincoln Ave\, Steamboat Springs\, CO\, 80487\, United States
CATEGORIES:live music
ATTACH;FMTTYPE=image/png:https://thepresssteamboat.com/wp-content/uploads/2025/03/mouttet-3.5.25-e1744165717938.png
END:VEVENT
BEGIN:VEVENT
DTSTART;TZID=America/Denver:20250612T200000
DTEND;TZID=America/Denver:20250612T200000
DTSTAMP:20260424T211818
CREATED:20250409T202549Z
LAST-MODIFIED:20250409T202549Z
UID:10002061-1749758400-1749758400@thepresssteamboat.com
SUMMARY:Jay Roemer Trio
DESCRIPTION:Jay Roemer has proven himself to be among the most gifted songwriters in the thriving Colorado Bluegrass/Americana scene. With haunting lyrics\, stylish guitar and a harmonica flair\, his songs continue to connect with audiences of all types. \nHe’ll be playing some Americana and Country Rock at the press!
URL:https://thepresssteamboat.com/musician/jay-roemer-trio-jun-12/
LOCATION:The Press Steamboat\, 1009 Lincoln Ave\, Steamboat Springs\, CO\, 80487\, United States
CATEGORIES:live music
ATTACH;FMTTYPE=image/jpeg:https://thepresssteamboat.com/wp-content/uploads/2023/06/image000000-e1692180666217.jpg
END:VEVENT
BEGIN:VEVENT
DTSTART;TZID=America/Denver:20250613T200000
DTEND;TZID=America/Denver:20250613T200000
DTSTAMP:20260424T211818
CREATED:20250409T202623Z
LAST-MODIFIED:20250409T202623Z
UID:10002062-1749844800-1749844800@thepresssteamboat.com
SUMMARY:JR Adams Band
DESCRIPTION:Join us for a special evening with local legend JR Adams. He’s the frontman for Yer State Birds and Heads All Empty\, and he’s comin’ for a night of Americana\, rock and roll\, blues\, and his original music at the press!
URL:https://thepresssteamboat.com/musician/jr-adams-band-jun-13/
LOCATION:The Press Steamboat\, 1009 Lincoln Ave\, Steamboat Springs\, CO\, 80487\, United States
CATEGORIES:live music
ATTACH;FMTTYPE=image/jpeg:https://thepresssteamboat.com/wp-content/uploads/2023/06/JRAdams.jpeg
END:VEVENT
BEGIN:VEVENT
DTSTART;TZID=America/Denver:20250614T200000
DTEND;TZID=America/Denver:20250614T200000
DTSTAMP:20260424T211818
CREATED:20250409T202656Z
LAST-MODIFIED:20250409T202656Z
UID:10002063-1749931200-1749931200@thepresssteamboat.com
SUMMARY:Heads All Empty
DESCRIPTION:Join us with local band\, Heads All Empty\, as they cover the esteemed Grateful Dead! Featuring John Miller on keys\, Willie Samuelson on bass\, Job Gibbs on guitar\, Gabe Hedstrom on drums\, and JR Adams on guitar and vocals!
URL:https://thepresssteamboat.com/musician/heads-all-empty-jun-14/
LOCATION:The Press Steamboat\, 1009 Lincoln Ave\, Steamboat Springs\, CO\, 80487\, United States
CATEGORIES:live music
ATTACH;FMTTYPE=image/png:https://thepresssteamboat.com/wp-content/uploads/2023/02/Screenshot-2023-02-01-at-1.23.45-PM-e1675283143597.png
END:VEVENT
BEGIN:VEVENT
DTSTART;TZID=America/Denver:20250617T190000
DTEND;TZID=America/Denver:20250617T190000
DTSTAMP:20260424T211818
CREATED:20230102T015256Z
LAST-MODIFIED:20250109T193428Z
UID:10001977-1750186800-1750186800@thepresssteamboat.com
SUMMARY:Tuesday Night Free Trivia
DESCRIPTION:Tuesday Night Free Trivia with Steamboat Trivia starts at 7PM EVERY TUESDAY at the press in downtown Steamboat Springs\, Colorado. Come think\, drink\, and win fun prizes with friends!
URL:https://thepresssteamboat.com/musician/tuesday-free-trivia/2025-06-17/
LOCATION:The Press Steamboat\, 1009 Lincoln Ave\, Steamboat Springs\, CO\, 80487\, United States
CATEGORIES:Trivia
ATTACH;FMTTYPE=image/jpeg:https://thepresssteamboat.com/wp-content/uploads/2023/01/Trivia-Repeater-scaled-e1694716589766.jpeg
END:VEVENT
BEGIN:VEVENT
DTSTART;TZID=America/Denver:20250618T180000
DTEND;TZID=America/Denver:20250618T190000
DTSTAMP:20260424T211818
CREATED:20250104T182659Z
LAST-MODIFIED:20251207T230725Z
UID:10001716-1750269600-1750273200@thepresssteamboat.com
SUMMARY:Singo! Music Bingo
DESCRIPTION:Ready for a midweek pick-me-up? Join us at the press for Singo Music Bingo every Wednesday at 6 PM! Sip on your favorite drinks\, groove to classic tunes\, and enjoy a night of good vibes. Plus\, you might just walk away with some awesome prizes!
URL:https://thepresssteamboat.com/musician/singo/2025-06-18/
LOCATION:The Press Steamboat\, 1009 Lincoln Ave\, Steamboat Springs\, CO\, 80487\, United States
CATEGORIES:Trivia
ATTACH;FMTTYPE=image/png:https://thepresssteamboat.com/wp-content/uploads/2024/09/Singo-Event-Picture.png
END:VEVENT
BEGIN:VEVENT
DTSTART;TZID=America/Denver:20250618T200000
DTEND;TZID=America/Denver:20250618T200000
DTSTAMP:20260424T211818
CREATED:20250409T203118Z
LAST-MODIFIED:20250409T203118Z
UID:10002065-1750276800-1750276800@thepresssteamboat.com
SUMMARY:JR Adams Solo
DESCRIPTION:Join us for a special evening with local artist\, JR Adams\, as he performs some of his original music! JR Adams is the frontman from the local Steamboat band Yer State Birds and Grateful Dead cover band\, Heads All Empty.
URL:https://thepresssteamboat.com/musician/jr-adams-solo-jun-18/
LOCATION:The Press Steamboat\, 1009 Lincoln Ave\, Steamboat Springs\, CO\, 80487\, United States
CATEGORIES:live music
ATTACH;FMTTYPE=image/jpeg:https://thepresssteamboat.com/wp-content/uploads/2022/12/JR-Adams-pic-e1672625080331.jpeg
END:VEVENT
BEGIN:VEVENT
DTSTART;TZID=America/Denver:20250619T200000
DTEND;TZID=America/Denver:20250619T200000
DTSTAMP:20260424T211818
CREATED:20250409T203047Z
LAST-MODIFIED:20250409T203047Z
UID:10002064-1750363200-1750363200@thepresssteamboat.com
SUMMARY:Morningside String Band
DESCRIPTION:The Morningside String Band is based out of Steamboat Springs\, CO. The band formed in 2019 originally as an acoustic trio\, but they’ve since expanded to a 5 piece\, adding percussion and electric guitar\, though they still often play smaller venues as a trio. The current lineup includes: Craig Thornhill (acoustic guitar\, vocals) / Paul Geppert (mandolin and vocals) / Tim Cunningham (upright bass) / Courtney La Zier (electric guitar and vocals) and Gabe Hedstrom (drums/percussion/jokes). \nThe band tends to have an eclectic mix of songs in their live shows\, mixing originals and covers\, rooted in blues\, reggae\, bluegrass\, funk\, jam and rock. All the members of the band have lived in various parts of Colorado for decades and played in many other music projects over the years. The band’s sounds lends its self to live performances\, adapting their setlists and jams/arrangements to the energy of the crowds and venue. The band is known around Steamboat for playing festive outdoor gigs in the spring and summer.
URL:https://thepresssteamboat.com/musician/morningside-string-band-jun-19/
LOCATION:CO
CATEGORIES:live music
ATTACH;FMTTYPE=image/jpeg:https://thepresssteamboat.com/wp-content/uploads/2023/01/MorningsideStringBand.jpeg
END:VEVENT
BEGIN:VEVENT
DTSTART;TZID=America/Denver:20250620T200000
DTEND;TZID=America/Denver:20250620T200000
DTSTAMP:20260424T211818
CREATED:20250409T203237Z
LAST-MODIFIED:20250530T170244Z
UID:10002067-1750449600-1750449600@thepresssteamboat.com
SUMMARY:Graham Good & The Painters
DESCRIPTION:Happy WWG Week to all that celebrate! Catch Graham Good & The Painters at the press! Known for their high-energy performances and feel-good vibes\, this band brings a blend of rock\, funk\, and soul that will keep the night alive. Join us for an unforgettable evening of music and dancing at Steamboat’s premier live music venue.
URL:https://thepresssteamboat.com/musician/graham-good-the-painters-jun/
LOCATION:The Press Steamboat\, 1009 Lincoln Ave\, Steamboat Springs\, CO\, 80487\, United States
CATEGORIES:live music
ATTACH;FMTTYPE=image/jpeg:https://thepresssteamboat.com/wp-content/uploads/2024/06/Graham-Good-the-Painters.jpg
END:VEVENT
END:VCALENDAR