BEGIN:VCALENDAR
VERSION:2.0
PRODID:-//the press. - ECPv6.15.20//NONSGML v1.0//EN
CALSCALE:GREGORIAN
METHOD:PUBLISH
X-ORIGINAL-URL:https://thepresssteamboat.com
X-WR-CALDESC:Events for the press.
REFRESH-INTERVAL;VALUE=DURATION:PT1H
X-Robots-Tag:noindex
X-PUBLISHED-TTL:PT1H
BEGIN:VTIMEZONE
TZID:America/Denver
BEGIN:DAYLIGHT
TZOFFSETFROM:-0700
TZOFFSETTO:-0600
TZNAME:MDT
DTSTART:20250309T090000
END:DAYLIGHT
BEGIN:STANDARD
TZOFFSETFROM:-0600
TZOFFSETTO:-0700
TZNAME:MST
DTSTART:20251102T080000
END:STANDARD
BEGIN:DAYLIGHT
TZOFFSETFROM:-0700
TZOFFSETTO:-0600
TZNAME:MDT
DTSTART:20260308T090000
END:DAYLIGHT
BEGIN:STANDARD
TZOFFSETFROM:-0600
TZOFFSETTO:-0700
TZNAME:MST
DTSTART:20261101T080000
END:STANDARD
BEGIN:DAYLIGHT
TZOFFSETFROM:-0700
TZOFFSETTO:-0600
TZNAME:MDT
DTSTART:20270314T090000
END:DAYLIGHT
BEGIN:STANDARD
TZOFFSETFROM:-0600
TZOFFSETTO:-0700
TZNAME:MST
DTSTART:20271107T080000
END:STANDARD
END:VTIMEZONE
BEGIN:VEVENT
DTSTART;TZID=America/Denver:20260421T190000
DTEND;TZID=America/Denver:20260421T190000
DTSTAMP:20260420T194342
CREATED:20260128T204244Z
LAST-MODIFIED:20260128T210139Z
UID:10002369-1776798000-1776798000@thepresssteamboat.com
SUMMARY:Tuesday Night Free Trivia
DESCRIPTION:Tuesday Night Free Trivia with Steamboat Trivia starts at 7PM EVERY TUESDAY at the press in downtown Steamboat Springs\, Colorado. Come think\, drink\, and win fun prizes with friends!
URL:https://thepresssteamboat.com/musician/tuesday-free-trivia-2/2026-04-21/
LOCATION:The Press Steamboat\, 1009 Lincoln Ave\, Steamboat Springs\, CO\, 80487\, United States
CATEGORIES:Trivia
ATTACH;FMTTYPE=image/jpeg:https://thepresssteamboat.com/wp-content/uploads/2023/01/Trivia-Repeater-scaled-e1694716589766.jpeg
END:VEVENT
BEGIN:VEVENT
DTSTART;TZID=America/Denver:20260422T180000
DTEND;TZID=America/Denver:20260422T180000
DTSTAMP:20260420T194342
CREATED:20260128T205723Z
LAST-MODIFIED:20260128T211219Z
UID:10001760-1776880800-1776880800@thepresssteamboat.com
SUMMARY:Singo! Music Bingo
DESCRIPTION:Ready for a midweek pick-me-up? Join us at the press for Singo Music Bingo every Wednesday at 6 PM! Sip on your favorite drinks\, groove to classic tunes\, and enjoy a night of good vibes. Plus\, you might just walk away with some awesome prizes!
URL:https://thepresssteamboat.com/musician/singo-2/2026-04-22/
LOCATION:The Press Steamboat\, 1009 Lincoln Ave\, Steamboat Springs\, CO\, 80487\, United States
CATEGORIES:Trivia
ATTACH;FMTTYPE=image/png:https://thepresssteamboat.com/wp-content/uploads/2024/09/Singo-Event-Picture.png
END:VEVENT
BEGIN:VEVENT
DTSTART;TZID=America/Denver:20260422T200000
DTEND;TZID=America/Denver:20260422T200000
DTSTAMP:20260420T194342
CREATED:20260416T184155Z
LAST-MODIFIED:20260416T184155Z
UID:10002663-1776888000-1776888000@thepresssteamboat.com
SUMMARY:JR Adams
DESCRIPTION:JR Adams is a Colorado-based singer-songwriter and guitarist known for his heartfelt storytelling\, soulful vocals\, and a dynamic blend of Americana\, folk rock\, and blues. Rooted in the vibrant music scene of Steamboat Springs\, Adams has spent over a decade honing his craft onstage—both as a solo artist and frontman for several beloved local bands\, like Yer State Birds and Heads All Empty.
URL:https://thepresssteamboat.com/musician/jr-adams-9/
LOCATION:The Press Steamboat\, 1009 Lincoln Ave\, Steamboat Springs\, CO\, 80487\, United States
CATEGORIES:live music
ATTACH;FMTTYPE=image/jpeg:https://thepresssteamboat.com/wp-content/uploads/2022/12/JR-Adams-pic-e1672625080331.jpeg
END:VEVENT
BEGIN:VEVENT
DTSTART;TZID=America/Denver:20260423T200000
DTEND;TZID=America/Denver:20260423T200000
DTSTAMP:20260420T194342
CREATED:20260421T013837Z
LAST-MODIFIED:20260421T013837Z
UID:10002672-1776974400-1776974400@thepresssteamboat.com
SUMMARY:Wordon Jilson + Chad Bishop
DESCRIPTION:Wordan Jilson & The Wild Bunch is a powerhouse alt-country rock band rooted in the rugged soul of the American West. Fronted by Jordan Wilson\, a seasoned musician with over a decade of experience\, the band has grown from a local favorite into a dynamic nationwide act. Known for their electrifying live shows and deep connection to cowboy culture\, they’ve become a must-see act in venues across the Yampa Valley\, and built strong followings throughout Denver\, California\, and Arizona. \nWith a sound that fuses alternative country rock with the grit and romance of the 1800s frontier\, Wordan Jilson & The Wild Bunch offers a fresh yet timeless take on Americana music. Their performances evoke open skies\, worn saddles\, and the restless spirit of the West– infused with modern energy and musicianship. This band brings together artists with a passion for storytelling and sound; Jordan Wilson; Vocals & Guitar\, Jorden Harms; Bass\, Jordan Brenegan; Fiddle\, Colin Boyle; Lead Guitar & Jake Smiley; Drums. Together they blend years of experience and shared love for raw\, roots-driven music. No matter where\, Wordan Jilson & The Wild Bunch delivers a show that’s equal parts boot-stomping rythm and soul-stirring melody.
URL:https://thepresssteamboat.com/musician/wordon-jilson-chad-bishop/
LOCATION:The Press Steamboat\, 1009 Lincoln Ave\, Steamboat Springs\, CO\, 80487\, United States
CATEGORIES:live music
ATTACH;FMTTYPE=image/jpeg:https://thepresssteamboat.com/wp-content/uploads/2026/04/EF58F043-7505-46BE-93EC-861C9C83DD4C-e1776735476928.jpeg
END:VEVENT
BEGIN:VEVENT
DTSTART;TZID=America/Denver:20260424T200000
DTEND;TZID=America/Denver:20260424T200000
DTSTAMP:20260420T194342
CREATED:20260416T184240Z
LAST-MODIFIED:20260416T184240Z
UID:10002664-1777060800-1777060800@thepresssteamboat.com
SUMMARY:Morningside Duo
DESCRIPTION:The Morningside String Band (Morningside Duo) is based out of Steamboat Springs\, CO. The band formed in 2019 and tends to have an eclectic mix of songs in their live shows\, mixing originals and covers\, rooted in blues\, reggae\, bluegrass\, funk\, jam and rock. All the members of the band have lived in various parts of Colorado for decades and played in many other music projects over the years. The band’s sounds lends its self to live performances\, adapting their setlists and jams/arrangements to the energy of the crowds and venue. The band is known around Steamboat for playing festive outdoor gigs in the spring and summer.
URL:https://thepresssteamboat.com/musician/morningside-duo/
LOCATION:CO
CATEGORIES:live music
ATTACH;FMTTYPE=image/jpeg:https://thepresssteamboat.com/wp-content/uploads/2023/01/MorningsideStringBand.jpeg
END:VEVENT
BEGIN:VEVENT
DTSTART;TZID=America/Denver:20260425T200000
DTEND;TZID=America/Denver:20260425T200000
DTSTAMP:20260420T194342
CREATED:20260421T013949Z
LAST-MODIFIED:20260421T013949Z
UID:10002673-1777147200-1777147200@thepresssteamboat.com
SUMMARY:Joe Ghiglia
DESCRIPTION:Based in the heart of the Colorado Rockies\, Joe Ghiglia is a singer-songwriter and guitarist whose music is as authentic and rugged as the Steamboat Springs landscape he calls home. Blending Americana\, folk\, blues\, and roots rock\, Joe’s sound is steeped in soul and shaped by the mountain town spirit—unfiltered\, heartfelt\, and deeply human. \nA longtime staple of the Steamboat music scene\, Joe is known for his powerful live performances\, where his raw vocals\, dynamic guitar work\, and honest storytelling create a captivating connection with audiences. Whether performing solo or alongside other local talent\, Joe brings a timeless energy to the stage that echoes the rhythm of the Yampa Valley—laid back\, soulful\, and full of life. \nOver the years\, Joe has become a go-to name in local venues\, festivals\, and community events\, carving out a niche with his signature blend of original songwriting and carefully curated covers. His music reflects the high-country lifestyle: the winding roads\, quiet sunrises\, long winters\, and the deep bonds of a close-knit community. \nMore than just a musician\, Joe Ghiglia is a local voice—one who captures the heart of Steamboat Springs in every chord\, every lyric\, and every story he tells.
URL:https://thepresssteamboat.com/musician/joe-ghiglia-4/
LOCATION:The Press Steamboat\, 1009 Lincoln Ave\, Steamboat Springs\, CO\, 80487\, United States
CATEGORIES:live music
ATTACH;FMTTYPE=image/jpeg:https://thepresssteamboat.com/wp-content/uploads/2025/05/joe-1-e1748189214957.jpeg
END:VEVENT
BEGIN:VEVENT
DTSTART;TZID=America/Denver:20260428T190000
DTEND;TZID=America/Denver:20260428T190000
DTSTAMP:20260420T194342
CREATED:20260128T204244Z
LAST-MODIFIED:20260128T210139Z
UID:10002370-1777402800-1777402800@thepresssteamboat.com
SUMMARY:Tuesday Night Free Trivia
DESCRIPTION:Tuesday Night Free Trivia with Steamboat Trivia starts at 7PM EVERY TUESDAY at the press in downtown Steamboat Springs\, Colorado. Come think\, drink\, and win fun prizes with friends!
URL:https://thepresssteamboat.com/musician/tuesday-free-trivia-2/2026-04-28/
LOCATION:The Press Steamboat\, 1009 Lincoln Ave\, Steamboat Springs\, CO\, 80487\, United States
CATEGORIES:Trivia
ATTACH;FMTTYPE=image/jpeg:https://thepresssteamboat.com/wp-content/uploads/2023/01/Trivia-Repeater-scaled-e1694716589766.jpeg
END:VEVENT
BEGIN:VEVENT
DTSTART;TZID=America/Denver:20260429T180000
DTEND;TZID=America/Denver:20260429T180000
DTSTAMP:20260420T194342
CREATED:20260128T205723Z
LAST-MODIFIED:20260128T211219Z
UID:10001761-1777485600-1777485600@thepresssteamboat.com
SUMMARY:Singo! Music Bingo
DESCRIPTION:Ready for a midweek pick-me-up? Join us at the press for Singo Music Bingo every Wednesday at 6 PM! Sip on your favorite drinks\, groove to classic tunes\, and enjoy a night of good vibes. Plus\, you might just walk away with some awesome prizes!
URL:https://thepresssteamboat.com/musician/singo-2/2026-04-29/
LOCATION:The Press Steamboat\, 1009 Lincoln Ave\, Steamboat Springs\, CO\, 80487\, United States
CATEGORIES:Trivia
ATTACH;FMTTYPE=image/png:https://thepresssteamboat.com/wp-content/uploads/2024/09/Singo-Event-Picture.png
END:VEVENT
BEGIN:VEVENT
DTSTART;TZID=America/Denver:20260429T200000
DTEND;TZID=America/Denver:20260429T200000
DTSTAMP:20260420T194342
CREATED:20260421T014047Z
LAST-MODIFIED:20260421T014047Z
UID:10002674-1777492800-1777492800@thepresssteamboat.com
SUMMARY:Lucas Mouttet
DESCRIPTION:Don’t miss one of our favorite Steamboat locals\, Lucas Mouttet\, performing live at the press tomorrow!
URL:https://thepresssteamboat.com/musician/lucas-mouttet-4/
LOCATION:The Press Steamboat\, 1009 Lincoln Ave\, Steamboat Springs\, CO\, 80487\, United States
CATEGORIES:live music
ATTACH;FMTTYPE=image/jpeg:https://thepresssteamboat.com/wp-content/uploads/2025/10/Lucas-Mouttet.jpg
END:VEVENT
BEGIN:VEVENT
DTSTART;TZID=America/Denver:20260430T200000
DTEND;TZID=America/Denver:20260430T200000
DTSTAMP:20260420T194342
CREATED:20260330T181559Z
LAST-MODIFIED:20260330T181559Z
UID:10002660-1777579200-1777579200@thepresssteamboat.com
SUMMARY:Kirk Martenson & Eric Delaney
DESCRIPTION:Local favorites Kirk Martenson and Eric Delaney are playing solo performance live at the press!
URL:https://thepresssteamboat.com/musician/kirk-martenson-eric-delaney/
LOCATION:The Press Steamboat\, 1009 Lincoln Ave\, Steamboat Springs\, CO\, 80487\, United States
CATEGORIES:live music
ATTACH;FMTTYPE=image/png:https://thepresssteamboat.com/wp-content/uploads/2023/09/Screenshot-2023-09-07-at-1.08.54-PM-e1694113945401.png
END:VEVENT
END:VCALENDAR