BEGIN:VCALENDAR
VERSION:2.0
PRODID:-//the press. - ECPv6.15.20//NONSGML v1.0//EN
CALSCALE:GREGORIAN
METHOD:PUBLISH
X-ORIGINAL-URL:https://thepresssteamboat.com
X-WR-CALDESC:Events for the press.
REFRESH-INTERVAL;VALUE=DURATION:PT1H
X-Robots-Tag:noindex
X-PUBLISHED-TTL:PT1H
BEGIN:VTIMEZONE
TZID:America/Denver
BEGIN:DAYLIGHT
TZOFFSETFROM:-0700
TZOFFSETTO:-0600
TZNAME:MDT
DTSTART:20250309T090000
END:DAYLIGHT
BEGIN:STANDARD
TZOFFSETFROM:-0600
TZOFFSETTO:-0700
TZNAME:MST
DTSTART:20251102T080000
END:STANDARD
BEGIN:DAYLIGHT
TZOFFSETFROM:-0700
TZOFFSETTO:-0600
TZNAME:MDT
DTSTART:20260308T090000
END:DAYLIGHT
BEGIN:STANDARD
TZOFFSETFROM:-0600
TZOFFSETTO:-0700
TZNAME:MST
DTSTART:20261101T080000
END:STANDARD
BEGIN:DAYLIGHT
TZOFFSETFROM:-0700
TZOFFSETTO:-0600
TZNAME:MDT
DTSTART:20270314T090000
END:DAYLIGHT
BEGIN:STANDARD
TZOFFSETFROM:-0600
TZOFFSETTO:-0700
TZNAME:MST
DTSTART:20271107T080000
END:STANDARD
END:VTIMEZONE
BEGIN:VEVENT
DTSTART;TZID=America/Denver:20260602T190000
DTEND;TZID=America/Denver:20260602T190000
DTSTAMP:20260421T005445
CREATED:20260128T204244Z
LAST-MODIFIED:20260128T210139Z
UID:10002375-1780426800-1780426800@thepresssteamboat.com
SUMMARY:Tuesday Night Free Trivia
DESCRIPTION:Tuesday Night Free Trivia with Steamboat Trivia starts at 7PM EVERY TUESDAY at the press in downtown Steamboat Springs\, Colorado. Come think\, drink\, and win fun prizes with friends!
URL:https://thepresssteamboat.com/musician/tuesday-free-trivia-2/2026-06-02/
LOCATION:The Press Steamboat\, 1009 Lincoln Ave\, Steamboat Springs\, CO\, 80487\, United States
CATEGORIES:Trivia
ATTACH;FMTTYPE=image/jpeg:https://thepresssteamboat.com/wp-content/uploads/2023/01/Trivia-Repeater-scaled-e1694716589766.jpeg
END:VEVENT
BEGIN:VEVENT
DTSTART;TZID=America/Denver:20260603T180000
DTEND;TZID=America/Denver:20260603T180000
DTSTAMP:20260421T005445
CREATED:20260128T205723Z
LAST-MODIFIED:20260128T211219Z
UID:10001766-1780509600-1780509600@thepresssteamboat.com
SUMMARY:Singo! Music Bingo
DESCRIPTION:Ready for a midweek pick-me-up? Join us at the press for Singo Music Bingo every Wednesday at 6 PM! Sip on your favorite drinks\, groove to classic tunes\, and enjoy a night of good vibes. Plus\, you might just walk away with some awesome prizes!
URL:https://thepresssteamboat.com/musician/singo-2/2026-06-03/
LOCATION:The Press Steamboat\, 1009 Lincoln Ave\, Steamboat Springs\, CO\, 80487\, United States
CATEGORIES:Trivia
ATTACH;FMTTYPE=image/png:https://thepresssteamboat.com/wp-content/uploads/2024/09/Singo-Event-Picture.png
END:VEVENT
BEGIN:VEVENT
DTSTART;TZID=America/Denver:20260604T200000
DTEND;TZID=America/Denver:20260604T200000
DTSTAMP:20260421T005445
CREATED:20260220T222002Z
LAST-MODIFIED:20260220T222002Z
UID:10002636-1780603200-1780603200@thepresssteamboat.com
SUMMARY:Steve Boynton Trio
DESCRIPTION:Join us Thursday night for a special evening of blues and rock and welcome back\, Steve Boynton.
URL:https://thepresssteamboat.com/musician/steve-boynton-trio-8/
LOCATION:The Press Steamboat\, 1009 Lincoln Ave\, Steamboat Springs\, CO\, 80487\, United States
CATEGORIES:live music
ATTACH;FMTTYPE=image/jpeg:https://thepresssteamboat.com/wp-content/uploads/2022/12/SteveBoynton2021_web-e1672621129142.jpeg
END:VEVENT
BEGIN:VEVENT
DTSTART;TZID=America/Denver:20260609T190000
DTEND;TZID=America/Denver:20260609T190000
DTSTAMP:20260421T005445
CREATED:20260128T204244Z
LAST-MODIFIED:20260128T210139Z
UID:10002376-1781031600-1781031600@thepresssteamboat.com
SUMMARY:Tuesday Night Free Trivia
DESCRIPTION:Tuesday Night Free Trivia with Steamboat Trivia starts at 7PM EVERY TUESDAY at the press in downtown Steamboat Springs\, Colorado. Come think\, drink\, and win fun prizes with friends!
URL:https://thepresssteamboat.com/musician/tuesday-free-trivia-2/2026-06-09/
LOCATION:The Press Steamboat\, 1009 Lincoln Ave\, Steamboat Springs\, CO\, 80487\, United States
CATEGORIES:Trivia
ATTACH;FMTTYPE=image/jpeg:https://thepresssteamboat.com/wp-content/uploads/2023/01/Trivia-Repeater-scaled-e1694716589766.jpeg
END:VEVENT
BEGIN:VEVENT
DTSTART;TZID=America/Denver:20260610T180000
DTEND;TZID=America/Denver:20260610T180000
DTSTAMP:20260421T005445
CREATED:20260128T205723Z
LAST-MODIFIED:20260128T211219Z
UID:10001767-1781114400-1781114400@thepresssteamboat.com
SUMMARY:Singo! Music Bingo
DESCRIPTION:Ready for a midweek pick-me-up? Join us at the press for Singo Music Bingo every Wednesday at 6 PM! Sip on your favorite drinks\, groove to classic tunes\, and enjoy a night of good vibes. Plus\, you might just walk away with some awesome prizes!
URL:https://thepresssteamboat.com/musician/singo-2/2026-06-10/
LOCATION:The Press Steamboat\, 1009 Lincoln Ave\, Steamboat Springs\, CO\, 80487\, United States
CATEGORIES:Trivia
ATTACH;FMTTYPE=image/png:https://thepresssteamboat.com/wp-content/uploads/2024/09/Singo-Event-Picture.png
END:VEVENT
BEGIN:VEVENT
DTSTART;TZID=America/Denver:20260610T200000
DTEND;TZID=America/Denver:20260610T200000
DTSTAMP:20260421T005445
CREATED:20260220T222010Z
LAST-MODIFIED:20260220T222010Z
UID:10002637-1781121600-1781121600@thepresssteamboat.com
SUMMARY:The Naturals
DESCRIPTION:It’s a night with two of Steamboat’s famed local musicians. Joe Ghiglia (of Leaner Lunker) and Randy Kelley (of Worried Men) are coming together for a duo show as “The Naturals.” Joe’s bringing his guitar and Randy’s got his fiddle and guitar in tow.
URL:https://thepresssteamboat.com/musician/the-naturals-7/
LOCATION:The Press Steamboat\, 1009 Lincoln Ave\, Steamboat Springs\, CO\, 80487\, United States
CATEGORIES:live music
ATTACH;FMTTYPE=image/jpeg:https://thepresssteamboat.com/wp-content/uploads/2025/04/The-Naturals-pic.jpg
END:VEVENT
BEGIN:VEVENT
DTSTART;TZID=America/Denver:20260613T200000
DTEND;TZID=America/Denver:20260613T200000
DTSTAMP:20260421T005445
CREATED:20260220T222029Z
LAST-MODIFIED:20260220T222029Z
UID:10002638-1781380800-1781380800@thepresssteamboat.com
SUMMARY:The Flattops
DESCRIPTION:With roots deep in the Yampa Valley and eyes set on stages across the West\, The Flattops are more than just a band—they’re a Colorado sound you won’t forget. The Flattops features local legends: Randy Kelley\, Eric Baker\, and Lucus Mouttet. \n 
URL:https://thepresssteamboat.com/musician/the-flattops-8/
LOCATION:The Press Steamboat\, 1009 Lincoln Ave\, Steamboat Springs\, CO\, 80487\, United States
CATEGORIES:live music
ATTACH;FMTTYPE=image/jpeg:https://thepresssteamboat.com/wp-content/uploads/2025/09/The-Flattops-92525-1-scaled-e1760737303305.jpg
END:VEVENT
BEGIN:VEVENT
DTSTART;TZID=America/Denver:20260616T190000
DTEND;TZID=America/Denver:20260616T190000
DTSTAMP:20260421T005445
CREATED:20260128T204244Z
LAST-MODIFIED:20260128T210139Z
UID:10002377-1781636400-1781636400@thepresssteamboat.com
SUMMARY:Tuesday Night Free Trivia
DESCRIPTION:Tuesday Night Free Trivia with Steamboat Trivia starts at 7PM EVERY TUESDAY at the press in downtown Steamboat Springs\, Colorado. Come think\, drink\, and win fun prizes with friends!
URL:https://thepresssteamboat.com/musician/tuesday-free-trivia-2/2026-06-16/
LOCATION:The Press Steamboat\, 1009 Lincoln Ave\, Steamboat Springs\, CO\, 80487\, United States
CATEGORIES:Trivia
ATTACH;FMTTYPE=image/jpeg:https://thepresssteamboat.com/wp-content/uploads/2023/01/Trivia-Repeater-scaled-e1694716589766.jpeg
END:VEVENT
BEGIN:VEVENT
DTSTART;TZID=America/Denver:20260617T180000
DTEND;TZID=America/Denver:20260617T180000
DTSTAMP:20260421T005445
CREATED:20260128T205723Z
LAST-MODIFIED:20260128T211219Z
UID:10001768-1781719200-1781719200@thepresssteamboat.com
SUMMARY:Singo! Music Bingo
DESCRIPTION:Ready for a midweek pick-me-up? Join us at the press for Singo Music Bingo every Wednesday at 6 PM! Sip on your favorite drinks\, groove to classic tunes\, and enjoy a night of good vibes. Plus\, you might just walk away with some awesome prizes!
URL:https://thepresssteamboat.com/musician/singo-2/2026-06-17/
LOCATION:The Press Steamboat\, 1009 Lincoln Ave\, Steamboat Springs\, CO\, 80487\, United States
CATEGORIES:Trivia
ATTACH;FMTTYPE=image/png:https://thepresssteamboat.com/wp-content/uploads/2024/09/Singo-Event-Picture.png
END:VEVENT
BEGIN:VEVENT
DTSTART;TZID=America/Denver:20260623T190000
DTEND;TZID=America/Denver:20260623T190000
DTSTAMP:20260421T005445
CREATED:20260128T204244Z
LAST-MODIFIED:20260128T210139Z
UID:10002378-1782241200-1782241200@thepresssteamboat.com
SUMMARY:Tuesday Night Free Trivia
DESCRIPTION:Tuesday Night Free Trivia with Steamboat Trivia starts at 7PM EVERY TUESDAY at the press in downtown Steamboat Springs\, Colorado. Come think\, drink\, and win fun prizes with friends!
URL:https://thepresssteamboat.com/musician/tuesday-free-trivia-2/2026-06-23/
LOCATION:The Press Steamboat\, 1009 Lincoln Ave\, Steamboat Springs\, CO\, 80487\, United States
CATEGORIES:Trivia
ATTACH;FMTTYPE=image/jpeg:https://thepresssteamboat.com/wp-content/uploads/2023/01/Trivia-Repeater-scaled-e1694716589766.jpeg
END:VEVENT
BEGIN:VEVENT
DTSTART;TZID=America/Denver:20260624T180000
DTEND;TZID=America/Denver:20260624T180000
DTSTAMP:20260421T005445
CREATED:20260128T205723Z
LAST-MODIFIED:20260128T211219Z
UID:10001769-1782324000-1782324000@thepresssteamboat.com
SUMMARY:Singo! Music Bingo
DESCRIPTION:Ready for a midweek pick-me-up? Join us at the press for Singo Music Bingo every Wednesday at 6 PM! Sip on your favorite drinks\, groove to classic tunes\, and enjoy a night of good vibes. Plus\, you might just walk away with some awesome prizes!
URL:https://thepresssteamboat.com/musician/singo-2/2026-06-24/
LOCATION:The Press Steamboat\, 1009 Lincoln Ave\, Steamboat Springs\, CO\, 80487\, United States
CATEGORIES:Trivia
ATTACH;FMTTYPE=image/png:https://thepresssteamboat.com/wp-content/uploads/2024/09/Singo-Event-Picture.png
END:VEVENT
BEGIN:VEVENT
DTSTART;TZID=America/Denver:20260627T200000
DTEND;TZID=America/Denver:20260627T200000
DTSTAMP:20260421T005445
CREATED:20260220T222056Z
LAST-MODIFIED:20260220T222056Z
UID:10002639-1782590400-1782590400@thepresssteamboat.com
SUMMARY:The Woods
DESCRIPTION:The Woods aren’t just a band; they’re a place where genres and generations overlap\, blending the three-part harmonies of 1970s folk-rock with the hooks of modern-day country music. The result is a polished sound that’s both fresh and familiar\, created by a trio of Nashville-based singers\, songwriters\, and instrumentalists who breathe new life into old-school influences.   With the release of their upcoming debut EP\, The Woods showcase not only the writing chops that sent their first single\, “World’s On Fire\,” into the Top 50 on the Music Row Country Breakout Chart\, but also the stacked vocals and entwined guitarmonies that have earned the trio comparisons to acts like The Eagles and Fleetwood Mac. Produced by Grammy-winning producer Blake Chancey (The Dixie Chicks\, Little Big Town) and recorded in the wake of The Woods’ arena tour with Tim McGraw\, this next chapter of music serves as a reintroduction to one of Nashville’s most promising exports. \nBandmates Dan O’Rourke\, Raquel Cole\, and Leland Rooney all came to Nashville on their own\, looking to make their individual marks on a city steeped in music.  Cole was an award-winning songwriter from British Columbia\, with a pair of Top 50 country singles under her belt and an electric guitar in her hands. O’Rourke was a nomadic folksinger who’d already lived in a half-dozen cities across the country\, earning a first-place finish in the International Songwriting Competition along the way. Rooney was a classically trained guitarist who’d been gigging since his teenage years\, playing country songs on the Texas bar circuit long before he could order his own drinks. Together\, the three musicians found common ground in the music of their parents’ generation.  They began making their own updated version of that sound\, blending their voices together into thick harmonies\, rooting everything in classic songwriting and contemporary storytelling.
URL:https://thepresssteamboat.com/musician/the-woods-3/
LOCATION:The Press Steamboat\, 1009 Lincoln Ave\, Steamboat Springs\, CO\, 80487\, United States
CATEGORIES:live music
ATTACH;FMTTYPE=image/jpeg:https://thepresssteamboat.com/wp-content/uploads/2026/01/8.5x11-scaled-e1768889761361.jpg
END:VEVENT
BEGIN:VEVENT
DTSTART;TZID=America/Denver:20260630T190000
DTEND;TZID=America/Denver:20260630T190000
DTSTAMP:20260421T005445
CREATED:20260128T204244Z
LAST-MODIFIED:20260128T210139Z
UID:10002379-1782846000-1782846000@thepresssteamboat.com
SUMMARY:Tuesday Night Free Trivia
DESCRIPTION:Tuesday Night Free Trivia with Steamboat Trivia starts at 7PM EVERY TUESDAY at the press in downtown Steamboat Springs\, Colorado. Come think\, drink\, and win fun prizes with friends!
URL:https://thepresssteamboat.com/musician/tuesday-free-trivia-2/2026-06-30/
LOCATION:The Press Steamboat\, 1009 Lincoln Ave\, Steamboat Springs\, CO\, 80487\, United States
CATEGORIES:Trivia
ATTACH;FMTTYPE=image/jpeg:https://thepresssteamboat.com/wp-content/uploads/2023/01/Trivia-Repeater-scaled-e1694716589766.jpeg
END:VEVENT
END:VCALENDAR