BEGIN:VCALENDAR
VERSION:2.0
PRODID:-//the press. - ECPv6.15.20//NONSGML v1.0//EN
CALSCALE:GREGORIAN
METHOD:PUBLISH
X-ORIGINAL-URL:https://thepresssteamboat.com
X-WR-CALDESC:Events for the press.
REFRESH-INTERVAL;VALUE=DURATION:PT1H
X-Robots-Tag:noindex
X-PUBLISHED-TTL:PT1H
BEGIN:VTIMEZONE
TZID:America/Denver
BEGIN:DAYLIGHT
TZOFFSETFROM:-0700
TZOFFSETTO:-0600
TZNAME:MDT
DTSTART:20250309T090000
END:DAYLIGHT
BEGIN:STANDARD
TZOFFSETFROM:-0600
TZOFFSETTO:-0700
TZNAME:MST
DTSTART:20251102T080000
END:STANDARD
BEGIN:DAYLIGHT
TZOFFSETFROM:-0700
TZOFFSETTO:-0600
TZNAME:MDT
DTSTART:20260308T090000
END:DAYLIGHT
BEGIN:STANDARD
TZOFFSETFROM:-0600
TZOFFSETTO:-0700
TZNAME:MST
DTSTART:20261101T080000
END:STANDARD
BEGIN:DAYLIGHT
TZOFFSETFROM:-0700
TZOFFSETTO:-0600
TZNAME:MDT
DTSTART:20270314T090000
END:DAYLIGHT
BEGIN:STANDARD
TZOFFSETFROM:-0600
TZOFFSETTO:-0700
TZNAME:MST
DTSTART:20271107T080000
END:STANDARD
END:VTIMEZONE
BEGIN:VEVENT
DTSTART;TZID=America/Denver:20260501T190000
DTEND;TZID=America/Denver:20260501T190000
DTSTAMP:20260420T224846
CREATED:20260416T184841Z
LAST-MODIFIED:20260416T184841Z
UID:10002666-1777662000-1777662000@thepresssteamboat.com
SUMMARY:Worried Men
DESCRIPTION:As one of the longest running bands in Steamboat\, Worried Men is a four piece band that knows how to jam! The band plays tunes ranging from Grateful Dead to the Allman Brothers\, Willie Nelson\, Johnny Cash\, and Bob Dylan. Featuring Jon Gibbs on guitar and vocals; Randy Kelley on guitar and mandolin; and Willie Samuelson on bass. Electric shows feature Steamboat local\, Ron Wheeler!
URL:https://thepresssteamboat.com/musician/worried-men-6/
LOCATION:The Press Steamboat\, 1009 Lincoln Ave\, Steamboat Springs\, CO\, 80487\, United States
CATEGORIES:live music
ATTACH;FMTTYPE=image/jpeg:https://thepresssteamboat.com/wp-content/uploads/2025/04/Worried-Men.jpg
END:VEVENT
BEGIN:VEVENT
DTSTART;TZID=America/Denver:20260502T200000
DTEND;TZID=America/Denver:20260502T200000
DTSTAMP:20260420T224846
CREATED:20260416T184913Z
LAST-MODIFIED:20260416T184913Z
UID:10002667-1777752000-1777752000@thepresssteamboat.com
SUMMARY:Steve Boynton Trio
DESCRIPTION:Join us Saturday night for a special evening of blues and rock and welcome back\, Steve Boynton.
URL:https://thepresssteamboat.com/musician/steve-boynton-trio-12/
LOCATION:The Press Steamboat\, 1009 Lincoln Ave\, Steamboat Springs\, CO\, 80487\, United States
CATEGORIES:live music
ATTACH;FMTTYPE=image/jpeg:https://thepresssteamboat.com/wp-content/uploads/2022/12/SteveBoynton2021_web-e1672621129142.jpeg
END:VEVENT
BEGIN:VEVENT
DTSTART;TZID=America/Denver:20260505T190000
DTEND;TZID=America/Denver:20260505T190000
DTSTAMP:20260420T224846
CREATED:20260128T204244Z
LAST-MODIFIED:20260128T210139Z
UID:10002371-1778007600-1778007600@thepresssteamboat.com
SUMMARY:Tuesday Night Free Trivia
DESCRIPTION:Tuesday Night Free Trivia with Steamboat Trivia starts at 7PM EVERY TUESDAY at the press in downtown Steamboat Springs\, Colorado. Come think\, drink\, and win fun prizes with friends!
URL:https://thepresssteamboat.com/musician/tuesday-free-trivia-2/2026-05-05/
LOCATION:The Press Steamboat\, 1009 Lincoln Ave\, Steamboat Springs\, CO\, 80487\, United States
CATEGORIES:Trivia
ATTACH;FMTTYPE=image/jpeg:https://thepresssteamboat.com/wp-content/uploads/2023/01/Trivia-Repeater-scaled-e1694716589766.jpeg
END:VEVENT
BEGIN:VEVENT
DTSTART;TZID=America/Denver:20260506T180000
DTEND;TZID=America/Denver:20260506T180000
DTSTAMP:20260420T224846
CREATED:20260128T205723Z
LAST-MODIFIED:20260128T211219Z
UID:10001762-1778090400-1778090400@thepresssteamboat.com
SUMMARY:Singo! Music Bingo
DESCRIPTION:Ready for a midweek pick-me-up? Join us at the press for Singo Music Bingo every Wednesday at 6 PM! Sip on your favorite drinks\, groove to classic tunes\, and enjoy a night of good vibes. Plus\, you might just walk away with some awesome prizes!
URL:https://thepresssteamboat.com/musician/singo-2/2026-05-06/
LOCATION:The Press Steamboat\, 1009 Lincoln Ave\, Steamboat Springs\, CO\, 80487\, United States
CATEGORIES:Trivia
ATTACH;FMTTYPE=image/png:https://thepresssteamboat.com/wp-content/uploads/2024/09/Singo-Event-Picture.png
END:VEVENT
BEGIN:VEVENT
DTSTART;TZID=America/Denver:20260506T200000
DTEND;TZID=America/Denver:20260506T200000
DTSTAMP:20260420T224846
CREATED:20260416T185023Z
LAST-MODIFIED:20260416T185023Z
UID:10002668-1778097600-1778097600@thepresssteamboat.com
SUMMARY:Derek Dames Ohl
DESCRIPTION:Derek Dames Ohl LIVE at the press providing sad music for happy folks.
URL:https://thepresssteamboat.com/musician/derek-dames-ohl-3/
LOCATION:The Press Steamboat\, 1009 Lincoln Ave\, Steamboat Springs\, CO\, 80487\, United States
CATEGORIES:live music
ATTACH;FMTTYPE=image/jpeg:https://thepresssteamboat.com/wp-content/uploads/2025/12/Sad-music-for-happy-folks.-.jpg
END:VEVENT
BEGIN:VEVENT
DTSTART;TZID=America/Denver:20260507T200000
DTEND;TZID=America/Denver:20260507T200000
DTSTAMP:20260420T224846
CREATED:20260220T221442Z
LAST-MODIFIED:20260220T221442Z
UID:10002632-1778184000-1778184000@thepresssteamboat.com
SUMMARY:Steve Boynton Trio
DESCRIPTION:Join us Thursday night for a special evening of blues and rock and welcome back\, Steve Boynton.
URL:https://thepresssteamboat.com/musician/steve-boynton-trio-7/
LOCATION:The Press Steamboat\, 1009 Lincoln Ave\, Steamboat Springs\, CO\, 80487\, United States
CATEGORIES:live music
ATTACH;FMTTYPE=image/jpeg:https://thepresssteamboat.com/wp-content/uploads/2022/12/SteveBoynton2021_web-e1672621129142.jpeg
END:VEVENT
BEGIN:VEVENT
DTSTART;TZID=America/Denver:20260508T200000
DTEND;TZID=America/Denver:20260508T200000
DTSTAMP:20260420T224846
CREATED:20260220T221511Z
LAST-MODIFIED:20260421T011442Z
UID:10002633-1778270400-1778270400@thepresssteamboat.com
SUMMARY:Heads All Empty
DESCRIPTION:Join us with local band\, Heads All Empty\, as they cover the esteemed Grateful Dead!
URL:https://thepresssteamboat.com/musician/heads-all-empty-4/
LOCATION:The Press Steamboat\, 1009 Lincoln Ave\, Steamboat Springs\, CO\, 80487\, United States
CATEGORIES:live music
END:VEVENT
BEGIN:VEVENT
DTSTART;TZID=America/Denver:20260509T200000
DTEND;TZID=America/Denver:20260509T200000
DTSTAMP:20260420T224846
CREATED:20260220T221637Z
LAST-MODIFIED:20260421T010957Z
UID:10002635-1778356800-1778356800@thepresssteamboat.com
SUMMARY:Heads All Empty
DESCRIPTION:Join us with local band\, Heads All Empty\, as they cover the esteemed Grateful Dead!
URL:https://thepresssteamboat.com/musician/heads-all-empty-5/
LOCATION:The Press Steamboat\, 1009 Lincoln Ave\, Steamboat Springs\, CO\, 80487\, United States
CATEGORIES:live music
END:VEVENT
BEGIN:VEVENT
DTSTART;TZID=America/Denver:20260512T190000
DTEND;TZID=America/Denver:20260512T190000
DTSTAMP:20260420T224846
CREATED:20260128T204244Z
LAST-MODIFIED:20260128T210139Z
UID:10002372-1778612400-1778612400@thepresssteamboat.com
SUMMARY:Tuesday Night Free Trivia
DESCRIPTION:Tuesday Night Free Trivia with Steamboat Trivia starts at 7PM EVERY TUESDAY at the press in downtown Steamboat Springs\, Colorado. Come think\, drink\, and win fun prizes with friends!
URL:https://thepresssteamboat.com/musician/tuesday-free-trivia-2/2026-05-12/
LOCATION:The Press Steamboat\, 1009 Lincoln Ave\, Steamboat Springs\, CO\, 80487\, United States
CATEGORIES:Trivia
ATTACH;FMTTYPE=image/jpeg:https://thepresssteamboat.com/wp-content/uploads/2023/01/Trivia-Repeater-scaled-e1694716589766.jpeg
END:VEVENT
BEGIN:VEVENT
DTSTART;TZID=America/Denver:20260513T180000
DTEND;TZID=America/Denver:20260513T180000
DTSTAMP:20260420T224847
CREATED:20260128T205723Z
LAST-MODIFIED:20260128T211219Z
UID:10001763-1778695200-1778695200@thepresssteamboat.com
SUMMARY:Singo! Music Bingo
DESCRIPTION:Ready for a midweek pick-me-up? Join us at the press for Singo Music Bingo every Wednesday at 6 PM! Sip on your favorite drinks\, groove to classic tunes\, and enjoy a night of good vibes. Plus\, you might just walk away with some awesome prizes!
URL:https://thepresssteamboat.com/musician/singo-2/2026-05-13/
LOCATION:The Press Steamboat\, 1009 Lincoln Ave\, Steamboat Springs\, CO\, 80487\, United States
CATEGORIES:Trivia
ATTACH;FMTTYPE=image/png:https://thepresssteamboat.com/wp-content/uploads/2024/09/Singo-Event-Picture.png
END:VEVENT
BEGIN:VEVENT
DTSTART;TZID=America/Denver:20260515T200000
DTEND;TZID=America/Denver:20260515T200000
DTSTAMP:20260420T224847
CREATED:20260220T221615Z
LAST-MODIFIED:20260220T221710Z
UID:10002634-1778875200-1778875200@thepresssteamboat.com
SUMMARY:The Flattops
DESCRIPTION:With roots deep in the Yampa Valley and eyes set on stages across the West\, The Flattops are more than just a band—they’re a Colorado sound you won’t forget. The Flattops features local legends: Randy Kelley\, Eric Baker\, and Lucus Mouttet. \n 
URL:https://thepresssteamboat.com/musician/the-flattops-7/
LOCATION:The Press Steamboat\, 1009 Lincoln Ave\, Steamboat Springs\, CO\, 80487\, United States
CATEGORIES:live music
ATTACH;FMTTYPE=image/jpeg:https://thepresssteamboat.com/wp-content/uploads/2025/09/The-Flattops-92525-1-scaled-e1760737303305.jpg
END:VEVENT
BEGIN:VEVENT
DTSTART;TZID=America/Denver:20260516T200000
DTEND;TZID=America/Denver:20260516T200000
DTSTAMP:20260420T224847
CREATED:20260416T185210Z
LAST-MODIFIED:20260416T185210Z
UID:10002669-1778961600-1778961600@thepresssteamboat.com
SUMMARY:Lucas Mouttet & Friends
DESCRIPTION:Don’t miss one of our favorite Steamboat locals\, Lucas Mouttet\, performing live at the press! He will be joined by local legends Steve Boynton\, Eric Samuelson\, and Ron Wheeler!
URL:https://thepresssteamboat.com/musician/lucas-mouttet-friends-4/
LOCATION:The Press Steamboat\, 1009 Lincoln Ave\, Steamboat Springs\, CO\, 80487\, United States
CATEGORIES:live music
ATTACH;FMTTYPE=image/jpeg:https://thepresssteamboat.com/wp-content/uploads/2025/10/Lucas-Mouttet.jpg
END:VEVENT
BEGIN:VEVENT
DTSTART;TZID=America/Denver:20260519T190000
DTEND;TZID=America/Denver:20260519T190000
DTSTAMP:20260420T224847
CREATED:20260128T204244Z
LAST-MODIFIED:20260128T210139Z
UID:10002373-1779217200-1779217200@thepresssteamboat.com
SUMMARY:Tuesday Night Free Trivia
DESCRIPTION:Tuesday Night Free Trivia with Steamboat Trivia starts at 7PM EVERY TUESDAY at the press in downtown Steamboat Springs\, Colorado. Come think\, drink\, and win fun prizes with friends!
URL:https://thepresssteamboat.com/musician/tuesday-free-trivia-2/2026-05-19/
LOCATION:The Press Steamboat\, 1009 Lincoln Ave\, Steamboat Springs\, CO\, 80487\, United States
CATEGORIES:Trivia
ATTACH;FMTTYPE=image/jpeg:https://thepresssteamboat.com/wp-content/uploads/2023/01/Trivia-Repeater-scaled-e1694716589766.jpeg
END:VEVENT
BEGIN:VEVENT
DTSTART;TZID=America/Denver:20260520T180000
DTEND;TZID=America/Denver:20260520T180000
DTSTAMP:20260420T224847
CREATED:20260128T205723Z
LAST-MODIFIED:20260128T211219Z
UID:10001764-1779300000-1779300000@thepresssteamboat.com
SUMMARY:Singo! Music Bingo
DESCRIPTION:Ready for a midweek pick-me-up? Join us at the press for Singo Music Bingo every Wednesday at 6 PM! Sip on your favorite drinks\, groove to classic tunes\, and enjoy a night of good vibes. Plus\, you might just walk away with some awesome prizes!
URL:https://thepresssteamboat.com/musician/singo-2/2026-05-20/
LOCATION:The Press Steamboat\, 1009 Lincoln Ave\, Steamboat Springs\, CO\, 80487\, United States
CATEGORIES:Trivia
ATTACH;FMTTYPE=image/png:https://thepresssteamboat.com/wp-content/uploads/2024/09/Singo-Event-Picture.png
END:VEVENT
BEGIN:VEVENT
DTSTART;TZID=America/Denver:20260526T190000
DTEND;TZID=America/Denver:20260526T190000
DTSTAMP:20260420T224847
CREATED:20260128T204244Z
LAST-MODIFIED:20260128T210139Z
UID:10002374-1779822000-1779822000@thepresssteamboat.com
SUMMARY:Tuesday Night Free Trivia
DESCRIPTION:Tuesday Night Free Trivia with Steamboat Trivia starts at 7PM EVERY TUESDAY at the press in downtown Steamboat Springs\, Colorado. Come think\, drink\, and win fun prizes with friends!
URL:https://thepresssteamboat.com/musician/tuesday-free-trivia-2/2026-05-26/
LOCATION:The Press Steamboat\, 1009 Lincoln Ave\, Steamboat Springs\, CO\, 80487\, United States
CATEGORIES:Trivia
ATTACH;FMTTYPE=image/jpeg:https://thepresssteamboat.com/wp-content/uploads/2023/01/Trivia-Repeater-scaled-e1694716589766.jpeg
END:VEVENT
BEGIN:VEVENT
DTSTART;TZID=America/Denver:20260527T180000
DTEND;TZID=America/Denver:20260527T180000
DTSTAMP:20260420T224847
CREATED:20260128T205723Z
LAST-MODIFIED:20260128T211219Z
UID:10001765-1779904800-1779904800@thepresssteamboat.com
SUMMARY:Singo! Music Bingo
DESCRIPTION:Ready for a midweek pick-me-up? Join us at the press for Singo Music Bingo every Wednesday at 6 PM! Sip on your favorite drinks\, groove to classic tunes\, and enjoy a night of good vibes. Plus\, you might just walk away with some awesome prizes!
URL:https://thepresssteamboat.com/musician/singo-2/2026-05-27/
LOCATION:The Press Steamboat\, 1009 Lincoln Ave\, Steamboat Springs\, CO\, 80487\, United States
CATEGORIES:Trivia
ATTACH;FMTTYPE=image/png:https://thepresssteamboat.com/wp-content/uploads/2024/09/Singo-Event-Picture.png
END:VEVENT
BEGIN:VEVENT
DTSTART;TZID=America/Denver:20260529T200000
DTEND;TZID=America/Denver:20260529T200000
DTSTAMP:20260420T224847
CREATED:20260416T185427Z
LAST-MODIFIED:20260416T185427Z
UID:10002670-1780084800-1780084800@thepresssteamboat.com
SUMMARY:Front Page Sound
DESCRIPTION:Local band featuring Ben Font\, Jeremiah Roiko\, Willie Samuelson\, and Fernando Carrillo!
URL:https://thepresssteamboat.com/musician/front-page-sound-5/
LOCATION:The Press Steamboat\, 1009 Lincoln Ave\, Steamboat Springs\, CO\, 80487\, United States
CATEGORIES:live music
ATTACH;FMTTYPE=image/jpeg:https://thepresssteamboat.com/wp-content/uploads/2025/11/Front-Page-Sound-11725-scaled-e1764028192306.jpg
END:VEVENT
BEGIN:VEVENT
DTSTART;TZID=America/Denver:20260530T200000
DTEND;TZID=America/Denver:20260530T200000
DTSTAMP:20260420T224847
CREATED:20260416T185449Z
LAST-MODIFIED:20260416T185449Z
UID:10002671-1780171200-1780171200@thepresssteamboat.com
SUMMARY:Jack Nelson
DESCRIPTION:Born on the Corpus Christi Bay with roots in the deserts of West Texas and the Piney Woods of East Texas. Jack Nelson is a music artist to keep an eye on. Growing up the son of ranchers and teachers\, music for the hard working God fearing folk is what pours out of him. \nJack was handed his first guitar at the age of four years old and has been making music ever since. Whether it was playing alongside his father during practices for his tejano band as a child\, leading his church youth group in praise and worship\, or playing music festivals in his in his hard rock band in high school\, Jack has always appreciated all types of genres and his history has made him a very diverse musician. \nJack took a break from his life and music in order to serve our country by joining the United States Navy and after four and a half years decided it was time to return home\, go to college\, and start making music again. \nUpon departing the Navy in 2012\, Jack began playing one man acoustic shows in the local area and as a lone acoustic musician with only amateur recordings Jack was able to spend a considerable amount of time in the top spot of the local reverb country charts. But being compelled to a larger platform Jack has carefully assembled musicians from across the country in an effort to bring his brand of music to the scene.  \nWithin that time frame Jack has been continuing to release new music with a few “number ones” in the Texas music scene all whilst having the honor of sharing the stage with fellow artists such as Lynyrd Skynyrd\, Vanilla Ice\, Lee Greenwood\, Tracy Byrd\, David Ball\, Cody Canada and the Departed\, Wade Bowen\, Creed Fisher\, Sundance Head\, Bart Crow\, Jason Boland and the Stragglers\, Josh Ward\,  Scooter Brown Band\, Bri Bagwell\, Curtis Grimes\, Micky and The Motorcars\, Kyle Park\, David Grace\, Susan Hickman\, Jake Bush\, Larry Joe Taylor\, and many more. 
URL:https://thepresssteamboat.com/musician/jack-nelson-2/
LOCATION:The Press Steamboat\, 1009 Lincoln Ave\, Steamboat Springs\, CO\, 80487\, United States
CATEGORIES:live music
ATTACH;FMTTYPE=image/webp:https://thepresssteamboat.com/wp-content/uploads/2023/07/9fa784_b90f6876215f487192225e18facffc3fmv2.webp
END:VEVENT
END:VCALENDAR