BEGIN:VCALENDAR
VERSION:2.0
PRODID:-//the press. - ECPv6.15.20//NONSGML v1.0//EN
CALSCALE:GREGORIAN
METHOD:PUBLISH
X-ORIGINAL-URL:https://thepresssteamboat.com
X-WR-CALDESC:Events for the press.
REFRESH-INTERVAL;VALUE=DURATION:PT1H
X-Robots-Tag:noindex
X-PUBLISHED-TTL:PT1H
BEGIN:VTIMEZONE
TZID:America/Denver
BEGIN:DAYLIGHT
TZOFFSETFROM:-0700
TZOFFSETTO:-0600
TZNAME:MDT
DTSTART:20250309T090000
END:DAYLIGHT
BEGIN:STANDARD
TZOFFSETFROM:-0600
TZOFFSETTO:-0700
TZNAME:MST
DTSTART:20251102T080000
END:STANDARD
BEGIN:DAYLIGHT
TZOFFSETFROM:-0700
TZOFFSETTO:-0600
TZNAME:MDT
DTSTART:20260308T090000
END:DAYLIGHT
BEGIN:STANDARD
TZOFFSETFROM:-0600
TZOFFSETTO:-0700
TZNAME:MST
DTSTART:20261101T080000
END:STANDARD
BEGIN:DAYLIGHT
TZOFFSETFROM:-0700
TZOFFSETTO:-0600
TZNAME:MDT
DTSTART:20270314T090000
END:DAYLIGHT
BEGIN:STANDARD
TZOFFSETFROM:-0600
TZOFFSETTO:-0700
TZNAME:MST
DTSTART:20271107T080000
END:STANDARD
END:VTIMEZONE
BEGIN:VEVENT
DTSTART;TZID=America/Denver:20260624T180000
DTEND;TZID=America/Denver:20260624T180000
DTSTAMP:20260421T180308
CREATED:20260128T205723Z
LAST-MODIFIED:20260128T211219Z
UID:10001769-1782324000-1782324000@thepresssteamboat.com
SUMMARY:Singo! Music Bingo
DESCRIPTION:Ready for a midweek pick-me-up? Join us at the press for Singo Music Bingo every Wednesday at 6 PM! Sip on your favorite drinks\, groove to classic tunes\, and enjoy a night of good vibes. Plus\, you might just walk away with some awesome prizes!
URL:https://thepresssteamboat.com/musician/singo-2/2026-06-24/
LOCATION:The Press Steamboat\, 1009 Lincoln Ave\, Steamboat Springs\, CO\, 80487\, United States
CATEGORIES:Trivia
ATTACH;FMTTYPE=image/png:https://thepresssteamboat.com/wp-content/uploads/2024/09/Singo-Event-Picture.png
END:VEVENT
BEGIN:VEVENT
DTSTART;TZID=America/Denver:20260627T200000
DTEND;TZID=America/Denver:20260627T200000
DTSTAMP:20260421T180308
CREATED:20260220T222056Z
LAST-MODIFIED:20260220T222056Z
UID:10002639-1782590400-1782590400@thepresssteamboat.com
SUMMARY:The Woods
DESCRIPTION:The Woods aren’t just a band; they’re a place where genres and generations overlap\, blending the three-part harmonies of 1970s folk-rock with the hooks of modern-day country music. The result is a polished sound that’s both fresh and familiar\, created by a trio of Nashville-based singers\, songwriters\, and instrumentalists who breathe new life into old-school influences.   With the release of their upcoming debut EP\, The Woods showcase not only the writing chops that sent their first single\, “World’s On Fire\,” into the Top 50 on the Music Row Country Breakout Chart\, but also the stacked vocals and entwined guitarmonies that have earned the trio comparisons to acts like The Eagles and Fleetwood Mac. Produced by Grammy-winning producer Blake Chancey (The Dixie Chicks\, Little Big Town) and recorded in the wake of The Woods’ arena tour with Tim McGraw\, this next chapter of music serves as a reintroduction to one of Nashville’s most promising exports. \nBandmates Dan O’Rourke\, Raquel Cole\, and Leland Rooney all came to Nashville on their own\, looking to make their individual marks on a city steeped in music.  Cole was an award-winning songwriter from British Columbia\, with a pair of Top 50 country singles under her belt and an electric guitar in her hands. O’Rourke was a nomadic folksinger who’d already lived in a half-dozen cities across the country\, earning a first-place finish in the International Songwriting Competition along the way. Rooney was a classically trained guitarist who’d been gigging since his teenage years\, playing country songs on the Texas bar circuit long before he could order his own drinks. Together\, the three musicians found common ground in the music of their parents’ generation.  They began making their own updated version of that sound\, blending their voices together into thick harmonies\, rooting everything in classic songwriting and contemporary storytelling.
URL:https://thepresssteamboat.com/musician/the-woods-3/
LOCATION:The Press Steamboat\, 1009 Lincoln Ave\, Steamboat Springs\, CO\, 80487\, United States
CATEGORIES:live music
ATTACH;FMTTYPE=image/jpeg:https://thepresssteamboat.com/wp-content/uploads/2026/01/8.5x11-scaled-e1768889761361.jpg
END:VEVENT
BEGIN:VEVENT
DTSTART;TZID=America/Denver:20260630T190000
DTEND;TZID=America/Denver:20260630T190000
DTSTAMP:20260421T180308
CREATED:20260128T204244Z
LAST-MODIFIED:20260128T210139Z
UID:10002379-1782846000-1782846000@thepresssteamboat.com
SUMMARY:Tuesday Night Free Trivia
DESCRIPTION:Tuesday Night Free Trivia with Steamboat Trivia starts at 7PM EVERY TUESDAY at the press in downtown Steamboat Springs\, Colorado. Come think\, drink\, and win fun prizes with friends!
URL:https://thepresssteamboat.com/musician/tuesday-free-trivia-2/2026-06-30/
LOCATION:The Press Steamboat\, 1009 Lincoln Ave\, Steamboat Springs\, CO\, 80487\, United States
CATEGORIES:Trivia
ATTACH;FMTTYPE=image/jpeg:https://thepresssteamboat.com/wp-content/uploads/2023/01/Trivia-Repeater-scaled-e1694716589766.jpeg
END:VEVENT
BEGIN:VEVENT
DTSTART;TZID=America/Denver:20260701T180000
DTEND;TZID=America/Denver:20260701T180000
DTSTAMP:20260421T180308
CREATED:20260128T205723Z
LAST-MODIFIED:20260128T211219Z
UID:10001770-1782928800-1782928800@thepresssteamboat.com
SUMMARY:Singo! Music Bingo
DESCRIPTION:Ready for a midweek pick-me-up? Join us at the press for Singo Music Bingo every Wednesday at 6 PM! Sip on your favorite drinks\, groove to classic tunes\, and enjoy a night of good vibes. Plus\, you might just walk away with some awesome prizes!
URL:https://thepresssteamboat.com/musician/singo-2/2026-07-01/
LOCATION:The Press Steamboat\, 1009 Lincoln Ave\, Steamboat Springs\, CO\, 80487\, United States
CATEGORIES:Trivia
ATTACH;FMTTYPE=image/png:https://thepresssteamboat.com/wp-content/uploads/2024/09/Singo-Event-Picture.png
END:VEVENT
BEGIN:VEVENT
DTSTART;TZID=America/Denver:20260702T200000
DTEND;TZID=America/Denver:20260702T200000
DTSTAMP:20260421T180308
CREATED:20260220T222131Z
LAST-MODIFIED:20260220T222150Z
UID:10002640-1783022400-1783022400@thepresssteamboat.com
SUMMARY:Hunter Archer
DESCRIPTION:The Hunter Archer is a Country/Bluegrass band\, hailing from Steamboat Springs Colorado. Our influences range from Waylon Jennings\, the Grateful Dead and Neil Young. Just a few misfits who love to have a great time\, we’ll see you out there!
URL:https://thepresssteamboat.com/musician/hunter-archer/
LOCATION:The Press Steamboat\, 1009 Lincoln Ave\, Steamboat Springs\, CO\, 80487\, United States
CATEGORIES:live music
ATTACH;FMTTYPE=image/png:https://thepresssteamboat.com/wp-content/uploads/2025/12/Screenshot-2025-12-07-at-11.05.17-PM-e1765170406487.png
END:VEVENT
BEGIN:VEVENT
DTSTART;TZID=America/Denver:20260703T200000
DTEND;TZID=America/Denver:20260703T200000
DTSTAMP:20260421T180308
CREATED:20260220T222225Z
LAST-MODIFIED:20260220T222225Z
UID:10002641-1783108800-1783108800@thepresssteamboat.com
SUMMARY:Front Page Sound
DESCRIPTION:Local band featuring Ben Font\, Jeremiah Roiko\, Willie Samuelson\, and Fernando Carrillo!
URL:https://thepresssteamboat.com/musician/front-page-sound-6/
LOCATION:The Press Steamboat\, 1009 Lincoln Ave\, Steamboat Springs\, CO\, 80487\, United States
CATEGORIES:live music
ATTACH;FMTTYPE=image/jpeg:https://thepresssteamboat.com/wp-content/uploads/2025/11/Front-Page-Sound-11725-scaled-e1764028192306.jpg
END:VEVENT
BEGIN:VEVENT
DTSTART;TZID=America/Denver:20260707T190000
DTEND;TZID=America/Denver:20260707T190000
DTSTAMP:20260421T180308
CREATED:20260128T204244Z
LAST-MODIFIED:20260128T210139Z
UID:10002380-1783450800-1783450800@thepresssteamboat.com
SUMMARY:Tuesday Night Free Trivia
DESCRIPTION:Tuesday Night Free Trivia with Steamboat Trivia starts at 7PM EVERY TUESDAY at the press in downtown Steamboat Springs\, Colorado. Come think\, drink\, and win fun prizes with friends!
URL:https://thepresssteamboat.com/musician/tuesday-free-trivia-2/2026-07-07/
LOCATION:The Press Steamboat\, 1009 Lincoln Ave\, Steamboat Springs\, CO\, 80487\, United States
CATEGORIES:Trivia
ATTACH;FMTTYPE=image/jpeg:https://thepresssteamboat.com/wp-content/uploads/2023/01/Trivia-Repeater-scaled-e1694716589766.jpeg
END:VEVENT
BEGIN:VEVENT
DTSTART;TZID=America/Denver:20260708T180000
DTEND;TZID=America/Denver:20260708T180000
DTSTAMP:20260421T180308
CREATED:20260128T205723Z
LAST-MODIFIED:20260128T211219Z
UID:10001771-1783533600-1783533600@thepresssteamboat.com
SUMMARY:Singo! Music Bingo
DESCRIPTION:Ready for a midweek pick-me-up? Join us at the press for Singo Music Bingo every Wednesday at 6 PM! Sip on your favorite drinks\, groove to classic tunes\, and enjoy a night of good vibes. Plus\, you might just walk away with some awesome prizes!
URL:https://thepresssteamboat.com/musician/singo-2/2026-07-08/
LOCATION:The Press Steamboat\, 1009 Lincoln Ave\, Steamboat Springs\, CO\, 80487\, United States
CATEGORIES:Trivia
ATTACH;FMTTYPE=image/png:https://thepresssteamboat.com/wp-content/uploads/2024/09/Singo-Event-Picture.png
END:VEVENT
BEGIN:VEVENT
DTSTART;TZID=America/Denver:20260708T200000
DTEND;TZID=America/Denver:20260708T200000
DTSTAMP:20260421T180308
CREATED:20260220T222254Z
LAST-MODIFIED:20260220T222254Z
UID:10002642-1783540800-1783540800@thepresssteamboat.com
SUMMARY:The Naturals
DESCRIPTION:It’s a night with two of Steamboat’s famed local musicians. Joe Ghiglia (of Leaner Lunker) and Randy Kelley (of Worried Men) are coming together for a duo show as “The Naturals.” Joe’s bringing his guitar and Randy’s got his fiddle and guitar in tow.
URL:https://thepresssteamboat.com/musician/the-naturals-8/
LOCATION:The Press Steamboat\, 1009 Lincoln Ave\, Steamboat Springs\, CO\, 80487\, United States
CATEGORIES:live music
ATTACH;FMTTYPE=image/jpeg:https://thepresssteamboat.com/wp-content/uploads/2025/04/The-Naturals-pic.jpg
END:VEVENT
BEGIN:VEVENT
DTSTART;TZID=America/Denver:20260711T200000
DTEND;TZID=America/Denver:20260711T200000
DTSTAMP:20260421T180308
CREATED:20260220T222324Z
LAST-MODIFIED:20260220T222349Z
UID:10002643-1783800000-1783800000@thepresssteamboat.com
SUMMARY:The Flattops
DESCRIPTION:With roots deep in the Yampa Valley and eyes set on stages across the West\, The Flattops are more than just a band—they’re a Colorado sound you won’t forget. The Flattops features local legends: Randy Kelley\, Eric Baker\, and Lucus Mouttet. \n 
URL:https://thepresssteamboat.com/musician/the-flattops-9/
LOCATION:The Press Steamboat\, 1009 Lincoln Ave\, Steamboat Springs\, CO\, 80487\, United States
CATEGORIES:live music
ATTACH;FMTTYPE=image/jpeg:https://thepresssteamboat.com/wp-content/uploads/2025/09/The-Flattops-92525-1-scaled-e1760737303305.jpg
END:VEVENT
BEGIN:VEVENT
DTSTART;TZID=America/Denver:20260714T190000
DTEND;TZID=America/Denver:20260714T190000
DTSTAMP:20260421T180308
CREATED:20260128T204244Z
LAST-MODIFIED:20260128T210139Z
UID:10002381-1784055600-1784055600@thepresssteamboat.com
SUMMARY:Tuesday Night Free Trivia
DESCRIPTION:Tuesday Night Free Trivia with Steamboat Trivia starts at 7PM EVERY TUESDAY at the press in downtown Steamboat Springs\, Colorado. Come think\, drink\, and win fun prizes with friends!
URL:https://thepresssteamboat.com/musician/tuesday-free-trivia-2/2026-07-14/
LOCATION:The Press Steamboat\, 1009 Lincoln Ave\, Steamboat Springs\, CO\, 80487\, United States
CATEGORIES:Trivia
ATTACH;FMTTYPE=image/jpeg:https://thepresssteamboat.com/wp-content/uploads/2023/01/Trivia-Repeater-scaled-e1694716589766.jpeg
END:VEVENT
BEGIN:VEVENT
DTSTART;TZID=America/Denver:20260715T180000
DTEND;TZID=America/Denver:20260715T180000
DTSTAMP:20260421T180308
CREATED:20260128T205723Z
LAST-MODIFIED:20260128T211219Z
UID:10001772-1784138400-1784138400@thepresssteamboat.com
SUMMARY:Singo! Music Bingo
DESCRIPTION:Ready for a midweek pick-me-up? Join us at the press for Singo Music Bingo every Wednesday at 6 PM! Sip on your favorite drinks\, groove to classic tunes\, and enjoy a night of good vibes. Plus\, you might just walk away with some awesome prizes!
URL:https://thepresssteamboat.com/musician/singo-2/2026-07-15/
LOCATION:The Press Steamboat\, 1009 Lincoln Ave\, Steamboat Springs\, CO\, 80487\, United States
CATEGORIES:Trivia
ATTACH;FMTTYPE=image/png:https://thepresssteamboat.com/wp-content/uploads/2024/09/Singo-Event-Picture.png
END:VEVENT
BEGIN:VEVENT
DTSTART;TZID=America/Denver:20260716T200000
DTEND;TZID=America/Denver:20260716T200000
DTSTAMP:20260421T180308
CREATED:20260220T222352Z
LAST-MODIFIED:20260220T222352Z
UID:10002644-1784232000-1784232000@thepresssteamboat.com
SUMMARY:Steve Boynton Trio
DESCRIPTION:Join us Thursday night for a special evening of blues and rock and welcome back\, Steve Boynton.
URL:https://thepresssteamboat.com/musician/steve-boynton-trio-9/
LOCATION:The Press Steamboat\, 1009 Lincoln Ave\, Steamboat Springs\, CO\, 80487\, United States
CATEGORIES:live music
ATTACH;FMTTYPE=image/jpeg:https://thepresssteamboat.com/wp-content/uploads/2022/12/SteveBoynton2021_web-e1672621129142.jpeg
END:VEVENT
BEGIN:VEVENT
DTSTART;TZID=America/Denver:20260717T200000
DTEND;TZID=America/Denver:20260717T200000
DTSTAMP:20260421T180308
CREATED:20260220T222442Z
LAST-MODIFIED:20260220T222442Z
UID:10002645-1784318400-1784318400@thepresssteamboat.com
SUMMARY:Matt Skinner Band
DESCRIPTION:THE MATT SKINNER BAND IS A 4-PIECE ALT-COUNTRY ROOTS-ROCK GROUP FROM FORT COLLINS\, COLORADO.\n\n\n\n\n\n\n\n\nThe Matt Skinner Band formed in the winter of 2012 and released Native Stranger (2013) shortly thereafter which was recorded at the highly acclaimed Stout Studio in Fort Collins\, CO. The band consists of Matt Skinner on lead vocals and guitars\, Darren Radach on drums and mandolin\, Ben O’Connor on electric and upright bass\, all rounded out by Ansel Foxley on electric and acoustic dobro. Notable sometime-band members include Joe Lessard on fiddle\, Michael O’Connor on lead guitar\, and Amanda Hofer on backup and lead vocals. \nMatt has released three solo albums\, Four Winds (2001)\, The Nighthawk Affair (2007) and Live at StoneCringe: Vol I (2009) on the Tapadero Productions label and one independent rock EP\, Four Day March (2010) with the supergroup\, Eleven Bones. Matt is also featured on Waylon Jennings: The Red River tribute (2004) and Undone: A Tribute to Robert Earl Keen (2009) with many of the best and brightest singer/songwriters on the scene. Additionally\, songs penned by Matt are included in the film\, Secret at Arrow Lake (2009) starring C. Thomas Howell in which Matt and some old band mates also make a cameo. \nSkinner’s lyrics capture the raw human spirit and come to life as the band deftly weaves a colorful tapestry of songs and stories of love and danger with a passion born of living and tempered with an infectious groove.  The detail and imagery of each song is magnified by the intense electricity of the band as Skinner’s powerful\, road-worn tenor voice commands the stage with a presence that is spellbinding in its organic honesty and mercurial resonance. Each performance is a thrilling\, emotional carnival ride filled with love\, laughter\, pain and heartbreak.
URL:https://thepresssteamboat.com/musician/matt-skinner-band-2/
LOCATION:The Press Steamboat\, 1009 Lincoln Ave\, Steamboat Springs\, CO\, 80487\, United States
CATEGORIES:live music
ATTACH;FMTTYPE=image/jpeg:https://thepresssteamboat.com/wp-content/uploads/2024/04/MattSkinnerBand.jpeg
END:VEVENT
BEGIN:VEVENT
DTSTART;TZID=America/Denver:20260721T190000
DTEND;TZID=America/Denver:20260721T190000
DTSTAMP:20260421T180308
CREATED:20260128T204244Z
LAST-MODIFIED:20260128T210139Z
UID:10002382-1784660400-1784660400@thepresssteamboat.com
SUMMARY:Tuesday Night Free Trivia
DESCRIPTION:Tuesday Night Free Trivia with Steamboat Trivia starts at 7PM EVERY TUESDAY at the press in downtown Steamboat Springs\, Colorado. Come think\, drink\, and win fun prizes with friends!
URL:https://thepresssteamboat.com/musician/tuesday-free-trivia-2/2026-07-21/
LOCATION:The Press Steamboat\, 1009 Lincoln Ave\, Steamboat Springs\, CO\, 80487\, United States
CATEGORIES:Trivia
ATTACH;FMTTYPE=image/jpeg:https://thepresssteamboat.com/wp-content/uploads/2023/01/Trivia-Repeater-scaled-e1694716589766.jpeg
END:VEVENT
BEGIN:VEVENT
DTSTART;TZID=America/Denver:20260722T180000
DTEND;TZID=America/Denver:20260722T180000
DTSTAMP:20260421T180308
CREATED:20260128T205723Z
LAST-MODIFIED:20260128T211219Z
UID:10001773-1784743200-1784743200@thepresssteamboat.com
SUMMARY:Singo! Music Bingo
DESCRIPTION:Ready for a midweek pick-me-up? Join us at the press for Singo Music Bingo every Wednesday at 6 PM! Sip on your favorite drinks\, groove to classic tunes\, and enjoy a night of good vibes. Plus\, you might just walk away with some awesome prizes!
URL:https://thepresssteamboat.com/musician/singo-2/2026-07-22/
LOCATION:The Press Steamboat\, 1009 Lincoln Ave\, Steamboat Springs\, CO\, 80487\, United States
CATEGORIES:Trivia
ATTACH;FMTTYPE=image/png:https://thepresssteamboat.com/wp-content/uploads/2024/09/Singo-Event-Picture.png
END:VEVENT
BEGIN:VEVENT
DTSTART;TZID=America/Denver:20260728T190000
DTEND;TZID=America/Denver:20260728T190000
DTSTAMP:20260421T180308
CREATED:20260128T204244Z
LAST-MODIFIED:20260128T210139Z
UID:10002383-1785265200-1785265200@thepresssteamboat.com
SUMMARY:Tuesday Night Free Trivia
DESCRIPTION:Tuesday Night Free Trivia with Steamboat Trivia starts at 7PM EVERY TUESDAY at the press in downtown Steamboat Springs\, Colorado. Come think\, drink\, and win fun prizes with friends!
URL:https://thepresssteamboat.com/musician/tuesday-free-trivia-2/2026-07-28/
LOCATION:The Press Steamboat\, 1009 Lincoln Ave\, Steamboat Springs\, CO\, 80487\, United States
CATEGORIES:Trivia
ATTACH;FMTTYPE=image/jpeg:https://thepresssteamboat.com/wp-content/uploads/2023/01/Trivia-Repeater-scaled-e1694716589766.jpeg
END:VEVENT
BEGIN:VEVENT
DTSTART;TZID=America/Denver:20260729T180000
DTEND;TZID=America/Denver:20260729T180000
DTSTAMP:20260421T180308
CREATED:20260128T205723Z
LAST-MODIFIED:20260128T211219Z
UID:10001774-1785348000-1785348000@thepresssteamboat.com
SUMMARY:Singo! Music Bingo
DESCRIPTION:Ready for a midweek pick-me-up? Join us at the press for Singo Music Bingo every Wednesday at 6 PM! Sip on your favorite drinks\, groove to classic tunes\, and enjoy a night of good vibes. Plus\, you might just walk away with some awesome prizes!
URL:https://thepresssteamboat.com/musician/singo-2/2026-07-29/
LOCATION:The Press Steamboat\, 1009 Lincoln Ave\, Steamboat Springs\, CO\, 80487\, United States
CATEGORIES:Trivia
ATTACH;FMTTYPE=image/png:https://thepresssteamboat.com/wp-content/uploads/2024/09/Singo-Event-Picture.png
END:VEVENT
BEGIN:VEVENT
DTSTART;TZID=America/Denver:20260804T190000
DTEND;TZID=America/Denver:20260804T190000
DTSTAMP:20260421T180308
CREATED:20260128T204244Z
LAST-MODIFIED:20260128T210139Z
UID:10002384-1785870000-1785870000@thepresssteamboat.com
SUMMARY:Tuesday Night Free Trivia
DESCRIPTION:Tuesday Night Free Trivia with Steamboat Trivia starts at 7PM EVERY TUESDAY at the press in downtown Steamboat Springs\, Colorado. Come think\, drink\, and win fun prizes with friends!
URL:https://thepresssteamboat.com/musician/tuesday-free-trivia-2/2026-08-04/
LOCATION:The Press Steamboat\, 1009 Lincoln Ave\, Steamboat Springs\, CO\, 80487\, United States
CATEGORIES:Trivia
ATTACH;FMTTYPE=image/jpeg:https://thepresssteamboat.com/wp-content/uploads/2023/01/Trivia-Repeater-scaled-e1694716589766.jpeg
END:VEVENT
BEGIN:VEVENT
DTSTART;TZID=America/Denver:20260805T180000
DTEND;TZID=America/Denver:20260805T180000
DTSTAMP:20260421T180308
CREATED:20260128T205723Z
LAST-MODIFIED:20260128T211219Z
UID:10001775-1785952800-1785952800@thepresssteamboat.com
SUMMARY:Singo! Music Bingo
DESCRIPTION:Ready for a midweek pick-me-up? Join us at the press for Singo Music Bingo every Wednesday at 6 PM! Sip on your favorite drinks\, groove to classic tunes\, and enjoy a night of good vibes. Plus\, you might just walk away with some awesome prizes!
URL:https://thepresssteamboat.com/musician/singo-2/2026-08-05/
LOCATION:The Press Steamboat\, 1009 Lincoln Ave\, Steamboat Springs\, CO\, 80487\, United States
CATEGORIES:Trivia
ATTACH;FMTTYPE=image/png:https://thepresssteamboat.com/wp-content/uploads/2024/09/Singo-Event-Picture.png
END:VEVENT
BEGIN:VEVENT
DTSTART;TZID=America/Denver:20260806T200000
DTEND;TZID=America/Denver:20260806T200000
DTSTAMP:20260421T180308
CREATED:20260220T222453Z
LAST-MODIFIED:20260220T222453Z
UID:10002646-1786046400-1786046400@thepresssteamboat.com
SUMMARY:Steve Boynton Trio
DESCRIPTION:Join us Thursday night for a special evening of blues and rock and welcome back\, Steve Boynton.
URL:https://thepresssteamboat.com/musician/steve-boynton-trio-10/
LOCATION:The Press Steamboat\, 1009 Lincoln Ave\, Steamboat Springs\, CO\, 80487\, United States
CATEGORIES:live music
ATTACH;FMTTYPE=image/jpeg:https://thepresssteamboat.com/wp-content/uploads/2022/12/SteveBoynton2021_web-e1672621129142.jpeg
END:VEVENT
BEGIN:VEVENT
DTSTART;TZID=America/Denver:20260811T190000
DTEND;TZID=America/Denver:20260811T190000
DTSTAMP:20260421T180309
CREATED:20260128T204244Z
LAST-MODIFIED:20260128T210139Z
UID:10002385-1786474800-1786474800@thepresssteamboat.com
SUMMARY:Tuesday Night Free Trivia
DESCRIPTION:Tuesday Night Free Trivia with Steamboat Trivia starts at 7PM EVERY TUESDAY at the press in downtown Steamboat Springs\, Colorado. Come think\, drink\, and win fun prizes with friends!
URL:https://thepresssteamboat.com/musician/tuesday-free-trivia-2/2026-08-11/
LOCATION:The Press Steamboat\, 1009 Lincoln Ave\, Steamboat Springs\, CO\, 80487\, United States
CATEGORIES:Trivia
ATTACH;FMTTYPE=image/jpeg:https://thepresssteamboat.com/wp-content/uploads/2023/01/Trivia-Repeater-scaled-e1694716589766.jpeg
END:VEVENT
BEGIN:VEVENT
DTSTART;TZID=America/Denver:20260812T180000
DTEND;TZID=America/Denver:20260812T180000
DTSTAMP:20260421T180309
CREATED:20260128T205723Z
LAST-MODIFIED:20260128T211219Z
UID:10001776-1786557600-1786557600@thepresssteamboat.com
SUMMARY:Singo! Music Bingo
DESCRIPTION:Ready for a midweek pick-me-up? Join us at the press for Singo Music Bingo every Wednesday at 6 PM! Sip on your favorite drinks\, groove to classic tunes\, and enjoy a night of good vibes. Plus\, you might just walk away with some awesome prizes!
URL:https://thepresssteamboat.com/musician/singo-2/2026-08-12/
LOCATION:The Press Steamboat\, 1009 Lincoln Ave\, Steamboat Springs\, CO\, 80487\, United States
CATEGORIES:Trivia
ATTACH;FMTTYPE=image/png:https://thepresssteamboat.com/wp-content/uploads/2024/09/Singo-Event-Picture.png
END:VEVENT
BEGIN:VEVENT
DTSTART;TZID=America/Denver:20260813T200000
DTEND;TZID=America/Denver:20260813T200000
DTSTAMP:20260421T180309
CREATED:20260220T223018Z
LAST-MODIFIED:20260220T223037Z
UID:10002647-1786651200-1786651200@thepresssteamboat.com
SUMMARY:John Benjamin Davis
DESCRIPTION:John Benjamin Davis is an old time fiddler\, singer songwriter\, and session musician in Chattanooga\, Tennessee!
URL:https://thepresssteamboat.com/musician/john-benjamin-davis/
LOCATION:The Press Steamboat\, 1009 Lincoln Ave\, Steamboat Springs\, CO\, 80487\, United States
CATEGORIES:live music
ATTACH;FMTTYPE=image/webp:https://thepresssteamboat.com/wp-content/uploads/2026/02/JBD.webp
END:VEVENT
BEGIN:VEVENT
DTSTART;TZID=America/Denver:20260818T190000
DTEND;TZID=America/Denver:20260818T190000
DTSTAMP:20260421T180309
CREATED:20260128T204244Z
LAST-MODIFIED:20260128T210139Z
UID:10002386-1787079600-1787079600@thepresssteamboat.com
SUMMARY:Tuesday Night Free Trivia
DESCRIPTION:Tuesday Night Free Trivia with Steamboat Trivia starts at 7PM EVERY TUESDAY at the press in downtown Steamboat Springs\, Colorado. Come think\, drink\, and win fun prizes with friends!
URL:https://thepresssteamboat.com/musician/tuesday-free-trivia-2/2026-08-18/
LOCATION:The Press Steamboat\, 1009 Lincoln Ave\, Steamboat Springs\, CO\, 80487\, United States
CATEGORIES:Trivia
ATTACH;FMTTYPE=image/jpeg:https://thepresssteamboat.com/wp-content/uploads/2023/01/Trivia-Repeater-scaled-e1694716589766.jpeg
END:VEVENT
BEGIN:VEVENT
DTSTART;TZID=America/Denver:20260819T180000
DTEND;TZID=America/Denver:20260819T180000
DTSTAMP:20260421T180309
CREATED:20260128T205723Z
LAST-MODIFIED:20260128T211219Z
UID:10001777-1787162400-1787162400@thepresssteamboat.com
SUMMARY:Singo! Music Bingo
DESCRIPTION:Ready for a midweek pick-me-up? Join us at the press for Singo Music Bingo every Wednesday at 6 PM! Sip on your favorite drinks\, groove to classic tunes\, and enjoy a night of good vibes. Plus\, you might just walk away with some awesome prizes!
URL:https://thepresssteamboat.com/musician/singo-2/2026-08-19/
LOCATION:The Press Steamboat\, 1009 Lincoln Ave\, Steamboat Springs\, CO\, 80487\, United States
CATEGORIES:Trivia
ATTACH;FMTTYPE=image/png:https://thepresssteamboat.com/wp-content/uploads/2024/09/Singo-Event-Picture.png
END:VEVENT
BEGIN:VEVENT
DTSTART;TZID=America/Denver:20260821T200000
DTEND;TZID=America/Denver:20260821T200000
DTSTAMP:20260421T180309
CREATED:20260220T223122Z
LAST-MODIFIED:20260220T223122Z
UID:10002648-1787342400-1787342400@thepresssteamboat.com
SUMMARY:Front Page Sound
DESCRIPTION:Local band featuring Ben Font\, Jeremiah Roiko\, Willie Samuelson\, and Fernando Carrillo!
URL:https://thepresssteamboat.com/musician/front-page-sound-7/
LOCATION:The Press Steamboat\, 1009 Lincoln Ave\, Steamboat Springs\, CO\, 80487\, United States
CATEGORIES:live music
ATTACH;FMTTYPE=image/jpeg:https://thepresssteamboat.com/wp-content/uploads/2025/11/Front-Page-Sound-11725-scaled-e1764028192306.jpg
END:VEVENT
BEGIN:VEVENT
DTSTART;TZID=America/Denver:20260822T200000
DTEND;TZID=America/Denver:20260822T200000
DTSTAMP:20260421T180309
CREATED:20260220T223131Z
LAST-MODIFIED:20260220T223131Z
UID:10002649-1787428800-1787428800@thepresssteamboat.com
SUMMARY:Midnight River Choir
DESCRIPTION:Midnight River Choir is coming BACK to the press! Don’t miss their performance with us before they hit the stage at Music Fest 2026! \nThe formation of Midnight River Choir was nothing short of a force of nature that now translates seamlessly during their live shows. This band needs no labels or comparisons. Their music speaks volumes about who and what they are. Their lives have been woven together by a strong thread of energy both on and off stage. That energy is raw and natural and soaked up from the earth through their bare feet. They believe that what you get is what you give and they give everything they have to their crowds. When that kind of energy lands back at the feet of the boys\, it is something of supreme intensity… and no one ever forgets it. \n \n 
URL:https://thepresssteamboat.com/musician/midnight-river-choir-3/
LOCATION:The Press Steamboat\, 1009 Lincoln Ave\, Steamboat Springs\, CO\, 80487\, United States
CATEGORIES:live music
ATTACH;FMTTYPE=image/jpeg:https://thepresssteamboat.com/wp-content/uploads/2022/12/MRC-Promo-Pic-4-scaled.jpeg
END:VEVENT
BEGIN:VEVENT
DTSTART;TZID=America/Denver:20260825T190000
DTEND;TZID=America/Denver:20260825T190000
DTSTAMP:20260421T180309
CREATED:20260128T204244Z
LAST-MODIFIED:20260128T210139Z
UID:10002387-1787684400-1787684400@thepresssteamboat.com
SUMMARY:Tuesday Night Free Trivia
DESCRIPTION:Tuesday Night Free Trivia with Steamboat Trivia starts at 7PM EVERY TUESDAY at the press in downtown Steamboat Springs\, Colorado. Come think\, drink\, and win fun prizes with friends!
URL:https://thepresssteamboat.com/musician/tuesday-free-trivia-2/2026-08-25/
LOCATION:The Press Steamboat\, 1009 Lincoln Ave\, Steamboat Springs\, CO\, 80487\, United States
CATEGORIES:Trivia
ATTACH;FMTTYPE=image/jpeg:https://thepresssteamboat.com/wp-content/uploads/2023/01/Trivia-Repeater-scaled-e1694716589766.jpeg
END:VEVENT
BEGIN:VEVENT
DTSTART;TZID=America/Denver:20260826T180000
DTEND;TZID=America/Denver:20260826T180000
DTSTAMP:20260421T180309
CREATED:20260128T205723Z
LAST-MODIFIED:20260128T211219Z
UID:10001778-1787767200-1787767200@thepresssteamboat.com
SUMMARY:Singo! Music Bingo
DESCRIPTION:Ready for a midweek pick-me-up? Join us at the press for Singo Music Bingo every Wednesday at 6 PM! Sip on your favorite drinks\, groove to classic tunes\, and enjoy a night of good vibes. Plus\, you might just walk away with some awesome prizes!
URL:https://thepresssteamboat.com/musician/singo-2/2026-08-26/
LOCATION:The Press Steamboat\, 1009 Lincoln Ave\, Steamboat Springs\, CO\, 80487\, United States
CATEGORIES:Trivia
ATTACH;FMTTYPE=image/png:https://thepresssteamboat.com/wp-content/uploads/2024/09/Singo-Event-Picture.png
END:VEVENT
END:VCALENDAR