BEGIN:VCALENDAR
VERSION:2.0
PRODID:-//the press. - ECPv6.15.20//NONSGML v1.0//EN
CALSCALE:GREGORIAN
METHOD:PUBLISH
X-ORIGINAL-URL:https://thepresssteamboat.com
X-WR-CALDESC:Events for the press.
REFRESH-INTERVAL;VALUE=DURATION:PT1H
X-Robots-Tag:noindex
X-PUBLISHED-TTL:PT1H
BEGIN:VTIMEZONE
TZID:America/Denver
BEGIN:DAYLIGHT
TZOFFSETFROM:-0700
TZOFFSETTO:-0600
TZNAME:MDT
DTSTART:20270314T090000
END:DAYLIGHT
BEGIN:STANDARD
TZOFFSETFROM:-0600
TZOFFSETTO:-0700
TZNAME:MST
DTSTART:20271107T080000
END:STANDARD
BEGIN:DAYLIGHT
TZOFFSETFROM:-0700
TZOFFSETTO:-0600
TZNAME:MDT
DTSTART:20280312T090000
END:DAYLIGHT
BEGIN:STANDARD
TZOFFSETFROM:-0600
TZOFFSETTO:-0700
TZNAME:MST
DTSTART:20281105T080000
END:STANDARD
BEGIN:DAYLIGHT
TZOFFSETFROM:-0700
TZOFFSETTO:-0600
TZNAME:MDT
DTSTART:20290311T090000
END:DAYLIGHT
BEGIN:STANDARD
TZOFFSETFROM:-0600
TZOFFSETTO:-0700
TZNAME:MST
DTSTART:20291104T080000
END:STANDARD
BEGIN:DAYLIGHT
TZOFFSETFROM:-0700
TZOFFSETTO:-0600
TZNAME:MDT
DTSTART:20300310T090000
END:DAYLIGHT
BEGIN:STANDARD
TZOFFSETFROM:-0600
TZOFFSETTO:-0700
TZNAME:MST
DTSTART:20301103T080000
END:STANDARD
END:VTIMEZONE
BEGIN:VEVENT
DTSTART;TZID=America/Denver:20280927T180000
DTEND;TZID=America/Denver:20280927T180000
DTSTAMP:20260422T165859
CREATED:20260128T205723Z
LAST-MODIFIED:20260128T211219Z
UID:10001887-1853690400-1853690400@thepresssteamboat.com
SUMMARY:Singo! Music Bingo
DESCRIPTION:Ready for a midweek pick-me-up? Join us at the press for Singo Music Bingo every Wednesday at 6 PM! Sip on your favorite drinks\, groove to classic tunes\, and enjoy a night of good vibes. Plus\, you might just walk away with some awesome prizes!
URL:https://thepresssteamboat.com/musician/singo-2/2028-09-27/
LOCATION:The Press Steamboat\, 1009 Lincoln Ave\, Steamboat Springs\, CO\, 80487\, United States
CATEGORIES:Trivia
ATTACH;FMTTYPE=image/png:https://thepresssteamboat.com/wp-content/uploads/2024/09/Singo-Event-Picture.png
END:VEVENT
BEGIN:VEVENT
DTSTART;TZID=America/Denver:20281003T190000
DTEND;TZID=America/Denver:20281003T190000
DTSTAMP:20260422T165859
CREATED:20260128T204244Z
LAST-MODIFIED:20260128T210139Z
UID:10002497-1854212400-1854212400@thepresssteamboat.com
SUMMARY:Tuesday Night Free Trivia
DESCRIPTION:Tuesday Night Free Trivia with Steamboat Trivia starts at 7PM EVERY TUESDAY at the press in downtown Steamboat Springs\, Colorado. Come think\, drink\, and win fun prizes with friends!
URL:https://thepresssteamboat.com/musician/tuesday-free-trivia-2/2028-10-03/
LOCATION:The Press Steamboat\, 1009 Lincoln Ave\, Steamboat Springs\, CO\, 80487\, United States
CATEGORIES:Trivia
ATTACH;FMTTYPE=image/jpeg:https://thepresssteamboat.com/wp-content/uploads/2023/01/Trivia-Repeater-scaled-e1694716589766.jpeg
END:VEVENT
BEGIN:VEVENT
DTSTART;TZID=America/Denver:20281004T180000
DTEND;TZID=America/Denver:20281004T180000
DTSTAMP:20260422T165859
CREATED:20260128T205723Z
LAST-MODIFIED:20260128T211219Z
UID:10001888-1854295200-1854295200@thepresssteamboat.com
SUMMARY:Singo! Music Bingo
DESCRIPTION:Ready for a midweek pick-me-up? Join us at the press for Singo Music Bingo every Wednesday at 6 PM! Sip on your favorite drinks\, groove to classic tunes\, and enjoy a night of good vibes. Plus\, you might just walk away with some awesome prizes!
URL:https://thepresssteamboat.com/musician/singo-2/2028-10-04/
LOCATION:The Press Steamboat\, 1009 Lincoln Ave\, Steamboat Springs\, CO\, 80487\, United States
CATEGORIES:Trivia
ATTACH;FMTTYPE=image/png:https://thepresssteamboat.com/wp-content/uploads/2024/09/Singo-Event-Picture.png
END:VEVENT
BEGIN:VEVENT
DTSTART;TZID=America/Denver:20281010T190000
DTEND;TZID=America/Denver:20281010T190000
DTSTAMP:20260422T165859
CREATED:20260128T204244Z
LAST-MODIFIED:20260128T210139Z
UID:10002498-1854817200-1854817200@thepresssteamboat.com
SUMMARY:Tuesday Night Free Trivia
DESCRIPTION:Tuesday Night Free Trivia with Steamboat Trivia starts at 7PM EVERY TUESDAY at the press in downtown Steamboat Springs\, Colorado. Come think\, drink\, and win fun prizes with friends!
URL:https://thepresssteamboat.com/musician/tuesday-free-trivia-2/2028-10-10/
LOCATION:The Press Steamboat\, 1009 Lincoln Ave\, Steamboat Springs\, CO\, 80487\, United States
CATEGORIES:Trivia
ATTACH;FMTTYPE=image/jpeg:https://thepresssteamboat.com/wp-content/uploads/2023/01/Trivia-Repeater-scaled-e1694716589766.jpeg
END:VEVENT
BEGIN:VEVENT
DTSTART;TZID=America/Denver:20281011T180000
DTEND;TZID=America/Denver:20281011T180000
DTSTAMP:20260422T165859
CREATED:20260128T205723Z
LAST-MODIFIED:20260128T211219Z
UID:10001889-1854900000-1854900000@thepresssteamboat.com
SUMMARY:Singo! Music Bingo
DESCRIPTION:Ready for a midweek pick-me-up? Join us at the press for Singo Music Bingo every Wednesday at 6 PM! Sip on your favorite drinks\, groove to classic tunes\, and enjoy a night of good vibes. Plus\, you might just walk away with some awesome prizes!
URL:https://thepresssteamboat.com/musician/singo-2/2028-10-11/
LOCATION:The Press Steamboat\, 1009 Lincoln Ave\, Steamboat Springs\, CO\, 80487\, United States
CATEGORIES:Trivia
ATTACH;FMTTYPE=image/png:https://thepresssteamboat.com/wp-content/uploads/2024/09/Singo-Event-Picture.png
END:VEVENT
BEGIN:VEVENT
DTSTART;TZID=America/Denver:20281017T190000
DTEND;TZID=America/Denver:20281017T190000
DTSTAMP:20260422T165859
CREATED:20260128T204244Z
LAST-MODIFIED:20260128T210139Z
UID:10002499-1855422000-1855422000@thepresssteamboat.com
SUMMARY:Tuesday Night Free Trivia
DESCRIPTION:Tuesday Night Free Trivia with Steamboat Trivia starts at 7PM EVERY TUESDAY at the press in downtown Steamboat Springs\, Colorado. Come think\, drink\, and win fun prizes with friends!
URL:https://thepresssteamboat.com/musician/tuesday-free-trivia-2/2028-10-17/
LOCATION:The Press Steamboat\, 1009 Lincoln Ave\, Steamboat Springs\, CO\, 80487\, United States
CATEGORIES:Trivia
ATTACH;FMTTYPE=image/jpeg:https://thepresssteamboat.com/wp-content/uploads/2023/01/Trivia-Repeater-scaled-e1694716589766.jpeg
END:VEVENT
BEGIN:VEVENT
DTSTART;TZID=America/Denver:20281018T180000
DTEND;TZID=America/Denver:20281018T180000
DTSTAMP:20260422T165859
CREATED:20260128T205723Z
LAST-MODIFIED:20260128T211219Z
UID:10001890-1855504800-1855504800@thepresssteamboat.com
SUMMARY:Singo! Music Bingo
DESCRIPTION:Ready for a midweek pick-me-up? Join us at the press for Singo Music Bingo every Wednesday at 6 PM! Sip on your favorite drinks\, groove to classic tunes\, and enjoy a night of good vibes. Plus\, you might just walk away with some awesome prizes!
URL:https://thepresssteamboat.com/musician/singo-2/2028-10-18/
LOCATION:The Press Steamboat\, 1009 Lincoln Ave\, Steamboat Springs\, CO\, 80487\, United States
CATEGORIES:Trivia
ATTACH;FMTTYPE=image/png:https://thepresssteamboat.com/wp-content/uploads/2024/09/Singo-Event-Picture.png
END:VEVENT
BEGIN:VEVENT
DTSTART;TZID=America/Denver:20281024T190000
DTEND;TZID=America/Denver:20281024T190000
DTSTAMP:20260422T165859
CREATED:20260128T204244Z
LAST-MODIFIED:20260128T210139Z
UID:10002500-1856026800-1856026800@thepresssteamboat.com
SUMMARY:Tuesday Night Free Trivia
DESCRIPTION:Tuesday Night Free Trivia with Steamboat Trivia starts at 7PM EVERY TUESDAY at the press in downtown Steamboat Springs\, Colorado. Come think\, drink\, and win fun prizes with friends!
URL:https://thepresssteamboat.com/musician/tuesday-free-trivia-2/2028-10-24/
LOCATION:The Press Steamboat\, 1009 Lincoln Ave\, Steamboat Springs\, CO\, 80487\, United States
CATEGORIES:Trivia
ATTACH;FMTTYPE=image/jpeg:https://thepresssteamboat.com/wp-content/uploads/2023/01/Trivia-Repeater-scaled-e1694716589766.jpeg
END:VEVENT
BEGIN:VEVENT
DTSTART;TZID=America/Denver:20281025T180000
DTEND;TZID=America/Denver:20281025T180000
DTSTAMP:20260422T165859
CREATED:20260128T205723Z
LAST-MODIFIED:20260128T211219Z
UID:10001891-1856109600-1856109600@thepresssteamboat.com
SUMMARY:Singo! Music Bingo
DESCRIPTION:Ready for a midweek pick-me-up? Join us at the press for Singo Music Bingo every Wednesday at 6 PM! Sip on your favorite drinks\, groove to classic tunes\, and enjoy a night of good vibes. Plus\, you might just walk away with some awesome prizes!
URL:https://thepresssteamboat.com/musician/singo-2/2028-10-25/
LOCATION:The Press Steamboat\, 1009 Lincoln Ave\, Steamboat Springs\, CO\, 80487\, United States
CATEGORIES:Trivia
ATTACH;FMTTYPE=image/png:https://thepresssteamboat.com/wp-content/uploads/2024/09/Singo-Event-Picture.png
END:VEVENT
BEGIN:VEVENT
DTSTART;TZID=America/Denver:20281031T190000
DTEND;TZID=America/Denver:20281031T190000
DTSTAMP:20260422T165859
CREATED:20260128T204244Z
LAST-MODIFIED:20260128T210139Z
UID:10002501-1856631600-1856631600@thepresssteamboat.com
SUMMARY:Tuesday Night Free Trivia
DESCRIPTION:Tuesday Night Free Trivia with Steamboat Trivia starts at 7PM EVERY TUESDAY at the press in downtown Steamboat Springs\, Colorado. Come think\, drink\, and win fun prizes with friends!
URL:https://thepresssteamboat.com/musician/tuesday-free-trivia-2/2028-10-31/
LOCATION:The Press Steamboat\, 1009 Lincoln Ave\, Steamboat Springs\, CO\, 80487\, United States
CATEGORIES:Trivia
ATTACH;FMTTYPE=image/jpeg:https://thepresssteamboat.com/wp-content/uploads/2023/01/Trivia-Repeater-scaled-e1694716589766.jpeg
END:VEVENT
BEGIN:VEVENT
DTSTART;TZID=America/Denver:20281101T180000
DTEND;TZID=America/Denver:20281101T180000
DTSTAMP:20260422T165859
CREATED:20260128T205723Z
LAST-MODIFIED:20260128T211219Z
UID:10001892-1856714400-1856714400@thepresssteamboat.com
SUMMARY:Singo! Music Bingo
DESCRIPTION:Ready for a midweek pick-me-up? Join us at the press for Singo Music Bingo every Wednesday at 6 PM! Sip on your favorite drinks\, groove to classic tunes\, and enjoy a night of good vibes. Plus\, you might just walk away with some awesome prizes!
URL:https://thepresssteamboat.com/musician/singo-2/2028-11-01/
LOCATION:The Press Steamboat\, 1009 Lincoln Ave\, Steamboat Springs\, CO\, 80487\, United States
CATEGORIES:Trivia
ATTACH;FMTTYPE=image/png:https://thepresssteamboat.com/wp-content/uploads/2024/09/Singo-Event-Picture.png
END:VEVENT
BEGIN:VEVENT
DTSTART;TZID=America/Denver:20281107T190000
DTEND;TZID=America/Denver:20281107T190000
DTSTAMP:20260422T165859
CREATED:20260128T204244Z
LAST-MODIFIED:20260128T210139Z
UID:10002502-1857236400-1857236400@thepresssteamboat.com
SUMMARY:Tuesday Night Free Trivia
DESCRIPTION:Tuesday Night Free Trivia with Steamboat Trivia starts at 7PM EVERY TUESDAY at the press in downtown Steamboat Springs\, Colorado. Come think\, drink\, and win fun prizes with friends!
URL:https://thepresssteamboat.com/musician/tuesday-free-trivia-2/2028-11-07/
LOCATION:The Press Steamboat\, 1009 Lincoln Ave\, Steamboat Springs\, CO\, 80487\, United States
CATEGORIES:Trivia
ATTACH;FMTTYPE=image/jpeg:https://thepresssteamboat.com/wp-content/uploads/2023/01/Trivia-Repeater-scaled-e1694716589766.jpeg
END:VEVENT
BEGIN:VEVENT
DTSTART;TZID=America/Denver:20281108T180000
DTEND;TZID=America/Denver:20281108T180000
DTSTAMP:20260422T165859
CREATED:20260128T205723Z
LAST-MODIFIED:20260128T211219Z
UID:10001893-1857319200-1857319200@thepresssteamboat.com
SUMMARY:Singo! Music Bingo
DESCRIPTION:Ready for a midweek pick-me-up? Join us at the press for Singo Music Bingo every Wednesday at 6 PM! Sip on your favorite drinks\, groove to classic tunes\, and enjoy a night of good vibes. Plus\, you might just walk away with some awesome prizes!
URL:https://thepresssteamboat.com/musician/singo-2/2028-11-08/
LOCATION:The Press Steamboat\, 1009 Lincoln Ave\, Steamboat Springs\, CO\, 80487\, United States
CATEGORIES:Trivia
ATTACH;FMTTYPE=image/png:https://thepresssteamboat.com/wp-content/uploads/2024/09/Singo-Event-Picture.png
END:VEVENT
BEGIN:VEVENT
DTSTART;TZID=America/Denver:20281114T190000
DTEND;TZID=America/Denver:20281114T190000
DTSTAMP:20260422T165859
CREATED:20260128T204244Z
LAST-MODIFIED:20260128T210139Z
UID:10002503-1857841200-1857841200@thepresssteamboat.com
SUMMARY:Tuesday Night Free Trivia
DESCRIPTION:Tuesday Night Free Trivia with Steamboat Trivia starts at 7PM EVERY TUESDAY at the press in downtown Steamboat Springs\, Colorado. Come think\, drink\, and win fun prizes with friends!
URL:https://thepresssteamboat.com/musician/tuesday-free-trivia-2/2028-11-14/
LOCATION:The Press Steamboat\, 1009 Lincoln Ave\, Steamboat Springs\, CO\, 80487\, United States
CATEGORIES:Trivia
ATTACH;FMTTYPE=image/jpeg:https://thepresssteamboat.com/wp-content/uploads/2023/01/Trivia-Repeater-scaled-e1694716589766.jpeg
END:VEVENT
BEGIN:VEVENT
DTSTART;TZID=America/Denver:20281115T180000
DTEND;TZID=America/Denver:20281115T180000
DTSTAMP:20260422T165859
CREATED:20260128T205723Z
LAST-MODIFIED:20260128T211219Z
UID:10001894-1857924000-1857924000@thepresssteamboat.com
SUMMARY:Singo! Music Bingo
DESCRIPTION:Ready for a midweek pick-me-up? Join us at the press for Singo Music Bingo every Wednesday at 6 PM! Sip on your favorite drinks\, groove to classic tunes\, and enjoy a night of good vibes. Plus\, you might just walk away with some awesome prizes!
URL:https://thepresssteamboat.com/musician/singo-2/2028-11-15/
LOCATION:The Press Steamboat\, 1009 Lincoln Ave\, Steamboat Springs\, CO\, 80487\, United States
CATEGORIES:Trivia
ATTACH;FMTTYPE=image/png:https://thepresssteamboat.com/wp-content/uploads/2024/09/Singo-Event-Picture.png
END:VEVENT
BEGIN:VEVENT
DTSTART;TZID=America/Denver:20281121T190000
DTEND;TZID=America/Denver:20281121T190000
DTSTAMP:20260422T165859
CREATED:20260128T204244Z
LAST-MODIFIED:20260128T210139Z
UID:10002504-1858446000-1858446000@thepresssteamboat.com
SUMMARY:Tuesday Night Free Trivia
DESCRIPTION:Tuesday Night Free Trivia with Steamboat Trivia starts at 7PM EVERY TUESDAY at the press in downtown Steamboat Springs\, Colorado. Come think\, drink\, and win fun prizes with friends!
URL:https://thepresssteamboat.com/musician/tuesday-free-trivia-2/2028-11-21/
LOCATION:The Press Steamboat\, 1009 Lincoln Ave\, Steamboat Springs\, CO\, 80487\, United States
CATEGORIES:Trivia
ATTACH;FMTTYPE=image/jpeg:https://thepresssteamboat.com/wp-content/uploads/2023/01/Trivia-Repeater-scaled-e1694716589766.jpeg
END:VEVENT
BEGIN:VEVENT
DTSTART;TZID=America/Denver:20281122T180000
DTEND;TZID=America/Denver:20281122T180000
DTSTAMP:20260422T165859
CREATED:20260128T205723Z
LAST-MODIFIED:20260128T211219Z
UID:10001895-1858528800-1858528800@thepresssteamboat.com
SUMMARY:Singo! Music Bingo
DESCRIPTION:Ready for a midweek pick-me-up? Join us at the press for Singo Music Bingo every Wednesday at 6 PM! Sip on your favorite drinks\, groove to classic tunes\, and enjoy a night of good vibes. Plus\, you might just walk away with some awesome prizes!
URL:https://thepresssteamboat.com/musician/singo-2/2028-11-22/
LOCATION:The Press Steamboat\, 1009 Lincoln Ave\, Steamboat Springs\, CO\, 80487\, United States
CATEGORIES:Trivia
ATTACH;FMTTYPE=image/png:https://thepresssteamboat.com/wp-content/uploads/2024/09/Singo-Event-Picture.png
END:VEVENT
BEGIN:VEVENT
DTSTART;TZID=America/Denver:20281128T190000
DTEND;TZID=America/Denver:20281128T190000
DTSTAMP:20260422T165859
CREATED:20260128T204244Z
LAST-MODIFIED:20260128T210139Z
UID:10002505-1859050800-1859050800@thepresssteamboat.com
SUMMARY:Tuesday Night Free Trivia
DESCRIPTION:Tuesday Night Free Trivia with Steamboat Trivia starts at 7PM EVERY TUESDAY at the press in downtown Steamboat Springs\, Colorado. Come think\, drink\, and win fun prizes with friends!
URL:https://thepresssteamboat.com/musician/tuesday-free-trivia-2/2028-11-28/
LOCATION:The Press Steamboat\, 1009 Lincoln Ave\, Steamboat Springs\, CO\, 80487\, United States
CATEGORIES:Trivia
ATTACH;FMTTYPE=image/jpeg:https://thepresssteamboat.com/wp-content/uploads/2023/01/Trivia-Repeater-scaled-e1694716589766.jpeg
END:VEVENT
BEGIN:VEVENT
DTSTART;TZID=America/Denver:20281129T180000
DTEND;TZID=America/Denver:20281129T180000
DTSTAMP:20260422T165859
CREATED:20260128T205723Z
LAST-MODIFIED:20260128T211219Z
UID:10001896-1859133600-1859133600@thepresssteamboat.com
SUMMARY:Singo! Music Bingo
DESCRIPTION:Ready for a midweek pick-me-up? Join us at the press for Singo Music Bingo every Wednesday at 6 PM! Sip on your favorite drinks\, groove to classic tunes\, and enjoy a night of good vibes. Plus\, you might just walk away with some awesome prizes!
URL:https://thepresssteamboat.com/musician/singo-2/2028-11-29/
LOCATION:The Press Steamboat\, 1009 Lincoln Ave\, Steamboat Springs\, CO\, 80487\, United States
CATEGORIES:Trivia
ATTACH;FMTTYPE=image/png:https://thepresssteamboat.com/wp-content/uploads/2024/09/Singo-Event-Picture.png
END:VEVENT
BEGIN:VEVENT
DTSTART;TZID=America/Denver:20281205T190000
DTEND;TZID=America/Denver:20281205T190000
DTSTAMP:20260422T165859
CREATED:20260128T204244Z
LAST-MODIFIED:20260128T210139Z
UID:10002506-1859655600-1859655600@thepresssteamboat.com
SUMMARY:Tuesday Night Free Trivia
DESCRIPTION:Tuesday Night Free Trivia with Steamboat Trivia starts at 7PM EVERY TUESDAY at the press in downtown Steamboat Springs\, Colorado. Come think\, drink\, and win fun prizes with friends!
URL:https://thepresssteamboat.com/musician/tuesday-free-trivia-2/2028-12-05/
LOCATION:The Press Steamboat\, 1009 Lincoln Ave\, Steamboat Springs\, CO\, 80487\, United States
CATEGORIES:Trivia
ATTACH;FMTTYPE=image/jpeg:https://thepresssteamboat.com/wp-content/uploads/2023/01/Trivia-Repeater-scaled-e1694716589766.jpeg
END:VEVENT
BEGIN:VEVENT
DTSTART;TZID=America/Denver:20281206T180000
DTEND;TZID=America/Denver:20281206T180000
DTSTAMP:20260422T165859
CREATED:20260128T205723Z
LAST-MODIFIED:20260128T211219Z
UID:10001897-1859738400-1859738400@thepresssteamboat.com
SUMMARY:Singo! Music Bingo
DESCRIPTION:Ready for a midweek pick-me-up? Join us at the press for Singo Music Bingo every Wednesday at 6 PM! Sip on your favorite drinks\, groove to classic tunes\, and enjoy a night of good vibes. Plus\, you might just walk away with some awesome prizes!
URL:https://thepresssteamboat.com/musician/singo-2/2028-12-06/
LOCATION:The Press Steamboat\, 1009 Lincoln Ave\, Steamboat Springs\, CO\, 80487\, United States
CATEGORIES:Trivia
ATTACH;FMTTYPE=image/png:https://thepresssteamboat.com/wp-content/uploads/2024/09/Singo-Event-Picture.png
END:VEVENT
BEGIN:VEVENT
DTSTART;TZID=America/Denver:20281212T190000
DTEND;TZID=America/Denver:20281212T190000
DTSTAMP:20260422T165859
CREATED:20260128T204244Z
LAST-MODIFIED:20260128T210139Z
UID:10002507-1860260400-1860260400@thepresssteamboat.com
SUMMARY:Tuesday Night Free Trivia
DESCRIPTION:Tuesday Night Free Trivia with Steamboat Trivia starts at 7PM EVERY TUESDAY at the press in downtown Steamboat Springs\, Colorado. Come think\, drink\, and win fun prizes with friends!
URL:https://thepresssteamboat.com/musician/tuesday-free-trivia-2/2028-12-12/
LOCATION:The Press Steamboat\, 1009 Lincoln Ave\, Steamboat Springs\, CO\, 80487\, United States
CATEGORIES:Trivia
ATTACH;FMTTYPE=image/jpeg:https://thepresssteamboat.com/wp-content/uploads/2023/01/Trivia-Repeater-scaled-e1694716589766.jpeg
END:VEVENT
BEGIN:VEVENT
DTSTART;TZID=America/Denver:20281213T180000
DTEND;TZID=America/Denver:20281213T180000
DTSTAMP:20260422T165859
CREATED:20260128T205723Z
LAST-MODIFIED:20260128T211219Z
UID:10001898-1860343200-1860343200@thepresssteamboat.com
SUMMARY:Singo! Music Bingo
DESCRIPTION:Ready for a midweek pick-me-up? Join us at the press for Singo Music Bingo every Wednesday at 6 PM! Sip on your favorite drinks\, groove to classic tunes\, and enjoy a night of good vibes. Plus\, you might just walk away with some awesome prizes!
URL:https://thepresssteamboat.com/musician/singo-2/2028-12-13/
LOCATION:The Press Steamboat\, 1009 Lincoln Ave\, Steamboat Springs\, CO\, 80487\, United States
CATEGORIES:Trivia
ATTACH;FMTTYPE=image/png:https://thepresssteamboat.com/wp-content/uploads/2024/09/Singo-Event-Picture.png
END:VEVENT
BEGIN:VEVENT
DTSTART;TZID=America/Denver:20281219T190000
DTEND;TZID=America/Denver:20281219T190000
DTSTAMP:20260422T165859
CREATED:20260128T204244Z
LAST-MODIFIED:20260128T210139Z
UID:10002508-1860865200-1860865200@thepresssteamboat.com
SUMMARY:Tuesday Night Free Trivia
DESCRIPTION:Tuesday Night Free Trivia with Steamboat Trivia starts at 7PM EVERY TUESDAY at the press in downtown Steamboat Springs\, Colorado. Come think\, drink\, and win fun prizes with friends!
URL:https://thepresssteamboat.com/musician/tuesday-free-trivia-2/2028-12-19/
LOCATION:The Press Steamboat\, 1009 Lincoln Ave\, Steamboat Springs\, CO\, 80487\, United States
CATEGORIES:Trivia
ATTACH;FMTTYPE=image/jpeg:https://thepresssteamboat.com/wp-content/uploads/2023/01/Trivia-Repeater-scaled-e1694716589766.jpeg
END:VEVENT
BEGIN:VEVENT
DTSTART;TZID=America/Denver:20281220T180000
DTEND;TZID=America/Denver:20281220T180000
DTSTAMP:20260422T165859
CREATED:20260128T205723Z
LAST-MODIFIED:20260128T211219Z
UID:10001899-1860948000-1860948000@thepresssteamboat.com
SUMMARY:Singo! Music Bingo
DESCRIPTION:Ready for a midweek pick-me-up? Join us at the press for Singo Music Bingo every Wednesday at 6 PM! Sip on your favorite drinks\, groove to classic tunes\, and enjoy a night of good vibes. Plus\, you might just walk away with some awesome prizes!
URL:https://thepresssteamboat.com/musician/singo-2/2028-12-20/
LOCATION:The Press Steamboat\, 1009 Lincoln Ave\, Steamboat Springs\, CO\, 80487\, United States
CATEGORIES:Trivia
ATTACH;FMTTYPE=image/png:https://thepresssteamboat.com/wp-content/uploads/2024/09/Singo-Event-Picture.png
END:VEVENT
BEGIN:VEVENT
DTSTART;TZID=America/Denver:20281226T190000
DTEND;TZID=America/Denver:20281226T190000
DTSTAMP:20260422T165859
CREATED:20260128T204244Z
LAST-MODIFIED:20260128T210139Z
UID:10002509-1861470000-1861470000@thepresssteamboat.com
SUMMARY:Tuesday Night Free Trivia
DESCRIPTION:Tuesday Night Free Trivia with Steamboat Trivia starts at 7PM EVERY TUESDAY at the press in downtown Steamboat Springs\, Colorado. Come think\, drink\, and win fun prizes with friends!
URL:https://thepresssteamboat.com/musician/tuesday-free-trivia-2/2028-12-26/
LOCATION:The Press Steamboat\, 1009 Lincoln Ave\, Steamboat Springs\, CO\, 80487\, United States
CATEGORIES:Trivia
ATTACH;FMTTYPE=image/jpeg:https://thepresssteamboat.com/wp-content/uploads/2023/01/Trivia-Repeater-scaled-e1694716589766.jpeg
END:VEVENT
BEGIN:VEVENT
DTSTART;TZID=America/Denver:20281227T180000
DTEND;TZID=America/Denver:20281227T180000
DTSTAMP:20260422T165859
CREATED:20260128T205723Z
LAST-MODIFIED:20260128T211219Z
UID:10001900-1861552800-1861552800@thepresssteamboat.com
SUMMARY:Singo! Music Bingo
DESCRIPTION:Ready for a midweek pick-me-up? Join us at the press for Singo Music Bingo every Wednesday at 6 PM! Sip on your favorite drinks\, groove to classic tunes\, and enjoy a night of good vibes. Plus\, you might just walk away with some awesome prizes!
URL:https://thepresssteamboat.com/musician/singo-2/2028-12-27/
LOCATION:The Press Steamboat\, 1009 Lincoln Ave\, Steamboat Springs\, CO\, 80487\, United States
CATEGORIES:Trivia
ATTACH;FMTTYPE=image/png:https://thepresssteamboat.com/wp-content/uploads/2024/09/Singo-Event-Picture.png
END:VEVENT
BEGIN:VEVENT
DTSTART;TZID=America/Denver:20290102T190000
DTEND;TZID=America/Denver:20290102T190000
DTSTAMP:20260422T165859
CREATED:20260128T204244Z
LAST-MODIFIED:20260128T210139Z
UID:10002510-1862074800-1862074800@thepresssteamboat.com
SUMMARY:Tuesday Night Free Trivia
DESCRIPTION:Tuesday Night Free Trivia with Steamboat Trivia starts at 7PM EVERY TUESDAY at the press in downtown Steamboat Springs\, Colorado. Come think\, drink\, and win fun prizes with friends!
URL:https://thepresssteamboat.com/musician/tuesday-free-trivia-2/2029-01-02/
LOCATION:The Press Steamboat\, 1009 Lincoln Ave\, Steamboat Springs\, CO\, 80487\, United States
CATEGORIES:Trivia
ATTACH;FMTTYPE=image/jpeg:https://thepresssteamboat.com/wp-content/uploads/2023/01/Trivia-Repeater-scaled-e1694716589766.jpeg
END:VEVENT
BEGIN:VEVENT
DTSTART;TZID=America/Denver:20290103T180000
DTEND;TZID=America/Denver:20290103T180000
DTSTAMP:20260422T165859
CREATED:20260128T205723Z
LAST-MODIFIED:20260128T211219Z
UID:10001901-1862157600-1862157600@thepresssteamboat.com
SUMMARY:Singo! Music Bingo
DESCRIPTION:Ready for a midweek pick-me-up? Join us at the press for Singo Music Bingo every Wednesday at 6 PM! Sip on your favorite drinks\, groove to classic tunes\, and enjoy a night of good vibes. Plus\, you might just walk away with some awesome prizes!
URL:https://thepresssteamboat.com/musician/singo-2/2029-01-03/
LOCATION:The Press Steamboat\, 1009 Lincoln Ave\, Steamboat Springs\, CO\, 80487\, United States
CATEGORIES:Trivia
ATTACH;FMTTYPE=image/png:https://thepresssteamboat.com/wp-content/uploads/2024/09/Singo-Event-Picture.png
END:VEVENT
BEGIN:VEVENT
DTSTART;TZID=America/Denver:20290109T190000
DTEND;TZID=America/Denver:20290109T190000
DTSTAMP:20260422T165859
CREATED:20260128T204244Z
LAST-MODIFIED:20260128T210139Z
UID:10002511-1862679600-1862679600@thepresssteamboat.com
SUMMARY:Tuesday Night Free Trivia
DESCRIPTION:Tuesday Night Free Trivia with Steamboat Trivia starts at 7PM EVERY TUESDAY at the press in downtown Steamboat Springs\, Colorado. Come think\, drink\, and win fun prizes with friends!
URL:https://thepresssteamboat.com/musician/tuesday-free-trivia-2/2029-01-09/
LOCATION:The Press Steamboat\, 1009 Lincoln Ave\, Steamboat Springs\, CO\, 80487\, United States
CATEGORIES:Trivia
ATTACH;FMTTYPE=image/jpeg:https://thepresssteamboat.com/wp-content/uploads/2023/01/Trivia-Repeater-scaled-e1694716589766.jpeg
END:VEVENT
END:VCALENDAR