BEGIN:VCALENDAR
VERSION:2.0
PRODID:-//the press. - ECPv6.15.20//NONSGML v1.0//EN
CALSCALE:GREGORIAN
METHOD:PUBLISH
X-WR-CALNAME:the press.
X-ORIGINAL-URL:https://thepresssteamboat.com
X-WR-CALDESC:Events for the press.
REFRESH-INTERVAL;VALUE=DURATION:PT1H
X-Robots-Tag:noindex
X-PUBLISHED-TTL:PT1H
BEGIN:VTIMEZONE
TZID:America/Denver
BEGIN:DAYLIGHT
TZOFFSETFROM:-0700
TZOFFSETTO:-0600
TZNAME:MDT
DTSTART:20270314T090000
END:DAYLIGHT
BEGIN:STANDARD
TZOFFSETFROM:-0600
TZOFFSETTO:-0700
TZNAME:MST
DTSTART:20271107T080000
END:STANDARD
BEGIN:DAYLIGHT
TZOFFSETFROM:-0700
TZOFFSETTO:-0600
TZNAME:MDT
DTSTART:20280312T090000
END:DAYLIGHT
BEGIN:STANDARD
TZOFFSETFROM:-0600
TZOFFSETTO:-0700
TZNAME:MST
DTSTART:20281105T080000
END:STANDARD
BEGIN:DAYLIGHT
TZOFFSETFROM:-0700
TZOFFSETTO:-0600
TZNAME:MDT
DTSTART:20290311T090000
END:DAYLIGHT
BEGIN:STANDARD
TZOFFSETFROM:-0600
TZOFFSETTO:-0700
TZNAME:MST
DTSTART:20291104T080000
END:STANDARD
END:VTIMEZONE
BEGIN:VEVENT
DTSTART;TZID=America/Denver:20280202T180000
DTEND;TZID=America/Denver:20280202T180000
DTSTAMP:20260422T161616
CREATED:20260128T205723Z
LAST-MODIFIED:20260128T211219Z
UID:10001853-1833127200-1833127200@thepresssteamboat.com
SUMMARY:Singo! Music Bingo
DESCRIPTION:Ready for a midweek pick-me-up? Join us at the press for Singo Music Bingo every Wednesday at 6 PM! Sip on your favorite drinks\, groove to classic tunes\, and enjoy a night of good vibes. Plus\, you might just walk away with some awesome prizes!
URL:https://thepresssteamboat.com/musician/singo-2/2028-02-02/
LOCATION:The Press Steamboat\, 1009 Lincoln Ave\, Steamboat Springs\, CO\, 80487\, United States
CATEGORIES:Trivia
ATTACH;FMTTYPE=image/png:https://thepresssteamboat.com/wp-content/uploads/2024/09/Singo-Event-Picture.png
END:VEVENT
BEGIN:VEVENT
DTSTART;TZID=America/Denver:20280208T190000
DTEND;TZID=America/Denver:20280208T190000
DTSTAMP:20260422T161616
CREATED:20260128T204244Z
LAST-MODIFIED:20260128T210139Z
UID:10002463-1833649200-1833649200@thepresssteamboat.com
SUMMARY:Tuesday Night Free Trivia
DESCRIPTION:Tuesday Night Free Trivia with Steamboat Trivia starts at 7PM EVERY TUESDAY at the press in downtown Steamboat Springs\, Colorado. Come think\, drink\, and win fun prizes with friends!
URL:https://thepresssteamboat.com/musician/tuesday-free-trivia-2/2028-02-08/
LOCATION:The Press Steamboat\, 1009 Lincoln Ave\, Steamboat Springs\, CO\, 80487\, United States
CATEGORIES:Trivia
ATTACH;FMTTYPE=image/jpeg:https://thepresssteamboat.com/wp-content/uploads/2023/01/Trivia-Repeater-scaled-e1694716589766.jpeg
END:VEVENT
BEGIN:VEVENT
DTSTART;TZID=America/Denver:20280209T180000
DTEND;TZID=America/Denver:20280209T180000
DTSTAMP:20260422T161616
CREATED:20260128T205723Z
LAST-MODIFIED:20260128T211219Z
UID:10001854-1833732000-1833732000@thepresssteamboat.com
SUMMARY:Singo! Music Bingo
DESCRIPTION:Ready for a midweek pick-me-up? Join us at the press for Singo Music Bingo every Wednesday at 6 PM! Sip on your favorite drinks\, groove to classic tunes\, and enjoy a night of good vibes. Plus\, you might just walk away with some awesome prizes!
URL:https://thepresssteamboat.com/musician/singo-2/2028-02-09/
LOCATION:The Press Steamboat\, 1009 Lincoln Ave\, Steamboat Springs\, CO\, 80487\, United States
CATEGORIES:Trivia
ATTACH;FMTTYPE=image/png:https://thepresssteamboat.com/wp-content/uploads/2024/09/Singo-Event-Picture.png
END:VEVENT
BEGIN:VEVENT
DTSTART;TZID=America/Denver:20280215T190000
DTEND;TZID=America/Denver:20280215T190000
DTSTAMP:20260422T161616
CREATED:20260128T204244Z
LAST-MODIFIED:20260128T210139Z
UID:10002464-1834254000-1834254000@thepresssteamboat.com
SUMMARY:Tuesday Night Free Trivia
DESCRIPTION:Tuesday Night Free Trivia with Steamboat Trivia starts at 7PM EVERY TUESDAY at the press in downtown Steamboat Springs\, Colorado. Come think\, drink\, and win fun prizes with friends!
URL:https://thepresssteamboat.com/musician/tuesday-free-trivia-2/2028-02-15/
LOCATION:The Press Steamboat\, 1009 Lincoln Ave\, Steamboat Springs\, CO\, 80487\, United States
CATEGORIES:Trivia
ATTACH;FMTTYPE=image/jpeg:https://thepresssteamboat.com/wp-content/uploads/2023/01/Trivia-Repeater-scaled-e1694716589766.jpeg
END:VEVENT
BEGIN:VEVENT
DTSTART;TZID=America/Denver:20280216T180000
DTEND;TZID=America/Denver:20280216T180000
DTSTAMP:20260422T161616
CREATED:20260128T205723Z
LAST-MODIFIED:20260128T211219Z
UID:10001855-1834336800-1834336800@thepresssteamboat.com
SUMMARY:Singo! Music Bingo
DESCRIPTION:Ready for a midweek pick-me-up? Join us at the press for Singo Music Bingo every Wednesday at 6 PM! Sip on your favorite drinks\, groove to classic tunes\, and enjoy a night of good vibes. Plus\, you might just walk away with some awesome prizes!
URL:https://thepresssteamboat.com/musician/singo-2/2028-02-16/
LOCATION:The Press Steamboat\, 1009 Lincoln Ave\, Steamboat Springs\, CO\, 80487\, United States
CATEGORIES:Trivia
ATTACH;FMTTYPE=image/png:https://thepresssteamboat.com/wp-content/uploads/2024/09/Singo-Event-Picture.png
END:VEVENT
BEGIN:VEVENT
DTSTART;TZID=America/Denver:20280222T190000
DTEND;TZID=America/Denver:20280222T190000
DTSTAMP:20260422T161616
CREATED:20260128T204244Z
LAST-MODIFIED:20260128T210139Z
UID:10002465-1834858800-1834858800@thepresssteamboat.com
SUMMARY:Tuesday Night Free Trivia
DESCRIPTION:Tuesday Night Free Trivia with Steamboat Trivia starts at 7PM EVERY TUESDAY at the press in downtown Steamboat Springs\, Colorado. Come think\, drink\, and win fun prizes with friends!
URL:https://thepresssteamboat.com/musician/tuesday-free-trivia-2/2028-02-22/
LOCATION:The Press Steamboat\, 1009 Lincoln Ave\, Steamboat Springs\, CO\, 80487\, United States
CATEGORIES:Trivia
ATTACH;FMTTYPE=image/jpeg:https://thepresssteamboat.com/wp-content/uploads/2023/01/Trivia-Repeater-scaled-e1694716589766.jpeg
END:VEVENT
BEGIN:VEVENT
DTSTART;TZID=America/Denver:20280223T180000
DTEND;TZID=America/Denver:20280223T180000
DTSTAMP:20260422T161616
CREATED:20260128T205723Z
LAST-MODIFIED:20260128T211219Z
UID:10001856-1834941600-1834941600@thepresssteamboat.com
SUMMARY:Singo! Music Bingo
DESCRIPTION:Ready for a midweek pick-me-up? Join us at the press for Singo Music Bingo every Wednesday at 6 PM! Sip on your favorite drinks\, groove to classic tunes\, and enjoy a night of good vibes. Plus\, you might just walk away with some awesome prizes!
URL:https://thepresssteamboat.com/musician/singo-2/2028-02-23/
LOCATION:The Press Steamboat\, 1009 Lincoln Ave\, Steamboat Springs\, CO\, 80487\, United States
CATEGORIES:Trivia
ATTACH;FMTTYPE=image/png:https://thepresssteamboat.com/wp-content/uploads/2024/09/Singo-Event-Picture.png
END:VEVENT
BEGIN:VEVENT
DTSTART;TZID=America/Denver:20280229T190000
DTEND;TZID=America/Denver:20280229T190000
DTSTAMP:20260422T161616
CREATED:20260128T204244Z
LAST-MODIFIED:20260128T210139Z
UID:10002466-1835463600-1835463600@thepresssteamboat.com
SUMMARY:Tuesday Night Free Trivia
DESCRIPTION:Tuesday Night Free Trivia with Steamboat Trivia starts at 7PM EVERY TUESDAY at the press in downtown Steamboat Springs\, Colorado. Come think\, drink\, and win fun prizes with friends!
URL:https://thepresssteamboat.com/musician/tuesday-free-trivia-2/2028-02-29/
LOCATION:The Press Steamboat\, 1009 Lincoln Ave\, Steamboat Springs\, CO\, 80487\, United States
CATEGORIES:Trivia
ATTACH;FMTTYPE=image/jpeg:https://thepresssteamboat.com/wp-content/uploads/2023/01/Trivia-Repeater-scaled-e1694716589766.jpeg
END:VEVENT
BEGIN:VEVENT
DTSTART;TZID=America/Denver:20280301T180000
DTEND;TZID=America/Denver:20280301T180000
DTSTAMP:20260422T161616
CREATED:20260128T205723Z
LAST-MODIFIED:20260128T211219Z
UID:10001857-1835546400-1835546400@thepresssteamboat.com
SUMMARY:Singo! Music Bingo
DESCRIPTION:Ready for a midweek pick-me-up? Join us at the press for Singo Music Bingo every Wednesday at 6 PM! Sip on your favorite drinks\, groove to classic tunes\, and enjoy a night of good vibes. Plus\, you might just walk away with some awesome prizes!
URL:https://thepresssteamboat.com/musician/singo-2/2028-03-01/
LOCATION:The Press Steamboat\, 1009 Lincoln Ave\, Steamboat Springs\, CO\, 80487\, United States
CATEGORIES:Trivia
ATTACH;FMTTYPE=image/png:https://thepresssteamboat.com/wp-content/uploads/2024/09/Singo-Event-Picture.png
END:VEVENT
BEGIN:VEVENT
DTSTART;TZID=America/Denver:20280307T190000
DTEND;TZID=America/Denver:20280307T190000
DTSTAMP:20260422T161616
CREATED:20260128T204244Z
LAST-MODIFIED:20260128T210139Z
UID:10002467-1836068400-1836068400@thepresssteamboat.com
SUMMARY:Tuesday Night Free Trivia
DESCRIPTION:Tuesday Night Free Trivia with Steamboat Trivia starts at 7PM EVERY TUESDAY at the press in downtown Steamboat Springs\, Colorado. Come think\, drink\, and win fun prizes with friends!
URL:https://thepresssteamboat.com/musician/tuesday-free-trivia-2/2028-03-07/
LOCATION:The Press Steamboat\, 1009 Lincoln Ave\, Steamboat Springs\, CO\, 80487\, United States
CATEGORIES:Trivia
ATTACH;FMTTYPE=image/jpeg:https://thepresssteamboat.com/wp-content/uploads/2023/01/Trivia-Repeater-scaled-e1694716589766.jpeg
END:VEVENT
BEGIN:VEVENT
DTSTART;TZID=America/Denver:20280308T180000
DTEND;TZID=America/Denver:20280308T180000
DTSTAMP:20260422T161616
CREATED:20260128T205723Z
LAST-MODIFIED:20260128T211219Z
UID:10001858-1836151200-1836151200@thepresssteamboat.com
SUMMARY:Singo! Music Bingo
DESCRIPTION:Ready for a midweek pick-me-up? Join us at the press for Singo Music Bingo every Wednesday at 6 PM! Sip on your favorite drinks\, groove to classic tunes\, and enjoy a night of good vibes. Plus\, you might just walk away with some awesome prizes!
URL:https://thepresssteamboat.com/musician/singo-2/2028-03-08/
LOCATION:The Press Steamboat\, 1009 Lincoln Ave\, Steamboat Springs\, CO\, 80487\, United States
CATEGORIES:Trivia
ATTACH;FMTTYPE=image/png:https://thepresssteamboat.com/wp-content/uploads/2024/09/Singo-Event-Picture.png
END:VEVENT
BEGIN:VEVENT
DTSTART;TZID=America/Denver:20280314T190000
DTEND;TZID=America/Denver:20280314T190000
DTSTAMP:20260422T161616
CREATED:20260128T204244Z
LAST-MODIFIED:20260128T210139Z
UID:10002468-1836673200-1836673200@thepresssteamboat.com
SUMMARY:Tuesday Night Free Trivia
DESCRIPTION:Tuesday Night Free Trivia with Steamboat Trivia starts at 7PM EVERY TUESDAY at the press in downtown Steamboat Springs\, Colorado. Come think\, drink\, and win fun prizes with friends!
URL:https://thepresssteamboat.com/musician/tuesday-free-trivia-2/2028-03-14/
LOCATION:The Press Steamboat\, 1009 Lincoln Ave\, Steamboat Springs\, CO\, 80487\, United States
CATEGORIES:Trivia
ATTACH;FMTTYPE=image/jpeg:https://thepresssteamboat.com/wp-content/uploads/2023/01/Trivia-Repeater-scaled-e1694716589766.jpeg
END:VEVENT
BEGIN:VEVENT
DTSTART;TZID=America/Denver:20280315T180000
DTEND;TZID=America/Denver:20280315T180000
DTSTAMP:20260422T161616
CREATED:20260128T205723Z
LAST-MODIFIED:20260128T211219Z
UID:10001859-1836756000-1836756000@thepresssteamboat.com
SUMMARY:Singo! Music Bingo
DESCRIPTION:Ready for a midweek pick-me-up? Join us at the press for Singo Music Bingo every Wednesday at 6 PM! Sip on your favorite drinks\, groove to classic tunes\, and enjoy a night of good vibes. Plus\, you might just walk away with some awesome prizes!
URL:https://thepresssteamboat.com/musician/singo-2/2028-03-15/
LOCATION:The Press Steamboat\, 1009 Lincoln Ave\, Steamboat Springs\, CO\, 80487\, United States
CATEGORIES:Trivia
ATTACH;FMTTYPE=image/png:https://thepresssteamboat.com/wp-content/uploads/2024/09/Singo-Event-Picture.png
END:VEVENT
BEGIN:VEVENT
DTSTART;TZID=America/Denver:20280321T190000
DTEND;TZID=America/Denver:20280321T190000
DTSTAMP:20260422T161616
CREATED:20260128T204244Z
LAST-MODIFIED:20260128T210139Z
UID:10002469-1837278000-1837278000@thepresssteamboat.com
SUMMARY:Tuesday Night Free Trivia
DESCRIPTION:Tuesday Night Free Trivia with Steamboat Trivia starts at 7PM EVERY TUESDAY at the press in downtown Steamboat Springs\, Colorado. Come think\, drink\, and win fun prizes with friends!
URL:https://thepresssteamboat.com/musician/tuesday-free-trivia-2/2028-03-21/
LOCATION:The Press Steamboat\, 1009 Lincoln Ave\, Steamboat Springs\, CO\, 80487\, United States
CATEGORIES:Trivia
ATTACH;FMTTYPE=image/jpeg:https://thepresssteamboat.com/wp-content/uploads/2023/01/Trivia-Repeater-scaled-e1694716589766.jpeg
END:VEVENT
BEGIN:VEVENT
DTSTART;TZID=America/Denver:20280322T180000
DTEND;TZID=America/Denver:20280322T180000
DTSTAMP:20260422T161616
CREATED:20260128T205723Z
LAST-MODIFIED:20260128T211219Z
UID:10001860-1837360800-1837360800@thepresssteamboat.com
SUMMARY:Singo! Music Bingo
DESCRIPTION:Ready for a midweek pick-me-up? Join us at the press for Singo Music Bingo every Wednesday at 6 PM! Sip on your favorite drinks\, groove to classic tunes\, and enjoy a night of good vibes. Plus\, you might just walk away with some awesome prizes!
URL:https://thepresssteamboat.com/musician/singo-2/2028-03-22/
LOCATION:The Press Steamboat\, 1009 Lincoln Ave\, Steamboat Springs\, CO\, 80487\, United States
CATEGORIES:Trivia
ATTACH;FMTTYPE=image/png:https://thepresssteamboat.com/wp-content/uploads/2024/09/Singo-Event-Picture.png
END:VEVENT
BEGIN:VEVENT
DTSTART;TZID=America/Denver:20280328T190000
DTEND;TZID=America/Denver:20280328T190000
DTSTAMP:20260422T161616
CREATED:20260128T204244Z
LAST-MODIFIED:20260128T210139Z
UID:10002470-1837882800-1837882800@thepresssteamboat.com
SUMMARY:Tuesday Night Free Trivia
DESCRIPTION:Tuesday Night Free Trivia with Steamboat Trivia starts at 7PM EVERY TUESDAY at the press in downtown Steamboat Springs\, Colorado. Come think\, drink\, and win fun prizes with friends!
URL:https://thepresssteamboat.com/musician/tuesday-free-trivia-2/2028-03-28/
LOCATION:The Press Steamboat\, 1009 Lincoln Ave\, Steamboat Springs\, CO\, 80487\, United States
CATEGORIES:Trivia
ATTACH;FMTTYPE=image/jpeg:https://thepresssteamboat.com/wp-content/uploads/2023/01/Trivia-Repeater-scaled-e1694716589766.jpeg
END:VEVENT
BEGIN:VEVENT
DTSTART;TZID=America/Denver:20280329T180000
DTEND;TZID=America/Denver:20280329T180000
DTSTAMP:20260422T161616
CREATED:20260128T205723Z
LAST-MODIFIED:20260128T211219Z
UID:10001861-1837965600-1837965600@thepresssteamboat.com
SUMMARY:Singo! Music Bingo
DESCRIPTION:Ready for a midweek pick-me-up? Join us at the press for Singo Music Bingo every Wednesday at 6 PM! Sip on your favorite drinks\, groove to classic tunes\, and enjoy a night of good vibes. Plus\, you might just walk away with some awesome prizes!
URL:https://thepresssteamboat.com/musician/singo-2/2028-03-29/
LOCATION:The Press Steamboat\, 1009 Lincoln Ave\, Steamboat Springs\, CO\, 80487\, United States
CATEGORIES:Trivia
ATTACH;FMTTYPE=image/png:https://thepresssteamboat.com/wp-content/uploads/2024/09/Singo-Event-Picture.png
END:VEVENT
BEGIN:VEVENT
DTSTART;TZID=America/Denver:20280404T190000
DTEND;TZID=America/Denver:20280404T190000
DTSTAMP:20260422T161616
CREATED:20260128T204244Z
LAST-MODIFIED:20260128T210139Z
UID:10002471-1838487600-1838487600@thepresssteamboat.com
SUMMARY:Tuesday Night Free Trivia
DESCRIPTION:Tuesday Night Free Trivia with Steamboat Trivia starts at 7PM EVERY TUESDAY at the press in downtown Steamboat Springs\, Colorado. Come think\, drink\, and win fun prizes with friends!
URL:https://thepresssteamboat.com/musician/tuesday-free-trivia-2/2028-04-04/
LOCATION:The Press Steamboat\, 1009 Lincoln Ave\, Steamboat Springs\, CO\, 80487\, United States
CATEGORIES:Trivia
ATTACH;FMTTYPE=image/jpeg:https://thepresssteamboat.com/wp-content/uploads/2023/01/Trivia-Repeater-scaled-e1694716589766.jpeg
END:VEVENT
BEGIN:VEVENT
DTSTART;TZID=America/Denver:20280405T180000
DTEND;TZID=America/Denver:20280405T180000
DTSTAMP:20260422T161616
CREATED:20260128T205723Z
LAST-MODIFIED:20260128T211219Z
UID:10001862-1838570400-1838570400@thepresssteamboat.com
SUMMARY:Singo! Music Bingo
DESCRIPTION:Ready for a midweek pick-me-up? Join us at the press for Singo Music Bingo every Wednesday at 6 PM! Sip on your favorite drinks\, groove to classic tunes\, and enjoy a night of good vibes. Plus\, you might just walk away with some awesome prizes!
URL:https://thepresssteamboat.com/musician/singo-2/2028-04-05/
LOCATION:The Press Steamboat\, 1009 Lincoln Ave\, Steamboat Springs\, CO\, 80487\, United States
CATEGORIES:Trivia
ATTACH;FMTTYPE=image/png:https://thepresssteamboat.com/wp-content/uploads/2024/09/Singo-Event-Picture.png
END:VEVENT
BEGIN:VEVENT
DTSTART;TZID=America/Denver:20280411T190000
DTEND;TZID=America/Denver:20280411T190000
DTSTAMP:20260422T161616
CREATED:20260128T204244Z
LAST-MODIFIED:20260128T210139Z
UID:10002472-1839092400-1839092400@thepresssteamboat.com
SUMMARY:Tuesday Night Free Trivia
DESCRIPTION:Tuesday Night Free Trivia with Steamboat Trivia starts at 7PM EVERY TUESDAY at the press in downtown Steamboat Springs\, Colorado. Come think\, drink\, and win fun prizes with friends!
URL:https://thepresssteamboat.com/musician/tuesday-free-trivia-2/2028-04-11/
LOCATION:The Press Steamboat\, 1009 Lincoln Ave\, Steamboat Springs\, CO\, 80487\, United States
CATEGORIES:Trivia
ATTACH;FMTTYPE=image/jpeg:https://thepresssteamboat.com/wp-content/uploads/2023/01/Trivia-Repeater-scaled-e1694716589766.jpeg
END:VEVENT
BEGIN:VEVENT
DTSTART;TZID=America/Denver:20280412T180000
DTEND;TZID=America/Denver:20280412T180000
DTSTAMP:20260422T161616
CREATED:20260128T205723Z
LAST-MODIFIED:20260128T211219Z
UID:10001863-1839175200-1839175200@thepresssteamboat.com
SUMMARY:Singo! Music Bingo
DESCRIPTION:Ready for a midweek pick-me-up? Join us at the press for Singo Music Bingo every Wednesday at 6 PM! Sip on your favorite drinks\, groove to classic tunes\, and enjoy a night of good vibes. Plus\, you might just walk away with some awesome prizes!
URL:https://thepresssteamboat.com/musician/singo-2/2028-04-12/
LOCATION:The Press Steamboat\, 1009 Lincoln Ave\, Steamboat Springs\, CO\, 80487\, United States
CATEGORIES:Trivia
ATTACH;FMTTYPE=image/png:https://thepresssteamboat.com/wp-content/uploads/2024/09/Singo-Event-Picture.png
END:VEVENT
BEGIN:VEVENT
DTSTART;TZID=America/Denver:20280418T190000
DTEND;TZID=America/Denver:20280418T190000
DTSTAMP:20260422T161616
CREATED:20260128T204244Z
LAST-MODIFIED:20260128T210139Z
UID:10002473-1839697200-1839697200@thepresssteamboat.com
SUMMARY:Tuesday Night Free Trivia
DESCRIPTION:Tuesday Night Free Trivia with Steamboat Trivia starts at 7PM EVERY TUESDAY at the press in downtown Steamboat Springs\, Colorado. Come think\, drink\, and win fun prizes with friends!
URL:https://thepresssteamboat.com/musician/tuesday-free-trivia-2/2028-04-18/
LOCATION:The Press Steamboat\, 1009 Lincoln Ave\, Steamboat Springs\, CO\, 80487\, United States
CATEGORIES:Trivia
ATTACH;FMTTYPE=image/jpeg:https://thepresssteamboat.com/wp-content/uploads/2023/01/Trivia-Repeater-scaled-e1694716589766.jpeg
END:VEVENT
BEGIN:VEVENT
DTSTART;TZID=America/Denver:20280419T180000
DTEND;TZID=America/Denver:20280419T180000
DTSTAMP:20260422T161616
CREATED:20260128T205723Z
LAST-MODIFIED:20260128T211219Z
UID:10001864-1839780000-1839780000@thepresssteamboat.com
SUMMARY:Singo! Music Bingo
DESCRIPTION:Ready for a midweek pick-me-up? Join us at the press for Singo Music Bingo every Wednesday at 6 PM! Sip on your favorite drinks\, groove to classic tunes\, and enjoy a night of good vibes. Plus\, you might just walk away with some awesome prizes!
URL:https://thepresssteamboat.com/musician/singo-2/2028-04-19/
LOCATION:The Press Steamboat\, 1009 Lincoln Ave\, Steamboat Springs\, CO\, 80487\, United States
CATEGORIES:Trivia
ATTACH;FMTTYPE=image/png:https://thepresssteamboat.com/wp-content/uploads/2024/09/Singo-Event-Picture.png
END:VEVENT
BEGIN:VEVENT
DTSTART;TZID=America/Denver:20280425T190000
DTEND;TZID=America/Denver:20280425T190000
DTSTAMP:20260422T161616
CREATED:20260128T204244Z
LAST-MODIFIED:20260128T210139Z
UID:10002474-1840302000-1840302000@thepresssteamboat.com
SUMMARY:Tuesday Night Free Trivia
DESCRIPTION:Tuesday Night Free Trivia with Steamboat Trivia starts at 7PM EVERY TUESDAY at the press in downtown Steamboat Springs\, Colorado. Come think\, drink\, and win fun prizes with friends!
URL:https://thepresssteamboat.com/musician/tuesday-free-trivia-2/2028-04-25/
LOCATION:The Press Steamboat\, 1009 Lincoln Ave\, Steamboat Springs\, CO\, 80487\, United States
CATEGORIES:Trivia
ATTACH;FMTTYPE=image/jpeg:https://thepresssteamboat.com/wp-content/uploads/2023/01/Trivia-Repeater-scaled-e1694716589766.jpeg
END:VEVENT
BEGIN:VEVENT
DTSTART;TZID=America/Denver:20280426T180000
DTEND;TZID=America/Denver:20280426T180000
DTSTAMP:20260422T161616
CREATED:20260128T205723Z
LAST-MODIFIED:20260128T211219Z
UID:10001865-1840384800-1840384800@thepresssteamboat.com
SUMMARY:Singo! Music Bingo
DESCRIPTION:Ready for a midweek pick-me-up? Join us at the press for Singo Music Bingo every Wednesday at 6 PM! Sip on your favorite drinks\, groove to classic tunes\, and enjoy a night of good vibes. Plus\, you might just walk away with some awesome prizes!
URL:https://thepresssteamboat.com/musician/singo-2/2028-04-26/
LOCATION:The Press Steamboat\, 1009 Lincoln Ave\, Steamboat Springs\, CO\, 80487\, United States
CATEGORIES:Trivia
ATTACH;FMTTYPE=image/png:https://thepresssteamboat.com/wp-content/uploads/2024/09/Singo-Event-Picture.png
END:VEVENT
BEGIN:VEVENT
DTSTART;TZID=America/Denver:20280502T190000
DTEND;TZID=America/Denver:20280502T190000
DTSTAMP:20260422T161616
CREATED:20260128T204244Z
LAST-MODIFIED:20260128T210139Z
UID:10002475-1840906800-1840906800@thepresssteamboat.com
SUMMARY:Tuesday Night Free Trivia
DESCRIPTION:Tuesday Night Free Trivia with Steamboat Trivia starts at 7PM EVERY TUESDAY at the press in downtown Steamboat Springs\, Colorado. Come think\, drink\, and win fun prizes with friends!
URL:https://thepresssteamboat.com/musician/tuesday-free-trivia-2/2028-05-02/
LOCATION:The Press Steamboat\, 1009 Lincoln Ave\, Steamboat Springs\, CO\, 80487\, United States
CATEGORIES:Trivia
ATTACH;FMTTYPE=image/jpeg:https://thepresssteamboat.com/wp-content/uploads/2023/01/Trivia-Repeater-scaled-e1694716589766.jpeg
END:VEVENT
BEGIN:VEVENT
DTSTART;TZID=America/Denver:20280503T180000
DTEND;TZID=America/Denver:20280503T180000
DTSTAMP:20260422T161616
CREATED:20260128T205723Z
LAST-MODIFIED:20260128T211219Z
UID:10001866-1840989600-1840989600@thepresssteamboat.com
SUMMARY:Singo! Music Bingo
DESCRIPTION:Ready for a midweek pick-me-up? Join us at the press for Singo Music Bingo every Wednesday at 6 PM! Sip on your favorite drinks\, groove to classic tunes\, and enjoy a night of good vibes. Plus\, you might just walk away with some awesome prizes!
URL:https://thepresssteamboat.com/musician/singo-2/2028-05-03/
LOCATION:The Press Steamboat\, 1009 Lincoln Ave\, Steamboat Springs\, CO\, 80487\, United States
CATEGORIES:Trivia
ATTACH;FMTTYPE=image/png:https://thepresssteamboat.com/wp-content/uploads/2024/09/Singo-Event-Picture.png
END:VEVENT
BEGIN:VEVENT
DTSTART;TZID=America/Denver:20280509T190000
DTEND;TZID=America/Denver:20280509T190000
DTSTAMP:20260422T161616
CREATED:20260128T204244Z
LAST-MODIFIED:20260128T210139Z
UID:10002476-1841511600-1841511600@thepresssteamboat.com
SUMMARY:Tuesday Night Free Trivia
DESCRIPTION:Tuesday Night Free Trivia with Steamboat Trivia starts at 7PM EVERY TUESDAY at the press in downtown Steamboat Springs\, Colorado. Come think\, drink\, and win fun prizes with friends!
URL:https://thepresssteamboat.com/musician/tuesday-free-trivia-2/2028-05-09/
LOCATION:The Press Steamboat\, 1009 Lincoln Ave\, Steamboat Springs\, CO\, 80487\, United States
CATEGORIES:Trivia
ATTACH;FMTTYPE=image/jpeg:https://thepresssteamboat.com/wp-content/uploads/2023/01/Trivia-Repeater-scaled-e1694716589766.jpeg
END:VEVENT
BEGIN:VEVENT
DTSTART;TZID=America/Denver:20280510T180000
DTEND;TZID=America/Denver:20280510T180000
DTSTAMP:20260422T161616
CREATED:20260128T205723Z
LAST-MODIFIED:20260128T211219Z
UID:10001867-1841594400-1841594400@thepresssteamboat.com
SUMMARY:Singo! Music Bingo
DESCRIPTION:Ready for a midweek pick-me-up? Join us at the press for Singo Music Bingo every Wednesday at 6 PM! Sip on your favorite drinks\, groove to classic tunes\, and enjoy a night of good vibes. Plus\, you might just walk away with some awesome prizes!
URL:https://thepresssteamboat.com/musician/singo-2/2028-05-10/
LOCATION:The Press Steamboat\, 1009 Lincoln Ave\, Steamboat Springs\, CO\, 80487\, United States
CATEGORIES:Trivia
ATTACH;FMTTYPE=image/png:https://thepresssteamboat.com/wp-content/uploads/2024/09/Singo-Event-Picture.png
END:VEVENT
BEGIN:VEVENT
DTSTART;TZID=America/Denver:20280516T190000
DTEND;TZID=America/Denver:20280516T190000
DTSTAMP:20260422T161616
CREATED:20260128T204244Z
LAST-MODIFIED:20260128T210139Z
UID:10002477-1842116400-1842116400@thepresssteamboat.com
SUMMARY:Tuesday Night Free Trivia
DESCRIPTION:Tuesday Night Free Trivia with Steamboat Trivia starts at 7PM EVERY TUESDAY at the press in downtown Steamboat Springs\, Colorado. Come think\, drink\, and win fun prizes with friends!
URL:https://thepresssteamboat.com/musician/tuesday-free-trivia-2/2028-05-16/
LOCATION:The Press Steamboat\, 1009 Lincoln Ave\, Steamboat Springs\, CO\, 80487\, United States
CATEGORIES:Trivia
ATTACH;FMTTYPE=image/jpeg:https://thepresssteamboat.com/wp-content/uploads/2023/01/Trivia-Repeater-scaled-e1694716589766.jpeg
END:VEVENT
END:VCALENDAR