BEGIN:VCALENDAR
VERSION:2.0
PRODID:-//the press. - ECPv6.15.20//NONSGML v1.0//EN
CALSCALE:GREGORIAN
METHOD:PUBLISH
X-ORIGINAL-URL:https://thepresssteamboat.com
X-WR-CALDESC:Events for the press.
REFRESH-INTERVAL;VALUE=DURATION:PT1H
X-Robots-Tag:noindex
X-PUBLISHED-TTL:PT1H
BEGIN:VTIMEZONE
TZID:America/Denver
BEGIN:DAYLIGHT
TZOFFSETFROM:-0700
TZOFFSETTO:-0600
TZNAME:MDT
DTSTART:20220313T090000
END:DAYLIGHT
BEGIN:STANDARD
TZOFFSETFROM:-0600
TZOFFSETTO:-0700
TZNAME:MST
DTSTART:20221106T080000
END:STANDARD
BEGIN:DAYLIGHT
TZOFFSETFROM:-0700
TZOFFSETTO:-0600
TZNAME:MDT
DTSTART:20230312T090000
END:DAYLIGHT
BEGIN:STANDARD
TZOFFSETFROM:-0600
TZOFFSETTO:-0700
TZNAME:MST
DTSTART:20231105T080000
END:STANDARD
BEGIN:DAYLIGHT
TZOFFSETFROM:-0700
TZOFFSETTO:-0600
TZNAME:MDT
DTSTART:20240310T090000
END:DAYLIGHT
BEGIN:STANDARD
TZOFFSETFROM:-0600
TZOFFSETTO:-0700
TZNAME:MST
DTSTART:20241103T080000
END:STANDARD
BEGIN:DAYLIGHT
TZOFFSETFROM:-0700
TZOFFSETTO:-0600
TZNAME:MDT
DTSTART:20250309T090000
END:DAYLIGHT
BEGIN:STANDARD
TZOFFSETFROM:-0600
TZOFFSETTO:-0700
TZNAME:MST
DTSTART:20251102T080000
END:STANDARD
BEGIN:DAYLIGHT
TZOFFSETFROM:-0700
TZOFFSETTO:-0600
TZNAME:MDT
DTSTART:20260308T090000
END:DAYLIGHT
BEGIN:STANDARD
TZOFFSETFROM:-0600
TZOFFSETTO:-0700
TZNAME:MST
DTSTART:20261101T080000
END:STANDARD
END:VTIMEZONE
BEGIN:VEVENT
DTSTART;TZID=America/Denver:20250521T200000
DTEND;TZID=America/Denver:20250521T200000
DTSTAMP:20260421T090909
CREATED:20250519T034247Z
LAST-MODIFIED:20250519T034247Z
UID:10002109-1747857600-1747857600@thepresssteamboat.com
SUMMARY:Steamboat Comedy's Mud Season Special
DESCRIPTION:Steamboat Comedy’s Mud Season Special at The Press! \nCome join us for a night of laughter at The Press! It’s our Mud Season Special event hosted by Steamboat Comedy\, Featuring Speical Guest Headliner Rio Hillman! Born in Chicago raised in WI\, Rio Hillman arrived on the comedy scene over a decade ago. With his Midwestern charm & like ability he brings the audience into his world punchline by punchline. He believes that subtlety and timing are key principals to building a crowd up to the punch line. To him\, it’s nothing new to find humor throughout the stress of everyday life. His comedy has been seen through the Midwest as well as up and down the West Coast.
URL:https://thepresssteamboat.com/musician/steamboat-comedys-mud-season-special/
LOCATION:The Press Steamboat\, 1009 Lincoln Ave\, Steamboat Springs\, CO\, 80487\, United States
CATEGORIES:Comedy,live music
ATTACH;FMTTYPE=image/jpeg:https://thepresssteamboat.com/wp-content/uploads/2025/05/Steamboat-Comedy-Show.jpg
END:VEVENT
BEGIN:VEVENT
DTSTART;TZID=America/Denver:20241231T190000
DTEND;TZID=America/Denver:20241231T190000
DTSTAMP:20260421T090909
CREATED:20241230T183137Z
LAST-MODIFIED:20241230T184729Z
UID:10001665-1735671600-1735671600@thepresssteamboat.com
SUMMARY:New Year's Eve Party with Constant Change and Steamboat Comedy
DESCRIPTION:We are ringing in the new year with LAUGHING\, DANCING\, SINGING\, and PARTYING at the press! \nDoors open at 7PM. $20 per show or $30 for both. \n  \n8PM Comedy Show with Steamboat Comedy Featuring Steve Vanderploeg\n\n\nSteve Vanderploeg\, from Morrison\, Colorado\, is a standout in the Denver Comedy Scene\, known for sharp punchlines and quirky delivery. A regular headliner at Denver’s Comedy Works\, he tours nationally and has performed at over 30 festivals\, including High Plains\, Limestone\, and SF Sketchfest. He’s also the creator of Rotating Tap Comedy\, an award-winning beer-themed comedy series. \n10PM Live Performance from Constant Change\n  \nMIDNIGHT Champagne Toast
URL:https://thepresssteamboat.com/musician/nye-party/
LOCATION:The Press Steamboat\, 1009 Lincoln Ave\, Steamboat Springs\, CO\, 80487\, United States
CATEGORIES:Comedy,live music
ATTACH;FMTTYPE=image/png:https://thepresssteamboat.com/wp-content/uploads/2024/12/nye-@-the-press.png
END:VEVENT
BEGIN:VEVENT
DTSTART;TZID=America/Denver:20231231T200000
DTEND;TZID=America/Denver:20231231T200000
DTSTAMP:20260421T090909
CREATED:20231214T182804Z
LAST-MODIFIED:20231214T191406Z
UID:10001365-1704052800-1704052800@thepresssteamboat.com
SUMMARY:New Year's Eve Party with JR Adams Band and Steamboat Comedy
DESCRIPTION:We are ringing in the new year with LAUGHING\, DANCING\, SINGING\, and PARTYING at the press! \nDoors open at 7PM. $20 per show or $30 for both. \n  \n8PM Comedy Show with Steamboat Comedy Featuring Eeland Stribling\n  \n\n\nEeland Stribling is your aunty’s favorite stand-up comedian. Eeland is a regular at The Comedy Fort\, Comedy Works and Denver Improv. He recently won the 2023 New Faces competition at Comedy Works! He also regularly tours in Boston\, Chicago\, LA\, Austin and venues across the country. He has traveled across the world teaching about fly fishing and telling jokes everywhere he can. He has performed at High Plains Comedy Festival\, Limestone Comedy Festival\, 10k Laughs\, and many more festivals. Nick-named “Black Steve Irwin\,” he is not only a comic; he is a wildlife biologist and educator. Telling jokes and teaching about wildlife are what he does. Eeland combined his passions for comedy and conservation in a series he created called\, Comedians on the Fly. He’s rarely in a great mood and he can’t wait to tell you about why\, but he promises you’ll have an opinion. \n10PM Live Performance from the JR Adams Band\n  \nMIDNIGHT Champagne Toast
URL:https://thepresssteamboat.com/musician/nye-2024/
LOCATION:The Press Steamboat\, 1009 Lincoln Ave\, Steamboat Springs\, CO\, 80487\, United States
CATEGORIES:Comedy,live music
ATTACH;FMTTYPE=image/jpeg:https://thepresssteamboat.com/wp-content/uploads/2023/12/Copy-of-New-Years-Eve-2023-scaled-e1702578451413.jpg
END:VEVENT
BEGIN:VEVENT
DTSTART;TZID=America/Denver:20230627T210000
DTEND;TZID=America/Denver:20230627T220000
DTSTAMP:20260421T090909
CREATED:20230622T220248Z
LAST-MODIFIED:20230622T220328Z
UID:10000823-1687899600-1687903200@thepresssteamboat.com
SUMMARY:Steamboat Comedy Open Mic
DESCRIPTION:Come listen to some new jokes or try out your own! Get on stage and get a free beer!
URL:https://thepresssteamboat.com/musician/steamboat-comedy-open-mic-2/
LOCATION:CO
CATEGORIES:Comedy
ATTACH;FMTTYPE=image/jpeg:https://thepresssteamboat.com/wp-content/uploads/2022/12/Free-Every-Tuesday-Night.jpg
END:VEVENT
BEGIN:VEVENT
DTSTART;TZID=America/Denver:20230613T210000
DTEND;TZID=America/Denver:20230613T210000
DTSTAMP:20260421T090909
CREATED:20230613T175016Z
LAST-MODIFIED:20230613T175016Z
UID:10000767-1686690000-1686690000@thepresssteamboat.com
SUMMARY:Steamboat Comedy Open Mic
DESCRIPTION:Open Mic Stand-up Comedy at The Press! It’s free to watch or sign up\, and performers get a free drink. Every Tuesday Night after Steamboat Trivia\, starting at 9pm
URL:https://thepresssteamboat.com/musician/steamboat-comedy-open-mic/
LOCATION:The Press Steamboat\, 1009 Lincoln Ave\, Steamboat Springs\, CO\, 80487\, United States
CATEGORIES:Comedy
ATTACH;FMTTYPE=image/jpeg:https://thepresssteamboat.com/wp-content/uploads/2022/12/Free-Every-Tuesday-Night.jpg
END:VEVENT
END:VCALENDAR